BEGIN:VCALENDAR
VERSION:2.0
PRODID:-//Suomen Voimanostoliitto ry - ECPv6.9.0//NONSGML v1.0//EN
CALSCALE:GREGORIAN
METHOD:PUBLISH
X-ORIGINAL-URL:https://www.suomenvoimanostoliitto.fi
X-WR-CALDESC:Events for Suomen Voimanostoliitto ry
REFRESH-INTERVAL;VALUE=DURATION:PT1H
X-Robots-Tag:noindex
X-PUBLISHED-TTL:PT1H
BEGIN:VTIMEZONE
TZID:Europe/Helsinki
BEGIN:DAYLIGHT
TZOFFSETFROM:+0200
TZOFFSETTO:+0300
TZNAME:EEST
DTSTART:20250330T010000
END:DAYLIGHT
BEGIN:STANDARD
TZOFFSETFROM:+0300
TZOFFSETTO:+0200
TZNAME:EET
DTSTART:20251026T010000
END:STANDARD
END:VTIMEZONE
BEGIN:VEVENT
DTSTART;TZID=Europe/Helsinki:20250712T080000
DTEND;TZID=Europe/Helsinki:20250712T170000
DTSTAMP:20260419T184604
CREATED:20250122T113413Z
LAST-MODIFIED:20250707T171704Z
UID:19957-1752307200-1752339600@www.suomenvoimanostoliitto.fi
SUMMARY:XVIII RANTAPENKKARIT- kansallinen penkkipunnerruskilpailu (SoVi)
DESCRIPTION:Kilpailujen järjestäjä: Sotkamon Visa ry \nKilpailupäivä: 2025-07-12 \nKilpailun tyyppi: Kansallinen \nMikä kilpailu on kyseessä: Penkkipunnerrus \nKilpailupaikka osoitteineen: Hiukka Beach\, Tervatie 1\, 88600 Sotkamo \nPunnitusaikataulu: ryhmät 1-4: 8:00 – 9:30\, ryhmät 5-8: 11:30 – 13:00 \nKilpailujen alkamisaika: ryhmät 1-4: 10:00\, ryhmät 5-8: 13:30 \nSarjat ja ikäluokat: Kaikki sarjat ja ikäluokat \nOsanottomaksu: 40 € yhdestä nostomuodosta\, 70 € jos osallistuu molempiin nostomuotoihin (klassinen & varuste) \nOsanottomaksu etukäteen Visan tilille FI12 5436 0940 0035 13\, viestiksi oma nimi / Rantapenkkarit \nOsanottomäärä: Ei rajattu \nMilloin ilmoittauduttava: 6.7.2025 mennessä Kenelle ilmoittauduttava: info@sotkamonvisa.fi \nMuut huomiot: XVIII RANTAPENKKARIT \n\nluokan tuomarit. Järjestäjä pidättää oikeuden aikataulumuutoksiin. Seuraa tiedotusta: www.sotkamonvisa.fi sekä tapahtumasivu Visan Facebookissa.\n\nKilpailuun osallistuvan nostajan on ilmoittautumisen yhteydessä ilmoitettava nostaako klassisessa\, varuste- vai molemmissa nostomuodoissa. Kilpailija voi osallistua vain yhden ikäluokan kisaan/nostomuoto. ILMOITA IKÄ-JA PAINOLUOKKA\, NIMI\, SYNTYMÄVUOSI JA SEURA (toistovoimassa seura tai kotipaikka). \nPalkitseminen: Kaikki palkitaan. \nKolme parasta klassisen nostajaa (IPF GL-pisteet) palkitaan pokaalein seuraavissa luokissa: Naiset\, naiset alle 23v\, naiset yli 40v\, miehet\, miehet alle 23v\, miehet 40-49v\, miehet yli 50v. \nKolme parasta varustesarjojen nostajaa (IPF GL-pisteet) palkitaan pokaalein seuraavissa luokissa: miehet ja naiset. \nTapahtumaan sisältyy myös toistovoimapunnerrus\, kilpailukutsu julkaistaan osoitteessa https://suomenvoimapunnerrus.fi/ Joukkuekilpailun pisteitä kertyy tuttuun tapaan jokaisesta palkintoluokasta! \nLisätietoja: info@sotkamonvisa.fi
URL:https://www.suomenvoimanostoliitto.fi/tapahtuma/xviii-rantapenkkarit-kansallinen-penkkipunnerruskilpailu-sovi/
LOCATION:Hiukka Beach\, Tervatie 1\, Sotkamo\, 88600\, Suomi
CATEGORIES:Kansallinen kilpailu
ORGANIZER;CN="Sotkamon Visa ry":MAILTO:villenisk@gmail.com
END:VEVENT
BEGIN:VEVENT
DTSTART;VALUE=DATE:20250716
DTEND;VALUE=DATE:20250721
DTSTAMP:20260419T184604
CREATED:20250424T110843Z
LAST-MODIFIED:20250625T072732Z
UID:21452-1752624000-1753055999@www.suomenvoimanostoliitto.fi
SUMMARY:Klassisen voimanoston maailman yliopisto-cup\, Istanbul\, Turkki
DESCRIPTION:Kilpailun tiedot IPF:n sivuilla \nIlmoittautuneet: Miehet  |  Naiset \nSuomesta ei lähde kisoihin nostajia.
URL:https://www.suomenvoimanostoliitto.fi/tapahtuma/klassisen-voimanoston-maailman-yliopisto-cup-istanbul-turkki/
CATEGORIES:MM-kilpailu
END:VEVENT
BEGIN:VEVENT
DTSTART;TZID=Europe/Helsinki:20250719T090000
DTEND;TZID=Europe/Helsinki:20250719T170000
DTSTAMP:20260419T184604
CREATED:20250331T062539Z
LAST-MODIFIED:20250331T062944Z
UID:21107-1752915600-1752944400@www.suomenvoimanostoliitto.fi
SUMMARY:Kansallinen voimanosto (KaVo)
DESCRIPTION:Kilpailujen järjestäjä: Kankaanpään Voimailijat \nKilpailupäivä: 2025-07-19 \nKilpailun tyyppi: Kansallinen \nMikä kilpailu on kyseessä: Voimanosto \nKilpailupaikka osoitteineen: Rautatienkatu 3\, Kankaanpää \nPunnitusaikataulu: 9.00 \nKilpailujen alkamisaika: 11.00 \nSarjat ja ikäluokat: Kaikki sarjat ja ikäluokat \n1. luokan tuomarit: Ei \nOsanottomaksu: 40 € \nOsanottomäärä: 28 \nMilloin ilmoittauduttava: 13.7.2025 \nKenelle ilmoittauduttava: Janne Marttila\, kankaanpaan.voimailijat@gmail.com \nMuut huomiot: Maksa osallistumismaksu 13.7.2025 mennessä tilille FI48 4473 2020 0032 38 \nLisätietoja: Janne Marttila\, 0445781300\, kankaanpaan.voimailijat@gmail.com
URL:https://www.suomenvoimanostoliitto.fi/tapahtuma/kansallinen-voimanosto-kavo/
LOCATION:rautatienkatu 3\, Rautatienkatu 3\, Kankaanpää\, Suomi
CATEGORIES:Kansallinen kilpailu
ORGANIZER;CN="Kankaanp%C3%A4%C3%A4n Voimailijat ry":MAILTO:kankaanpaan.voimailijat@gmail.com
END:VEVENT
BEGIN:VEVENT
DTSTART;TZID=Europe/Helsinki:20250720T080000
DTEND;TZID=Europe/Helsinki:20250720T170000
DTSTAMP:20260419T184604
CREATED:20250428T044142Z
LAST-MODIFIED:20250428T044142Z
UID:21570-1752998400-1753030800@www.suomenvoimanostoliitto.fi
SUMMARY:Kansallinen voimanostokilpailu (PV)
DESCRIPTION:Kilpailujen järjestäjä: Pietarsaaren Voimailijat \nKilpailupäivä: 2025-07-20 \nKilpailun tyyppi: Kansallinen \nMikä kilpailu on kyseessä: Voimanosto \nKilpailupaikka osoitteineen: Jeppis Gym Koulukatu 25\, 68600 Pietarsaari \nPunnitusaikataulu: 8.00-9.30 \nKilpailujen alkamisaika: 10 \nSarjat ja ikäluokat: kaikki sarjat \n\nluokan tuomarit: Kyllä\n\nOsanottomaksu: 35€  maksetaan tilille  FI08 5567 0720 1183 42 \nOsanottomäärä: Ei rajattu. \nMilloin ilmoittauduttava: 9.7 mennessä \nKenelle ilmoittauduttava: Juhani Salo 045-6952959  tekstiviesti / whatsapp \nMuut huomiot: \nLisätietoja: salojuh@hotmail.com
URL:https://www.suomenvoimanostoliitto.fi/tapahtuma/kansallinen-voimanostokilpailu-pv-3/
LOCATION:Jeppis Gym\, Koulukatu 25\, Pietarsaari\, 68600\, Suomi
CATEGORIES:Kansallinen kilpailu
ORGANIZER;CN="Pietarsaaren Voimailijat":MAILTO:salojuh@hotmail.com
END:VEVENT
BEGIN:VEVENT
DTSTART;TZID=Europe/Helsinki:20250726T130000
DTEND;TZID=Europe/Helsinki:20250726T190000
DTSTAMP:20260419T184604
CREATED:20250506T045247Z
LAST-MODIFIED:20250506T045247Z
UID:21695-1753534800-1753556400@www.suomenvoimanostoliitto.fi
SUMMARY:Karjalan Mestari 2025- voimanoston kutsukilpailu
DESCRIPTION:Kilpailujen järjestäjä: Idän Voimailijat ry \nKilpailupäivä: 2025-07-26 \nKilpailun tyyppi: Kansallinen \nMikä kilpailu on kyseessä: Voimanosto \nKilpailupaikka osoitteineen: Loimua Areena\, Härkätie 17 B Hämeenlinna \nPunnitusaikataulu: klo 13.00-14.30 \nKilpailujen alkamisaika: klo 15.00 \nSarjat ja ikäluokat: kaikki sarjat ja ikäluokat \n1. luokan tuomarit: Kyllä \nOsanottomaksu: ei osanottomaksua \nOsanottomäärä: 18 \nMilloin ilmoittauduttava: kutsukisa \nKenelle ilmoittauduttava: kutsukisa \nMuut huomiot: Klassisen voimanoston kutsukisa\, jossa naisten ja miesten sarjan kolme parasta nostajaa palkitaan rahapalkinnoin. \nKisaan kutsutut nostajat on valittu ja he ovat saaneet kisakutsun. \nYleisölle vapaa pääsy. \nLisätietoja: idanvoimailijat@gmail.com
URL:https://www.suomenvoimanostoliitto.fi/tapahtuma/karjalan-mestari-2025-voimanoston-kutsukilpailu/
LOCATION:Loimua Areena\, Härkätie 17 B\, Hämeenlinna\, Finland
CATEGORIES:Kansallinen kilpailu
END:VEVENT
END:VCALENDAR