BEGIN:VCALENDAR
VERSION:2.0
PRODID:-//Suomen Voimanostoliitto ry - ECPv6.9.0//NONSGML v1.0//EN
CALSCALE:GREGORIAN
METHOD:PUBLISH
X-ORIGINAL-URL:https://www.suomenvoimanostoliitto.fi
X-WR-CALDESC:Events for Suomen Voimanostoliitto ry
REFRESH-INTERVAL;VALUE=DURATION:PT1H
X-Robots-Tag:noindex
X-PUBLISHED-TTL:PT1H
BEGIN:VTIMEZONE
TZID:Europe/Helsinki
BEGIN:DAYLIGHT
TZOFFSETFROM:+0200
TZOFFSETTO:+0300
TZNAME:EEST
DTSTART:20250330T010000
END:DAYLIGHT
BEGIN:STANDARD
TZOFFSETFROM:+0300
TZOFFSETTO:+0200
TZNAME:EET
DTSTART:20251026T010000
END:STANDARD
END:VTIMEZONE
BEGIN:VEVENT
DTSTART;TZID=Europe/Helsinki:20250131T080000
DTEND;TZID=Europe/Helsinki:20250202T170000
DTSTAMP:20260420T181625
CREATED:20240705T065528Z
LAST-MODIFIED:20250120T114953Z
UID:17701-1738310400-1738515600@www.suomenvoimanostoliitto.fi
SUMMARY:Klassisen voimanoston nuorten SM-kilpailut 31.1. - 2.2.2025\, Tammisaari\, KK Eken
DESCRIPTION:KK Eken ry sekä Suomen Voimanostoliitto ry järjestävät \nNUORTEN KLASSISEN VOIMANOSTON SM-KILPAILUT 31.1.-2.2.2025 \nKilpailupaikka: Tammisaaren Palloiluhalli\, Fleminginkatu 19\, 10600 Tammisaari \nLopullinen aikataulu \n\n\n\nPäivä\nSarja\nPunnitus\nKilpailu\nLive\n\n\nPe 31.1.2025\nN14\, M14\, M18 53 – 74 kg\n10:00 – 11:30\n12:00\nLive\n\n\n\nAvajaiset 16:10\n\n\n\n\n\n\nM18 83 – 120 kg\n14:30 – 16:00\n16:30\nLive\n\n\n\n\n\n\n\n\n\nLa 1.2.2025\nN18\n07:00 – 08:30\n9:00\nLive\n\n\n\nN23 52 – 63 kg\, M23 66 – 74 kg\n11:30 – 13:00\n13:30\nLive\n\n\n\nM23 83 – 93 kg\n17:00 – 18:30\n19:00\nLive\n\n\n\n\n\n\n\n\n\nSu 2.2.2025\nN23 69 – 84+ kg\n07:00 – 08:30\n9:00\nLive\n\n\n\nM23 105 – 120+ kg\n12:00 – 13:30\n14:00\nLive\n\n\n\nIlmoittautumiset \nSeurojen yhteyshenkilöt ilmoittavat SM-kilpailuihin tarkoitetut urheilijat sähköisesti Suomisportin kautta 10.1.2025 klo 24.00 mennessä. Ilmoittautumisten tekeminen ajoissa on seurojen vastuulla. \nOsallistumismaksu: M23 ja N23 ikäluokka 90 € / kilpailija\, M/N14 ja M/N18 -ikäluokat 60 € / kilpailija. Maksetaan Suomisportin kautta ilmoittautumisen yhteydessä. \nSM-kilpailun tulosrajat ja tuloksentekoaika: \nToimintasuunnitelman mukainen tulosraja tai kilpailutulos on tullut tehdä virallisessa klassisessa kilpailussa 5.2.2024 – 10.1.2025. \n14 ja 18 -vuotiaiden sarjoissa kilpailevilla ei ole tulosrajaa. Heillä on kuitenkin oltava tulosrajan tekoaikana virallisessa klassisessa kilpailussa tehty tulos\, joka on ilmoitettava SM-kisailmoittautumisessa. \nTulosrajat M23 ja N23 ikäluokat \n\n\n\nSarja M23 \nSarja N23 \n\n\n53\,0     215\,0\n43\,0     152\,5\n\n\n59\,0     250\,0\n47\,0     162\,5\n\n\n66\,0     270\,0\n52\,0     180\,0\n\n\n74\,0     290\,0\n57\,0     197\,5\n\n\n83\,0     315\,0\n63\,0     212\,5\n\n\n93\,0     340\,0\n69\,0     222\,5\n\n\n105\,0   360\,0\n76\,0     235\,0\n\n\n120\,0   385\,0\n84\,0     247\,5\n\n\n120+    400\,0\n84+      252\,5\n\n\n\nTulosraja\, joista on säädetty liiton toimintasuunnitelmasta\, on voitu tehdä muuhun painoluokkaan kuin mihin ilmoittaudutaan. Tällöin tuloksen tulee aina olla vähintään sen painoluokan tulosrajan suuruinen\, mihin ilmoittaudutaan kilpailemaan. \nPainoluokan jakaminen A- ja B-ryhmiin jne. \nSM-kisoissa painoluokka jaetaan A- ja B-ryhmiin sen tilastotuloksen perusteella\, joka on tehty 12 ilmoittamista edeltävän kuukauden ajanjakson aikana painoluokkaan\, mihin nostaja ilmoitetaan kilpailemaan SM-kisaan. Ylempään painoluokkaan tehtyä tulosta ei voida hyväksyä osallistuttaessa alempaan painoluokkaan ryhmäjaossa käytettävänä tuloksena voimanoston teknisten sääntöjen mukaisesti. Alempaan painoluokkaan tehty tulos voidaan hyväksyä. \nVaaka löytyy Hotel Sea Font ja kilpailupaikalta \nKilpailuhotellit: \nHotel Sea Font \, Valkovuokonkatu 2\, 10600 Tammisaari. \nVaraukset: +358 19 2461500 \nHotellin sivut: hotelseafront.fi \n2hh seaside 130 euroa tai 1hh 100 euroa \n2hh Standard 115 euroa tai 1hh 95 euroa \nVarauskoodi: JUNVOIMA25 \nMotel Marine\, Kammantekijänkatu 4-6\, 10600 Tammisaari \nVaraukset:  +358 19 2413833 \nHotellin sivut: motelmarine.fi/fi/huonehinnat \nKäyttämällä kiintiön koodi: JUNVOIMA25 majoittujat saavat 8 % alennuksen. \nLisätietoja \nKK Eken Kilpailun johtaja Ville Orasmaa\, ville.orasmaa@svnl.fi\,  050 5596485 ja \nSVNL info@svnl.fi\, 010 309 4270 \n 
URL:https://www.suomenvoimanostoliitto.fi/tapahtuma/klassisen-voimanoston-nuorten-sm-kilpailut-31-1-2-2-2025-tammisaari-kk-eken/
CATEGORIES:SM-kilpailu
ATTACH;FMTTYPE=image/png:https://www.suomenvoimanostoliitto.fi/wp-content/uploads/SM-nuoret-logo-2025.png
END:VEVENT
BEGIN:VEVENT
DTSTART;TZID=Europe/Helsinki:20250208T100000
DTEND;TZID=Europe/Helsinki:20250208T170000
DTSTAMP:20260420T181625
CREATED:20250107T095035Z
LAST-MODIFIED:20250107T095035Z
UID:19750-1739008800-1739034000@www.suomenvoimanostoliitto.fi
SUMMARY:Kansallinen voimanostokilpailu (ÅKK)
DESCRIPTION:Kilpailujen järjestäjä: Ålands Kraftsportklubb r.f. (ÅKK) \nKilpailupäivä: 2025-02-08 \nKilpailun tyyppi: Kansallinen \nMikä kilpailu on kyseessä: Voimanosto \nKilpailupaikka osoitteineen: Neptunigatan 23\, 22100 Mariehamn \nPunnitusaikataulu: 10.00-11.30 \nKilpailujen alkamisaika: 12.00 \nSarjat ja ikäluokat: Alla viktklasser\, alla åldersklasser \nOsanottomaksu: 30 € för utomstående tävlande \nOsanottomäärä: – \nMilloin ilmoittauduttava: 01.02.2025 \nKenelle ilmoittauduttava: info@kraftsport.nu \nMuut huomiot: ÅKKs kontonummer FI0255780440014794 \nLisätietoja: info@kraftsport.nu
URL:https://www.suomenvoimanostoliitto.fi/tapahtuma/kansallinen-voimanostokilpailu-akk-5/
LOCATION:Neptunigatan 23\, Maarianhamina\, 22100\, Suomi
CATEGORIES:Kansallinen kilpailu
ORGANIZER;CN="%C3%85lands Kraftsportklubb":MAILTO:info@kraftsport.nu
END:VEVENT
BEGIN:VEVENT
DTSTART;VALUE=DATE:20250209
DTEND;VALUE=DATE:20250217
DTSTAMP:20260420T181625
CREATED:20250108T095852Z
LAST-MODIFIED:20250217T064006Z
UID:19769-1739059200-1739750399@www.suomenvoimanostoliitto.fi
SUMMARY:Masters klassisen voimanoston EM-kilpailut\, Albi\, Ranska
DESCRIPTION:Kilpailun tiedot EPF:n sivuilla \nMaajoukkue \nIlmoittautuneet: Miehet  |  Naiset \nYouTube livelähetys \nGoodlift livetulosseuranta \nTulokset: Miehet  |  Naiset \nSuomalaisaikataulu \n\n\n\nSunnuntai 9.2.2025\n\n\nM70 59 – 83 kg\n\n11:00\n\n\nM70 93 – 120+ kg\n\n\n\nN70\n\n17:00\n\n\nN60 47 – 57 kg\n\n\n\nMaanantai 10.2.2025\n\n\nN60 63 – 69 kg\n\n11:00\n\n\nN60 76 – 84+ kg\n76 kg: Irene Matinpalo\, Team365 (sijoitus 5.\, tulos 245 kg)\n\n\nN50 47 & 57 kg\n47 kg: Sanna-Mari Jauhola\, OPT (sijoitus 2.\, tulos 225 kg)\n15:30\n\n\nN50 52 kg\n\n\n\nM60 59 – 74 kg\n\n19:00\n\n\nM60 83 – 93 kg\n\n\n\nTiistai 11.2.2025\n\n\nM60 105 & 120+ kg\n\n11:00\n\n\nM60 120 kg\nJari Niskanen\, So-Vi (sijoitus 3.\, tulos 595 kg)\n\n\nM50 59 – 66 kg\n\n15:00\n\n\nN50 63 kg\nRitva Pihlaja\, HAK (sijoitus 7.\, tulos 237\,5 kg)\n18:00\n\n\nN50 69 kg\nPetriina Wäre\, E-SV (sijoitus 6.\, tulos 327\,5 kg)\n\n\nKeskiviikko 12.2.2025\n\n\nN50 76 kg\nTiina Voho\, KoJy (sijoitus 4.\, tulos 400\,5 kg)\n12:00\n\n\nN50 84 kg\n\n\n\nN50 84+ kg\n\n17:00\n\n\nM50 74 – 83 kg\n74 kg: Sami Siltala\, OPT (sijoitus 1.\, tulos 567\,5 kg)\n\n\n83 kg: Marko Helynen\, SalVo (sijoitus 2.\, tulos 612\,5 kg)\n\n\nTorstai 13.2.2025\n\n\nN40 47 – 52 kg\n\n11:00\n\n\nN40 57 kg\nMarika Hyttinen\, LoBo (sijoitus 5.\, tulos 337\,5 kg)\n\n\nM50 93 kg\nSami Teeri\, PLP (sijoitus 7.\, tulos 585 kg)\n15:00\n\n\nM50 105 kg\nKaj Wasenius\, E-IT (sijoitus 5.\, tulos 550 kg)\n\n\nM50 120 kg\n\n19:30\n\n\nM50 120+ kg\n\n\n\nPerjantai 14.2.2025\n\n\nM40 59\, 66\, 83 kg\n83 kg: Jari Kaarnais\, E-VO (sijoitus 2.\, tulos 650 kg)\n12:00\n\n\nM40 74 kg\nJani Haapamäki\, OPT (sijoitus 1.\, tulos 682\,5 kg)\n\n\nN40 63 kg\nMinna Pohjola\, RAV (sijoitus 7.\, tulos 382\,5 kg)\n17:00\n\n\nN40 69 kg\nJohanna Kankus-Mikkola\, RaPe (sijoitus 2.\, tulos 458\,5 kg)\n\n\nOlga Nieminen\, KEV (sijoitus 5.\, tulos 415 kg)\n\n\nLauantai 15.2.2025\n\n\nM40 93 kg\n\n12:00\n\n\nN40 76 kg\nHannele Eerikäinen\, HAK (sijoitus 5.\, tulos 392\,5 kg)\n15:30\n\n\nN40 84 kg\nHeidi Bäckström\, RAV (sijoitus 2.\, tulos 440 kg)\n\n\nAnna Ranki\, RAV (sijoitus 4.\, tulos 390 kg)\n\n\nSunnuntai 16.2.2025\n\n\nN40 84+ kg\nLiisa Asanti\, NIL (sijoitus 7.\, tulos 417\,5 kg)\n12:00\n\n\nM40 105 kg\nVille Majava\, HauVo (sijoitus 6.\, tulos 690 kg)\n\n\nHeikki Kurvinen\, HauVo (sijoitus 3.\, tulos 725 kg)\n\n\nM40 120 kg\n\n16:30\n\n\nM40 120+ kg\nJari Saario\, OutVe (sijoitus 2.\, tulos 880 kg)\n\n\nJyrki Haikama\, FPC (sijoitus 4.\, tulos 755 kg)
URL:https://www.suomenvoimanostoliitto.fi/tapahtuma/masters-klassisen-voimanoston-em-kilpailut-albi-ranska/
CATEGORIES:EM-kilpailu
END:VEVENT
BEGIN:VEVENT
DTSTART;TZID=Europe/Helsinki:20250215T130000
DTEND;TZID=Europe/Helsinki:20250215T170000
DTSTAMP:20260420T181625
CREATED:20250122T120027Z
LAST-MODIFIED:20250122T120216Z
UID:19960-1739624400-1739638800@www.suomenvoimanostoliitto.fi
SUMMARY:Tuomarikoulutus ja -koe
DESCRIPTION:Etelä-Suomen voimanostajat järjestää tuomarikoulutuksen ja -kokeen Pornaisissa  \n15.2.2025 kello 13:00 \nYhteyshenkilönä Kaj Mattila\, kaj.mattila@svnl.fi \n 
URL:https://www.suomenvoimanostoliitto.fi/tapahtuma/tuomarikoulutus-ja-koe-6/
END:VEVENT
BEGIN:VEVENT
DTSTART;VALUE=DATE:20250221
DTEND;VALUE=DATE:20250224
DTSTAMP:20260420T181625
CREATED:20250108T100246Z
LAST-MODIFIED:20250224T061745Z
UID:19771-1740096000-1740355199@www.suomenvoimanostoliitto.fi
SUMMARY:Klassisen voimanoston Euroopan yliopisto-cup\, Hamm\, Luxemburg
DESCRIPTION:Kilpailukutsu \nMaajoukkue \nIlmoittautuneet: Miehet  |  Naiset \nYouTube livelähetys \nGoodlift livetulosseuranta \nAikataulu Suomen aikaa \n\n\n\nPerjantai 21.2.2025\n\n\n\n\nNaiset 47 – 52 kg\n\n12:00\n\n\nNaiset 57 kg\n\n\n\nNaiset 63 kg B\nJenna Onkalo\, Tampereen yliopisto (Hkaanto) (sijoitus 14.\, tulos 370 kg)\n16:30\n\n\nNaiset 63 kg A\n\n\n\nMiehet 59 – 74 kg\n\n20:00\n\n\nLauantai 22.2.2025\n\n\n\n\nNaiset 69 kg\nHanne Ahonen\, Jyväskylän yliopisto (JVK) (sijoitus 4.\, tulos 407\,5 kg)\n11:00\n\n\nNaiset 76 kg\n\n\n\nMiehet 83 kg B\n\n15:00\n\n\nMiehet 93 kg B\n\n\n\nMiehet 83 kg A\n\n19:30\n\n\nMiehet 93 kg A\n\n\n\nSunnuntai 23.2.2025\n\n\n\n\nMiehet 105 kg\n\n11:00\n\n\nNaiset 84 – 84+ kg\n\n15:00\n\n\nMiehet 120 – 120+ kg
URL:https://www.suomenvoimanostoliitto.fi/tapahtuma/klassisen-voimanoston-euroopan-yliopisto-cup-hamm-luxemburg/
CATEGORIES:EM-kilpailu
END:VEVENT
END:VCALENDAR