BEGIN:VCALENDAR
VERSION:2.0
PRODID:-//Suomen Voimanostoliitto ry - ECPv6.9.0//NONSGML v1.0//EN
CALSCALE:GREGORIAN
METHOD:PUBLISH
X-ORIGINAL-URL:https://www.suomenvoimanostoliitto.fi
X-WR-CALDESC:Events for Suomen Voimanostoliitto ry
REFRESH-INTERVAL;VALUE=DURATION:PT1H
X-Robots-Tag:noindex
X-PUBLISHED-TTL:PT1H
BEGIN:VTIMEZONE
TZID:Europe/Helsinki
BEGIN:DAYLIGHT
TZOFFSETFROM:+0200
TZOFFSETTO:+0300
TZNAME:EEST
DTSTART:20240331T010000
END:DAYLIGHT
BEGIN:STANDARD
TZOFFSETFROM:+0300
TZOFFSETTO:+0200
TZNAME:EET
DTSTART:20241027T010000
END:STANDARD
END:VTIMEZONE
BEGIN:VEVENT
DTSTART;TZID=Europe/Helsinki:20241005T090000
DTEND;TZID=Europe/Helsinki:20241005T170000
DTSTAMP:20260419T185151
CREATED:20240307T180611Z
LAST-MODIFIED:20240514T052905Z
UID:16188-1728118800-1728147600@www.suomenvoimanostoliitto.fi
SUMMARY:Akaan avoimet - kansallinen voimanostokilpailu (Akaan Voima)
DESCRIPTION:Kilpailujen järjestäjä: Akaan Voima ry \nKilpailupäivä: 2024-10-05 \nKilpailun tyyppi: Kansallinen \nMikä kilpailu on kyseessä: Voimanosto \nKilpailupaikka osoitteineen: Toijalan Monitoimihalli\, Köyvärintie 8\, 37800 Akaa \nPunnitusaikataulu: 9.00-10.30 \nKilpailujen alkamisaika: 11.00 \nSarjat ja ikäluokat: kaikki \nOsanottomaksu: 45 euroa \nOsanottomäärä: Maks. 28 \nMilloin ilmoittauduttava: 27.9.2024 mennessä \nKenelle ilmoittauduttava: \nmiehet: https://forms.gle/nG8L5GNPx1z3cPjq5         naiset: https://forms.gle/WYwpNJRNFtjqSR1A6 \nMuut huomiot: \nMaksa osallistumismaksu AVo:n tilille FI31 4108 0012 0339 35. Viestiksi oma nimesi ja kisa 5.10. \nKaikille osallistujille jaetaan kisamuistopalkinto kisan tuloksien lukemisen jälkeen \nLisätietoja: Jari Mutanen p. 050-402 9554
URL:https://www.suomenvoimanostoliitto.fi/tapahtuma/kansallinen-voimanostokilpailu-akaan-voima/
LOCATION:Toijalan monitoimihalli\, Köyvärintie\, Akaa\, 37800
CATEGORIES:Kansallinen kilpailu
END:VEVENT
BEGIN:VEVENT
DTSTART;TZID=Europe/Helsinki:20241005T093000
DTEND;TZID=Europe/Helsinki:20241005T170000
DTSTAMP:20260419T185151
CREATED:20240809T092333Z
LAST-MODIFIED:20240920T034125Z
UID:17925-1728120600-1728147600@www.suomenvoimanostoliitto.fi
SUMMARY:Jäsentenvälinen penkkipunnerruskilpailu (TVN)
DESCRIPTION:Kilpailujen järjestäjä: Tampereen Voimanostajat \nKilpailupäivä: 2024-10-05 \nKilpailun tyyppi: Jäsentenvälinen \nMikä kilpailu on kyseessä: Penkkipunnerrus \nKilpailupaikka osoitteineen: HH GYm\, Ahlmanintie 56\, 33800 Tampere. \nPunnitusaikataulu: 09:30-10:30 (huom. lyhyt punnitus) \nKilpailun alkamisaika: 11:00 \nSarjat ja ikäluokat: Kaikki sarjat ja ikäluokat \nOsanottomaksu: Ei osanottomaksua \nOsanottomäärä: Ei rajattu\, vain TVN:n jäsenille. \nMilloin ilmoittauduttava: 5.10.2024 mennessä \nKenelle ilmoittauduttava: matti.rajaniemi2@gmail.com \nMuut huomiot: Jäsentenvälinen kisa\, ei ulkopuolisia. \nLisätietoja: matti.rajaniemi2@gmail.com
URL:https://www.suomenvoimanostoliitto.fi/tapahtuma/jasentenvalinen-penkkipunnerruskilpailu-tvn-6/
LOCATION:Nääshallin toiminnallinen liikuntasali\, Näsijärvenkatu 8\, Tampere\, 33210\, Suomi
CATEGORIES:Jäsentenvälinen
ORGANIZER;CN="Tampereen Voimanostajat ry":MAILTO:mankku68@gmail.com
END:VEVENT
BEGIN:VEVENT
DTSTART;TZID=Europe/Helsinki:20241005T100000
DTEND;TZID=Europe/Helsinki:20241005T130000
DTSTAMP:20260419T185151
CREATED:20240912T103206Z
LAST-MODIFIED:20240912T103806Z
UID:18192-1728122400-1728133200@www.suomenvoimanostoliitto.fi
SUMMARY:Tuomarikoulutus ja -koe Raumalla 5.10.2024
DESCRIPTION:Rauman Ydinvoima järjestää kansallisen II luokan Tuomarikoulutuksen ja -kokeen 5.10.2024.\nTilaisuus pidetään SAMK:n tiloissa osoitteessa Satamakatu 26\, 26100 Rauma klo 10.\n\nTiedustelut:\nArto Manninen\n0400 435 266\nkilpailut@raumanydinvoima.fi
URL:https://www.suomenvoimanostoliitto.fi/tapahtuma/tuomarikoulutus-ja-koe-raumalla-5-10-2024/
END:VEVENT
BEGIN:VEVENT
DTSTART;TZID=Europe/Helsinki:20241005T100000
DTEND;TZID=Europe/Helsinki:20241005T170000
DTSTAMP:20260419T185151
CREATED:20240809T093753Z
LAST-MODIFIED:20240919T115512Z
UID:17927-1728122400-1728147600@www.suomenvoimanostoliitto.fi
SUMMARY:Jäsentenvälinen voimanostokilpailu (TVN)
DESCRIPTION:Kilpailujen järjestäjä: Tampereen Voimanostajat \nKilpailupäivä: 2024-10-05 \nKilpailun tyyppi: Jäsentenvälinen \nMikä kilpailu on kyseessä: Voimanosto \nKilpailupaikka osoitteineen: HH GYm\, Ahlmanintie 56\, 33800 Tampere. \nPunnitusaikataulu: 10:00-11:30 \nKilpailujen alkamisaika: 12:00 \nSarjat ja ikäluokat: Kaikki sarjat ja ikäluokat \nOsanottomaksu: Ei osanottomaksua \nOsanottomäärä: Ei rajattu\, vain TVN:n jäsenille \nMilloin ilmoittauduttava: 5.10.2024 mennessä \nKenelle ilmoittauduttava: matti.rajaniemi2@gmail.com \nMuut huomiot: Jäsentenvälinen kisa\, ei ulkopuolisia. \nLisätietoja: matti.rajaniemi2@gmail.com
URL:https://www.suomenvoimanostoliitto.fi/tapahtuma/jasentenvalinen-voimanostokilpailu-tvn-6/
LOCATION:Nääshallin toiminnallinen liikuntasali\, Näsijärvenkatu 8\, Tampere\, 33210\, Suomi
CATEGORIES:Jäsentenvälinen
ORGANIZER;CN="Tampereen Voimanostajat ry":MAILTO:mankku68@gmail.com
END:VEVENT
BEGIN:VEVENT
DTSTART;TZID=Europe/Helsinki:20241005T103000
DTEND;TZID=Europe/Helsinki:20241005T170000
DTSTAMP:20260419T185151
CREATED:20240718T142713Z
LAST-MODIFIED:20240718T142713Z
UID:17800-1728124200-1728147600@www.suomenvoimanostoliitto.fi
SUMMARY:Kansallinen voimanostokilpailu (Sotkamon Visa)
DESCRIPTION:Kilpailujen järjestäjä: Sotkamon Visa \nKilpailupäivä: 2024-10-05 \nKilpailun tyyppi: Kansallinen \nMikä kilpailu on kyseessä: Voimanosto \nKilpailupaikka osoitteineen: Terveyskeskuksen voimailutila\, keskuskatu 9\, 88600 Sotkamo \nPunnitusaikataulu: 10.30-11.30 \nKilpailujen alkamisaika: 12.00 \nSarjat ja ikäluokat: Kaikki \nOsanottomaksu: 30€ \nOsanottomäärä: ei rajattu \nMilloin ilmoittauduttava: 28.9 mennessä \nKenelle ilmoittauduttava: Mikko Rusanen 0440397979 mikkorusanen67@gmail.com \nMuut huomiot: osallistumismaksu etukäteen Visan tilille FI12 5436 0940 0035 13 viitteeksi omanimi / ruskanostot \nLisätietoja: Mikolta
URL:https://www.suomenvoimanostoliitto.fi/tapahtuma/kansallinen-voimanostokilpailu-sotkamon-visa-2/
LOCATION:Sotkamon terveyskeskuksen voimailutila\, Keskuskatu 9\, Sotkamo\, 88600
CATEGORIES:Kansallinen kilpailu
ORGANIZER;CN="Sotkamon Visa ry":MAILTO:villenisk@gmail.com
END:VEVENT
BEGIN:VEVENT
DTSTART;TZID=Europe/Helsinki:20241005T103000
DTEND;TZID=Europe/Helsinki:20241005T170000
DTSTAMP:20260419T185151
CREATED:20240820T111750Z
LAST-MODIFIED:20240820T111750Z
UID:18046-1728124200-1728147600@www.suomenvoimanostoliitto.fi
SUMMARY:Kansallinen voimanostokilpailu (JoPuPo)
DESCRIPTION:Kilpailujen järjestäjä: Joensuun Puntti-Pojat \nKilpailupäivä: 2024-10-05 \nKilpailun tyyppi: Kansallinen \nMikä kilpailu on kyseessä: Voimanosto \nKilpailupaikka osoitteineen: Joensuun Puntti-Poikien sali\, Noljakankaari 1\, 80140 Joensuu \nPunnitusaikataulu: 10:30-11:30 \nKilpailujen alkamisaika: 12:00 \nSarjat ja ikäluokat: Kaikki \nOsanottomaksu: 30e \nOsanottomäärä: Max 20 \nMilloin ilmoittauduttava: 29.9.2024 \nKenelle ilmoittauduttava: Maria Karjalainen\, jopupovnvastaava(at)outlook.com \nMuut huomiot: Lyhyt punnitus. Nostajan on ilmoitettava ilmoittautumisen yhteydessä nostaako varustesarjassa vai klassisessa sarjassa.   Osallistumismaksu maksetaan ilmoittautumisen yhteydessä tilille FI64 5770 0520 0660 33\, OKOYFIHH. Kuitti maksusta sekä voimassaoleva kilpailulisenssi esitettävä punnituksen yhteydessä. Maksua ei palauteta ilman hyväksyttävää syytä. Ilmoittautumiset ainoastaan sähköpostiin! \nLisätietoja: Maria Karjalainen\, 050-3515077
URL:https://www.suomenvoimanostoliitto.fi/tapahtuma/kansallinen-voimanostokilpailu-jopupo-3/
LOCATION:Noljakankaari 1\, Noljakankaari 1\, Joensuu\, 80140\, Suomi
CATEGORIES:Kansallinen kilpailu
ORGANIZER;CN="Joensuun Puntti-Pojat":MAILTO:jopupovnvastaava@outlook.com
END:VEVENT
BEGIN:VEVENT
DTSTART;TZID=Europe/Helsinki:20241006T100000
DTEND;TZID=Europe/Helsinki:20241006T170000
DTSTAMP:20260419T185151
CREATED:20240821T122711Z
LAST-MODIFIED:20240923T120009Z
UID:18056-1728208800-1728234000@www.suomenvoimanostoliitto.fi
SUMMARY:Kansallinen voimanostokilpailu (HauVo)
DESCRIPTION:Kilpailujen järjestäjä: Haukiputaan Voimailijat \nKilpailupäivä: 2024-10-06 \nKilpailun tyyppi: Kansallinen \nMikä kilpailu on kyseessä: Voimanosto \nKilpailupaikka osoitteineen: Liikuntakeskus Core\, Takomotie 1\, 90830 Haukipudas \nPunnitusaikataulu: 10-11.30 \nKilpailujen alkamisaika: 12 \nSarjat ja ikäluokat: Kaikki \nOsanottomaksu: 30e Tilille: FI43 5740 7520 1127 48 Maksettava 30.9. mennessä \nOsanottomäärä: Max 28\, kaksi ryhmää \nMilloin ilmoittauduttava: 30.9.2024 \nKenelle ilmoittauduttava: Antti Kotilaine\, antti.kotilaine@gmail.com \nMuut huomiot: Ilmoittautumisviestissä oltava nostajan nimi\, seura\, syntymävuosi ja ikä- ja painoluokka. Maksun viestikenttään ”Voimanosto lokakuu 2024” + kilpailijan nimi. \nLisätietoja: Antti Kotilaine\, antti.kotilaine@gmail.com\, 040-1575707
URL:https://www.suomenvoimanostoliitto.fi/tapahtuma/kansallinen-voimanostokilpailu-hauvo/
LOCATION:Liikuntakeskus Core\, Takomotie 1\, Haukipudas\, 90830\, Suomi
CATEGORIES:Kansallinen kilpailu
ORGANIZER;CN="Haukiputaan Voimailijat ry":MAILTO:antti.kotilaine@gmail.com
END:VEVENT
BEGIN:VEVENT
DTSTART;TZID=Europe/Helsinki:20241012T090000
DTEND;TZID=Europe/Helsinki:20241012T170000
DTSTAMP:20260419T185151
CREATED:20240916T173625Z
LAST-MODIFIED:20240916T173625Z
UID:18227-1728723600-1728752400@www.suomenvoimanostoliitto.fi
SUMMARY:Kansallinen Penkkipunnerruskilpailu (YlöR)
DESCRIPTION:Kilpailujen järjestäjä: Ylöjärven Ryhti ry \nKilpailupäivä: 2024-10-12 \nKilpailun tyyppi: Kansallinen \nMikä kilpailu on kyseessä: Penkkipunnerrus \nKilpailupaikka osoitteineen: Ylöjärven Urheilutalo\, Koulutie 6\, 33470 Ylöjärvi \nPunnitusaikataulu: 09.00-10.30 \nKilpailujen alkamisaika: Klo 11 \nSarjat ja ikäluokat: Kaikki sarjat ja ikäluokat \nOsanottomaksu: Ei maksua \nOsanottomäärä: Ei rajoitusta \nMilloin ilmoittauduttava: Viimeistään 5.10.2024 \nKenelle ilmoittauduttava: Päivi Ristolainen\, paivi.ristolainen@cimson.fi tai Whats App 050 536 5768 \nMuut huomiot: Koska kyseessä on penkkipunnerruksen Ylöjärven kaupunginmestaruuskisa\, kilpailuun voivat osallistua Ylöjärvellä asuvat lisenssinostajat mistä seurasta tahansa ja Ylöjärven Ryhdin lisenssinostajat. \nLisätietoja: Päivi Ristolainen 050 536 5768
URL:https://www.suomenvoimanostoliitto.fi/tapahtuma/kansallinen-penkkipunnerruskilpailu-ylor-2/
LOCATION:Ylöjärven Urheilutalo\, Koulutie 6\, Ylöjärvi\, 33470\, Finland
CATEGORIES:Kansallinen kilpailu
ORGANIZER;CN="Yl%C3%B6j%C3%A4rven Ryhti":MAILTO:paivi.ristolainen@cimson.fi
END:VEVENT
BEGIN:VEVENT
DTSTART;TZID=Europe/Helsinki:20241019T080000
DTEND;TZID=Europe/Helsinki:20241019T170000
DTSTAMP:20260419T185151
CREATED:20240820T111546Z
LAST-MODIFIED:20240821T043033Z
UID:18042-1729324800-1729357200@www.suomenvoimanostoliitto.fi
SUMMARY:Kansallinen voimanostokilpailu (PV)
DESCRIPTION:Kilpailujen järjestäjä: Pietarsaaren Voimailijat \nKilpailupäivä: 2024-10-19 \nKilpailun tyyppi: Kansallinen \nMikä kilpailu on kyseessä: Voimanosto \nKilpailupaikka osoitteineen: Jeppis Gym Koulukatu 25 68600 Pietarsaari \nPunnitusaikataulu: 8-9.30 \nKilpailujen alkamisaika: 10.00 \nSarjat ja ikäluokat: kaikki sarjat \nOsanottomaksu: 25€ maksetaan tilille  FI08 5567 0720 1183 42 \nOsanottomäärä: ei rajattu \nMilloin ilmoittauduttava: 11.10 mennessä. \nKenelle ilmoittauduttava: Juhani Salo 045-6952959  tekstiviesti / whatsapp Muut huomiot: Voimanoston SFI mestaruuskilpailu vain SFI nostajille. \nSFI mästerskapen i styrkelyft  endast SFI lyftare. \nLisätietoja: salojuh@hotmail.com
URL:https://www.suomenvoimanostoliitto.fi/tapahtuma/kansallinen-voimanostokilpailu-pievo/
LOCATION:Jeppis Gym\, Koulukatu 25\, Pietarsaari\, 68600\, Suomi
CATEGORIES:Kansallinen kilpailu
ORGANIZER;CN="Pietarsaaren Voimailijat":MAILTO:salojuh@hotmail.com
END:VEVENT
BEGIN:VEVENT
DTSTART;TZID=Europe/Helsinki:20241019T090000
DTEND;TZID=Europe/Helsinki:20241019T170000
DTSTAMP:20260419T185151
CREATED:20240820T111421Z
LAST-MODIFIED:20240820T123520Z
UID:18040-1729328400-1729357200@www.suomenvoimanostoliitto.fi
SUMMARY:Klassisen voimanoston Helsingin aluemestaruuskilpailu (PSS)
DESCRIPTION:Kilpailujen järjestäjä: PääkaupunkiSeudun Seurayhtymä PSS \nKilpailupäivä: 2024-10-19 \nKilpailun tyyppi: Kansallinen \nMikä kilpailu on kyseessä: Voimanosto \nKilpailupaikka osoitteineen: Kontulan kuntokellari\, Ostoskuja 4\, Helsinki \nPunnitusaikataulu: klo 9:00-10:30 \nKilpailujen alkamisaika: klo 11:00 \nSarjat ja ikäluokat: Avoin miehet ja naiset. \nOsanottomaksu: Osallistumismaksu 45 euroa/nostaja tulee suorittaa 19.9.2024 mennessä PääkaupunkiSeudun Seurayhtymä\, PSS:n tilille: FI18 4405 4020 0143 17\, BIC: ITELFIHH. Osallistumismaksun tiedonantokenttään tulee täyttää nostajan nimi ja seura tai useiden nostajien nimet ja seura. \nOsanottomäärä: Klassisen voimanoston 32. Helsingin Aluemestaruuskilpailuun voivat osallistua Helsingin\, Espoon\, Kauniaisten ja Vantaan seurojen nostajat. Kilpailuun voidaan ottaa mukaan myös sopiva määrä kilpailun ulkopuolisia nostajia\, joilla on oltava voimassaoleva voimanostolisenssi. \nMilloin ilmoittauduttava: Kilpailuun ilmoittautumiset tulee tehdä 12.9.2024 mennessä. Kilpailun ulkopuolisten nostajien viimeinen ilmoittautumispäivä on 19.9.2024. \nKenelle ilmoittauduttava: Janne Leppä\, sähköposti: pss.voimanosto@gmail.com tai puh: 045 869 5868  – Kilpailuun ilmoittautumisessa on mainittava ainakin seuraavat tiedot: –#1) nostajan nimi\, –#2) nostajan syntymävuosi\, –#3) nostajan seura\, –#4) nostajan painoluokka (sarja)\, –#5) nostajan nimellä varustettu tuloste/todistus voimassaolevasta voimanostolisenssistä\, –#6) nostajan tai kilpailuun ilmoittajan yhteystiedot (nimi\, sähköposti ja/tai puhelinnumero)\, –#7) osallistumismaksun tiedonantokenttään tulee täyttää nostajan nimi ja seura tai useiden nostajien nimet ja seura. \nMuut huomiot: Kilpailu on klassisen voimanoston 32. Helsingin Aluemestaruuskilpailu. \n– \nPääkaupunkiSeudun Seurayhtymä\, PSS:n alueen (Helsinki\, Espoo\, Kauniainen\, Vantaa) seurojen nostajista valitaan joukkue perinteiseen klassisen voimanoston Helsinki-Tukholma-Tallinna Pääkaupunkiotteluun\, joka nostetaan Tallinnassa 2025. \n– \nOsallistujalista ja muita lisätietoja kilpailusta on myös osoitteessa https://tikkurilankajastus.fi/PSS/kilpailut.php \n– \nTervetuloa nostamaan ja kannustamaan. \nLisätietoja: https://tikkurilankajastus.fi/PSS/kilpailut.php sekä Janne Leppä\, sähköposti: pss.voimanosto@gmail.com tai puh: 045 869 5868
URL:https://www.suomenvoimanostoliitto.fi/tapahtuma/klassisen-voimanoston-helsingin-aluemestaruuskilpailu-pss/
LOCATION:Kontulan kuntokellari\, Ostoskuja 4\, Helsinki
CATEGORIES:Kansallinen kilpailu
ORGANIZER;CN="P%C3%A4%C3%A4kaupunkiseudun Seurayhtym%C3%A4":MAILTO:pss.voimanosto@gmail.com
END:VEVENT
BEGIN:VEVENT
DTSTART;TZID=Europe/Helsinki:20241019T100000
DTEND;TZID=Europe/Helsinki:20241019T170000
DTSTAMP:20260419T185151
CREATED:20240520T075626Z
LAST-MODIFIED:20240916T032450Z
UID:17198-1729332000-1729357200@www.suomenvoimanostoliitto.fi
SUMMARY:Kansallinen voimanostokilpailu (Rauman Ydinvoima)
DESCRIPTION:Kilpailujen järjestäjä: Rauman Ydinvoima \nKilpailupäivä: 2024-10-19 \nKilpailun tyyppi: Kansallinen \nMikä kilpailu on kyseessä: Voimanosto \nKilpailupaikka osoitteineen: Liikuntakeskus Kuntosumppu\, Karjalankatu 29\, 26100 Rauma \nPunnitusaikataulu: 10:00-11:30 \nKilpailujen alkamisaika: 12:00 \nSarjat ja ikäluokat: Kaikki sarjat ja ikäluokat \nOsanottomaksu: 30 e / kilpailu \nOsanottomäärä: Ei rajattu. \nMilloin ilmoittauduttava: Viimeistään 16.10.2024 Kenelle ilmoittauduttava: http://www.raumanydinvoima.fi/?page_id=15767 \nMuut huomiot: Kilpailuissa 1-lk tuomarit. \nLisätietoja: Arto Manninen 0400 435 266
URL:https://www.suomenvoimanostoliitto.fi/tapahtuma/kansallinen-voimanostokilpailu-rauman-ydinvoima/
LOCATION:Kuntosumppu\, Karjalankatu 29\, Rauma\, 26100\, Suomi
CATEGORIES:Kansallinen kilpailu
ORGANIZER;CN="Rauman Ydinvoima":MAILTO:kilpailut@raumanydinvoima.fi
END:VEVENT
BEGIN:VEVENT
DTSTART;TZID=Europe/Helsinki:20241019T100000
DTEND;TZID=Europe/Helsinki:20241019T170000
DTSTAMP:20260419T185151
CREATED:20240930T085832Z
LAST-MODIFIED:20240930T085832Z
UID:18309-1729332000-1729357200@www.suomenvoimanostoliitto.fi
SUMMARY:Kansallinen voimanostokilpailu (Pomarkun Pyry)
DESCRIPTION:Kilpailujen järjestäjä: Pomarkun Pyry \nKilpailupäivä: 2024-10-19 \nKilpailun tyyppi: Kansallinen \nMikä kilpailu on kyseessä: Voimanosto \nKilpailupaikka osoitteineen: Pomarkun Monitoimihalli\, Harjantie 1\, 29630 Pomarkku \nPunnitusaikataulu: 10:00-11:30 \nKilpailujen alkamisaika: 12:00 \nSarjat ja ikäluokat: Avoin \nOsanottomaksu: 30 € maksetaan PomPyn tilille FI83 5106 0120 1632 50 ilmoittautumisajan loppuun\, 14.10 mennessä \nOsanottomäärä: Max 14 nostajaa (ulkopuolisia 10 nostajaa \nMilloin ilmoittauduttava: 14.10 mennessä \nKenelle ilmoittauduttava: pomarkunpyry.voimailu@gmail.com (viestiin nimi\, syntymävuosi\, seura\, sarja\, klassinen vai varuste) \nMuut huomiot: \nLisätietoja: Jouni Vähäsantanen 045-1105959 tai pomarkunpyry.voimailu@gmail.com
URL:https://www.suomenvoimanostoliitto.fi/tapahtuma/kansallinen-voimanostokilpailu-pomarkun-pyry-6/
LOCATION:Pomarkun Monitoimihalli\, Harjantie 1\, Pomarkku\, 29630\, Suomi
CATEGORIES:Kansallinen kilpailu
END:VEVENT
BEGIN:VEVENT
DTSTART;TZID=Europe/Helsinki:20241019T103000
DTEND;TZID=Europe/Helsinki:20241019T170000
DTSTAMP:20260419T185151
CREATED:20240808T085127Z
LAST-MODIFIED:20240808T085127Z
UID:17915-1729333800-1729357200@www.suomenvoimanostoliitto.fi
SUMMARY:Kansallinen voimanostokilpailu (KEV)
DESCRIPTION:Kilpailujen järjestäjä: Kuusamon Erä-veikot \nKilpailupäivä: 2024-10-19 \nKilpailun tyyppi: Kansallinen \nMikä kilpailu on kyseessä: Voimanosto \nKilpailupaikka osoitteineen: Kuusamon liikuntakeskus. Kitkantie 42 \nPunnitusaikataulu: 10:30-12:00 \nKilpailujen alkamisaika: 12:30 \nSarjat ja ikäluokat: Kaikki sarjat ja ikäluokat \nOsanottomaksu: 40€ \nOsanottomäärä: 2 Ryhmää. Max 28 kilpailijaa. \nMilloin ilmoittauduttava: 13.10. Mennessä \nKenelle ilmoittauduttava: jannemo@hotmail.com \nMuut huomiot: Maksu jaoston tilille: FI3851940720103196. \nViestiin nostajan nimi. \nLisätietoja: jannemo@hotmail.com\, 0440707601
URL:https://www.suomenvoimanostoliitto.fi/tapahtuma/kansallinen-voimanostokilpailu-kev/
LOCATION:Kuusamon Liikuntakeskus\, Kitkantie 42\, Kuusamo\, 93600
CATEGORIES:Kansallinen kilpailu
END:VEVENT
BEGIN:VEVENT
DTSTART;TZID=Europe/Helsinki:20241020T103000
DTEND;TZID=Europe/Helsinki:20241020T170000
DTSTAMP:20260419T185151
CREATED:20241003T092937Z
LAST-MODIFIED:20241003T092937Z
UID:18354-1729420200-1729443600@www.suomenvoimanostoliitto.fi
SUMMARY:Jäsentenvälinen voimanostokilpailu (TamRy)
DESCRIPTION:Kilpailujen järjestäjä: Tammelan Ryske \nKilpailupäivä: 2024-10-20 \nKilpailun tyyppi: Jäsentenvälinen \nMikä kilpailu on kyseessä: Voimanosto \nKilpailupaikka osoitteineen: Tammelan Liikuntakeskus\, Kyöpelintie 20 \nPunnitusaikataulu: 10:30-11:30 \nKilpailujen alkamisaika: 12:00 \nSarjat ja ikäluokat: Kaikki \nOsanottomaksu: 20€ \nOsanottomäärä: 14 \nMilloin ilmoittauduttava: 13.10.2024 mennessä \nKenelle ilmoittauduttava: toni.kuusi@gmail.com \nMuut huomiot: Lyhyt punnitus \nLisätietoja: toni.kuusi@gmail.com
URL:https://www.suomenvoimanostoliitto.fi/tapahtuma/jasentenvalinen-voimanostokilpailu-tamry/
LOCATION:Tammelan Liikuntakeskus\, Kyöpelintie 20\, Tammela\, 31300
CATEGORIES:Jäsentenvälinen
ORGANIZER;CN="Tammelan Ryske":MAILTO:voimailu@tammelanryske.fi
END:VEVENT
BEGIN:VEVENT
DTSTART;TZID=Europe/Helsinki:20241026T120000
DTEND;TZID=Europe/Helsinki:20241026T150000
DTSTAMP:20260419T185151
CREATED:20240627T182405Z
LAST-MODIFIED:20240627T183824Z
UID:17598-1729944000-1729954800@www.suomenvoimanostoliitto.fi
SUMMARY:Suomen Voimanostoliiton syyskokous
DESCRIPTION:Suomen Voimanostoliiton syyskokous pidetään lauantaina 26.10.2024 kello 12:00 alkaen Teams yhteydellä. Linkki Teams kokoukseen sekä linkki sähköiseen äänestysjärjestelmään (Hejmo.fi) toimitetaan kokoukseen ilmoittautuneille jäsenseurojen varsinaisille edustajille sekä heidän seuraajille (pelkkä kokouslinkki) ennen kokousta. \nLiiton jäsenseurojen tulee nimetä ehdokkaat liiton hallituksen jäseniksi (3) kirjallisesti vähintään 30 päivää ennen liiton syyskokousta eli 26.9.2024 mennessä. Ehdokkaat lähetetään liitolle sähköpostitse osoitteeseen info@svnl.fi. Kts. liiton toimintasääntöjen kohta 6.f.2). \nLiiton jäsenseurat saattavat tehdä aloitteita liiton varsinaisessa kokouksessa käsiteltävistä asioista liiton hallitukselle viimeistään viisi (5) viikkoa ennen kokousta eli 21.9.2024 mennessä sähköpostitse liitolle info@svnl.fi. \nErovuorossa ovat hallituksen jäsenistä Mats Finne\, Ville Orasmaa ja Päivi Ristolainen.
URL:https://www.suomenvoimanostoliitto.fi/tapahtuma/suomen-voimanostoliiton-syyskokous/
LOCATION:Teams kokous\, Muoniontie 138b\, Kolari\, Lappi\, 95930\, Finland
CATEGORIES:Kokoukset
ATTACH;FMTTYPE=image/jpeg:https://www.suomenvoimanostoliitto.fi/wp-content/uploads/svnl-uutiskuva-yleinen.jpg
ORGANIZER;CN="Suomen Voimanostoliitto ry":MAILTO:info@svnl.fi
END:VEVENT
END:VCALENDAR