BEGIN:VCALENDAR
VERSION:2.0
PRODID:-//Suomen Voimanostoliitto ry - ECPv6.9.0//NONSGML v1.0//EN
CALSCALE:GREGORIAN
METHOD:PUBLISH
X-WR-CALNAME:Suomen Voimanostoliitto ry
X-ORIGINAL-URL:https://www.suomenvoimanostoliitto.fi
X-WR-CALDESC:Events for Suomen Voimanostoliitto ry
REFRESH-INTERVAL;VALUE=DURATION:PT1H
X-Robots-Tag:noindex
X-PUBLISHED-TTL:PT1H
BEGIN:VTIMEZONE
TZID:Europe/Helsinki
BEGIN:DAYLIGHT
TZOFFSETFROM:+0200
TZOFFSETTO:+0300
TZNAME:EEST
DTSTART:20240331T010000
END:DAYLIGHT
BEGIN:STANDARD
TZOFFSETFROM:+0300
TZOFFSETTO:+0200
TZNAME:EET
DTSTART:20241027T010000
END:STANDARD
END:VTIMEZONE
BEGIN:VEVENT
DTSTART;TZID=Europe/Helsinki:20240706T090000
DTEND;TZID=Europe/Helsinki:20240706T170000
DTSTAMP:20260420T200123
CREATED:20240116T181128Z
LAST-MODIFIED:20240116T181128Z
UID:15285-1720256400-1720285200@www.suomenvoimanostoliitto.fi
SUMMARY:XVII RANTAPENKKARIT\, Kansallinen penkkipunnerruskilpailu (So-Vi)
DESCRIPTION:Kilpailujen järjestäjä: Sotkamon Visa ry \nKilpailupäivä: 2024-07-06 \nKilpailun tyyppi: Kansallinen \nMikä kilpailu on kyseessä: Penkkipunnerrus Kilpailupaikka osoitteineen: Hiukka Beach\, Tervatie 1\, 88600 Sotkamo \nPunnitusaikataulu: 9:00 – 10:30 \nKilpailujen alkamisaika: 11:00 \nSarjat ja ikäluokat: Kaikki sarjat ja ikäluokat \nOsanottomaksu: 30 € yhdestä nostomuodosta\, 50 € jos osallistuu molempiin nostomuotoihin (klassinen & varuste) \nOsanottomäärä: Ei rajattu \nMilloin ilmoittauduttava: 30.6.2024 mennessä \nKenelle ilmoittauduttava: info@sotkamonvisa.fi \nMuut huomiot: XVII RANTAPENKKARIT 1. luokan tuomarit. Järjestäjä pidättää oikeuden aikataulumuutoksiin. Seuraa tiedotusta: www.sotkamonvisa.fi sekä tapahtumasivu Visan Facebookissa. \nKilpailuun osallistuvan nostajan on ilmoittautumisen yhteydessä ilmoitettava nostaako klassisessa\, varuste- vai molemmissa nostomuodoissa. Kilpailija voi osallistua vain yhden ikäluokan kisaan/nostomuoto. ILMOITA IKÄ-JA PAINOLUOKKA\, NIMI\, SYNTYMÄVUOSI JA SEURA (toistovoimassa seura tai kotipaikka). \nPalkitseminen: Kaikki palkitaan. \nKolme parasta klassisen nostajaa (IPF GL-pisteet) palkitaan pokaalein seuraavissa luokissa: Naiset\, naiset alle 23v\, naiset yli 40v\, miehet\, miehet alle 23v\, miehet 40-54v\, miehet yli 55v. \nKolme parasta varustesarjojen nostajaa (IPF GL-pisteet) palkitaan pokaalein seuraavissa luokissa: miehet ja naiset. \nTapahtumaan sisältyy myös toistovoimapunnerrus\, kilpailukutsu julkaistaan osoitteessa https://suomenvoimapunnerrus.fi/ Joukkuekilpailun pisteitä kertyy tuttuun tapaan jokaisesta palkintoluokasta! \nLisätietoja: info@sotkamonvisa.fi
URL:https://www.suomenvoimanostoliitto.fi/tapahtuma/xvii-rantapenkkarit-kansallinen-penkkipunnerruskilpailu-so-vi/
LOCATION:Hiukka Beach\, Tervatie 1\, Sotkamo\, 88600\, Suomi
CATEGORIES:Kansallinen kilpailu
ORGANIZER;CN="Sotkamon Visa ry":MAILTO:villenisk@gmail.com
END:VEVENT
BEGIN:VEVENT
DTSTART;TZID=Europe/Helsinki:20240721T083000
DTEND;TZID=Europe/Helsinki:20240721T170000
DTSTAMP:20260420T200123
CREATED:20240429T123703Z
LAST-MODIFIED:20240429T123703Z
UID:17040-1721550600-1721581200@www.suomenvoimanostoliitto.fi
SUMMARY:Kansallinen penkkipunnerruskilpailu (PV)
DESCRIPTION:Kilpailujen järjestäjä: Pietarsaaren Voimailijat \nKilpailupäivä: 2024-07-21 \nKilpailun tyyppi: Kansallinen \nMikä kilpailu on kyseessä: Penkkipunnerrus \nKilpailupaikka osoitteineen: Jeppis Gym Koulukatu 25\, 68600 Pietarsaari \nPunnitusaikataulu: 8.30-9.30 \nKilpailujen alkamisaika: 10 \nSarjat ja ikäluokat: kaikki sarjat \nOsanottomaksu: 25€  maksetaan tilille  FI08 5567 0720 1183 42 \nOsanottomäärä: Ei rajattu \nMilloin ilmoittauduttava: 11.7 mennessä \nKenelle ilmoittauduttava: Juhani Salo 045-6952959  tekstiviesti / whatsapp \nMuut huomiot: lyhyt punnitus \nLisätietoja: salojuh@hotmail.com
URL:https://www.suomenvoimanostoliitto.fi/tapahtuma/kansallinen-penkkipunnerruskilpailu-pv/
LOCATION:Jeppis Gym\, Koulukatu 25\, Pietarsaari\, 68600\, Suomi
CATEGORIES:Kansallinen kilpailu
ORGANIZER;CN="Pietarsaaren Voimailijat":MAILTO:salojuh@hotmail.com
END:VEVENT
BEGIN:VEVENT
DTSTART;TZID=Europe/Helsinki:20240721T103000
DTEND;TZID=Europe/Helsinki:20240721T170000
DTSTAMP:20260420T200123
CREATED:20240429T123511Z
LAST-MODIFIED:20240429T123511Z
UID:17038-1721557800-1721581200@www.suomenvoimanostoliitto.fi
SUMMARY:Kansallinen Voimanostokilpailu (PV)
DESCRIPTION:Kilpailujen järjestäjä: Pietarsaaren Voimailijat \nKilpailupäivä: 2024-07-21 \nKilpailun tyyppi: Kansallinen \nMikä kilpailu on kyseessä: Voimanosto \nKilpailupaikka osoitteineen: Jeppis Gym Koulukatu 25\, 68600 Pietarsaari \nPunnitusaikataulu: 10.30-11.30 \nKilpailujen alkamisaika: 12.00 \nSarjat ja ikäluokat: kaikki sarjat \nOsanottomaksu: 30€  maksetaan tilille  FI08 5567 0720 1183 42 \nOsanottomäärä: ei rajattu \nMilloin ilmoittauduttava: 11.7 mennessä \nKenelle ilmoittauduttava: Juhani Salo 045-6952959  tekstiviesti / whatsapp \nMuut huomiot: lyhyt punnitus \nLisätietoja:
URL:https://www.suomenvoimanostoliitto.fi/tapahtuma/kansallinen-voimanostokilpailu-pv/
LOCATION:Jeppis Gym\, Koulukatu 25\, Pietarsaari\, 68600\, Suomi
CATEGORIES:Kansallinen kilpailu
ORGANIZER;CN="Pietarsaaren Voimailijat":MAILTO:salojuh@hotmail.com
END:VEVENT
BEGIN:VEVENT
DTSTART;TZID=Europe/Helsinki:20240731T190000
DTEND;TZID=Europe/Helsinki:20240731T203000
DTSTAMP:20260420T200123
CREATED:20240711T065622Z
LAST-MODIFIED:20240711T065622Z
UID:17748-1722452400-1722457800@www.suomenvoimanostoliitto.fi
SUMMARY:Avoin webinaari - kilpailuissa toimiminen ja taktikointi (Kaj Mattila)
DESCRIPTION:Päävalmentaja Kaj Mattila isännöi webinaaria kilpailuissa toimimisesta ja taktikoinnista. \nLuento on hyvä kaikille ja kaikentasoisille nostajille ja valmentajille. \nAiheeseen liittyviä ennakkokysymyksiä ja -toiveita voi lähettää tästä. \nTEAM \nMicrosoft Teams-linkki: \nTarvitsetko apua? \nLiity kokoukseen nyt \nKokoustunnus: 357 778 246 301 \nTunnuskoodi: sDc4M5 \nJärjestäjille: Kokousvaihtoehdot \n 
URL:https://www.suomenvoimanostoliitto.fi/tapahtuma/avoin-webinaari-kilpailuissa-toimiminen-ja-taktikointi-kaj-mattila/
LOCATION:Teams
CATEGORIES:Koulutus
END:VEVENT
END:VCALENDAR