BEGIN:VCALENDAR
VERSION:2.0
PRODID:-//Suomen Voimanostoliitto ry - ECPv6.9.0//NONSGML v1.0//EN
CALSCALE:GREGORIAN
METHOD:PUBLISH
X-ORIGINAL-URL:https://www.suomenvoimanostoliitto.fi
X-WR-CALDESC:Events for Suomen Voimanostoliitto ry
REFRESH-INTERVAL;VALUE=DURATION:PT1H
X-Robots-Tag:noindex
X-PUBLISHED-TTL:PT1H
BEGIN:VTIMEZONE
TZID:Europe/Helsinki
BEGIN:DAYLIGHT
TZOFFSETFROM:+0200
TZOFFSETTO:+0300
TZNAME:EEST
DTSTART:20240331T010000
END:DAYLIGHT
BEGIN:STANDARD
TZOFFSETFROM:+0300
TZOFFSETTO:+0200
TZNAME:EET
DTSTART:20241027T010000
END:STANDARD
END:VTIMEZONE
BEGIN:VEVENT
DTSTART;TZID=Europe/Helsinki:20240608T100000
DTEND;TZID=Europe/Helsinki:20240608T170000
DTSTAMP:20260420T211651
CREATED:20240327T095324Z
LAST-MODIFIED:20240327T100111Z
UID:16506-1717840800-1717866000@www.suomenvoimanostoliitto.fi
SUMMARY:Jäsentenvälinen voimanostokilpailu (HAK)
DESCRIPTION:Kilpailujen järjestäjä: Helsingin Atleettiklubi \nKilpailupäivä: 2024-06-08 \nKilpailun tyyppi: Jäsentenvälinen \nMikä kilpailu on kyseessä: Voimanosto \nKilpailupaikka osoitteineen: Tallberginkatu 1D\, 00180 Helsinki \nPunnitusaikataulu: 10.00-11.30 \nKilpailujen alkamisaika: 12.00 \nSarjat ja ikäluokat: Naiset ja miehet\, avoin \nOsanottomaksu: Ei maksua \nOsanottomäärä: Korkeintaan kaksi ryhmää \nMilloin ilmoittauduttava: 31.5.2024 \nKenelle ilmoittauduttava: Katja Lariola katja.lariola@gmail.com \nMuut huomiot: Jäsentenvälinen\, ei ulkopuolisia nostajia \nLisätietoja: Katja Lariola katja.lariola@gmail.com
URL:https://www.suomenvoimanostoliitto.fi/tapahtuma/jasentenvalinen-voimanostokilpailu-hak-5/
LOCATION:Tallberginkatu 1D/130\, Tallberginkatu 1 D / 130\, Helsinki\, 00180
CATEGORIES:Jäsentenvälinen
ORGANIZER;CN="Helsingin Atleettiklubi r.y.":MAILTO:katja.lariola@gmail.com
END:VEVENT
BEGIN:VEVENT
DTSTART;TZID=Europe/Helsinki:20240608T113000
DTEND;TZID=Europe/Helsinki:20240608T170000
DTSTAMP:20260420T211651
CREATED:20240513T080331Z
LAST-MODIFIED:20240513T080331Z
UID:17123-1717846200-1717866000@www.suomenvoimanostoliitto.fi
SUMMARY:Jäsentenvälinen voimanostokilpailu (Team LIKE)
DESCRIPTION:Kilpailujen järjestäjä: Team LIKE ry \nKilpailupäivä: 2024-06-08 \nKilpailun tyyppi: Jäsentenvälinen \nMikä kilpailu on kyseessä: Voimanosto \nKilpailupaikka osoitteineen: liikuntakeskus LIKE\, Parolantie 106\, 13130 Hämeenlinna \nPunnitusaikataulu: 11.30-12.30 \nKilpailujen alkamisaika: 13.00 \nSarjat ja ikäluokat: kaikki sarjat ja ikäluokat \nOsanottomaksu: seuran jäsenille ei maksua \nOsanottomäärä: ei rajattu \nMilloin ilmoittauduttava: 2.6.2024 mennessä \nKenelle ilmoittauduttava: Janika Silvennoinen\, teamlikehml@gmail.com \nMuut huomiot: \nLisätietoja:
URL:https://www.suomenvoimanostoliitto.fi/tapahtuma/jasentenvalinen-voimanostokilpailu-team-like-5/
LOCATION:Liikuntakeskus LIKE\, Parolantie 106\, Hämeenlinna\, 13130\, Suomi
CATEGORIES:Jäsentenvälinen
ORGANIZER;CN="Team LIKE ry":MAILTO:hrantala82@gmail.com
END:VEVENT
BEGIN:VEVENT
DTSTART;TZID=Europe/Helsinki:20240608T143000
DTEND;TZID=Europe/Helsinki:20240608T170000
DTSTAMP:20260420T211651
CREATED:20240520T075914Z
LAST-MODIFIED:20240528T114426Z
UID:17200-1717857000-1717866000@www.suomenvoimanostoliitto.fi
SUMMARY:Kansallinen voimanostokilpailu (Pietarsaaren Voimailijat)
DESCRIPTION:Kilpailujen järjestäjä: Pietarsaaren Voimailijat \nKilpailupäivä: 2024-06-08 \nKilpailun tyyppi: Kansallinen \nMikä kilpailu on kyseessä: Voimanosto \nKilpailupaikka osoitteineen: Jeppis Gym Koulukatu 25\, 68600 Pietarsaari \nPunnitusaikataulu: 14.30-15.30 \nKilpailujen alkamisaika: 16.00 \nSarjat ja ikäluokat: kaikki sarjat \nOsanottomaksu: 30€  maksetaan tilille  FI08 5567 0720 1183 42 \nOsanottomäärä: ei rajattu \nMilloin ilmoittauduttava: 30.5 mennessä. \nKenelle ilmoittauduttava: Juhani Salo 045-6952959  tekstiviesti / whatsapp Muut huomiot: \nLisätietoja: salojuh@hotmail.com
URL:https://www.suomenvoimanostoliitto.fi/tapahtuma/jasentenvalinen-voimanostokilpailu-pietarsaaren-voimailijat/
LOCATION:Jeppis Gym\, Koulukatu 25\, Pietarsaari\, 68600\, Suomi
CATEGORIES:Kansallinen kilpailu
ORGANIZER;CN="Pietarsaaren Voimailijat":MAILTO:salojuh@hotmail.com
END:VEVENT
BEGIN:VEVENT
DTSTART;TZID=Europe/Helsinki:20240615T090000
DTEND;TZID=Europe/Helsinki:20240615T170000
DTSTAMP:20260420T211651
CREATED:20231208T075823Z
LAST-MODIFIED:20240316T154544Z
UID:14595-1718442000-1718470800@www.suomenvoimanostoliitto.fi
SUMMARY:Kansallinen voimanostokilpailu (Rannikon Voima)
DESCRIPTION:KILPAILU ON JO TÄYNNÄ! \nKilpailujen järjestäjä: Rannikon Voima ry \nKilpailupäivä: 2024-06-15 \nKilpailun tyyppi: Kansallinen \nMikä kilpailu on kyseessä: Voimanosto \nKilpailupaikka osoitteineen: Littoisten monitoimitalo\, Tallakatu 2\, 20660 Littoinen \nPunnitusaikataulu: 9-10:30 \nKilpailujen alkamisaika: 11:00 \nSarjat ja ikäluokat: Kaikki sarjat ja ikäluokat / klassinen ja varuste. \nOsanottomaksu: 40€ \nOsanottomäärä: 28 \nMilloin ilmoittauduttava: 24.5.2024 \nKenelle ilmoittauduttava: rannikonvoima@gmail.com \nMuut huomiot: KESÄN KUUMIMMAT KISAT TULEE TAAS! \nIlmoittautumiset 24.5.2023 mennessä sähköpostilla osoitteeseen: rannikonvoima@gmail.com. Liitä sähköpostiin kuva voimassaolevasta lisenssistä ja kirjoita sähköpostiin: \n– nimi (etunimi\, sukunimi) \n– seura \n– syntymäpäivä \n– ikä- ja painoluokka \n– puhelinnumero \n– sähköposti \nMaksa osallistumismaksu ilmoittautumisen yhteydessä Rannikon Voima RY:n tilille FI49 4714 0010 0816 68\, kirjoita viestikenttään: ”Kilpailumaksu\, kilpailijan nimi sekä edustama seura”. \nLisätietoja: rannikonvoima@gmail.com tai 0409606629 (Marika R.) / 0440432185 (Minna P.)
URL:https://www.suomenvoimanostoliitto.fi/tapahtuma/kansallinen-voimanostokilpailu-rannikon-voima-2/
LOCATION:Littoisten monitoimitalo\, Tallakatu 2\, Littoinen\, 20660\, Suomi
CATEGORIES:Kansallinen kilpailu
ORGANIZER;CN="Rannikon Voima ry":MAILTO:ravinkisat@gmail.com
END:VEVENT
BEGIN:VEVENT
DTSTART;TZID=Europe/Helsinki:20240615T100000
DTEND;TZID=Europe/Helsinki:20240615T170000
DTSTAMP:20260420T211651
CREATED:20240402T070418Z
LAST-MODIFIED:20240402T101624Z
UID:16608-1718445600-1718470800@www.suomenvoimanostoliitto.fi
SUMMARY:Kansallinen voimanostokilpailu (Pomarkun Pyry)
DESCRIPTION:Kilpailujen järjestäjä: Pomarkun Pyry ry \nKilpailupäivä: 2024-06-15 \nKilpailun tyyppi: Kansallinen \nMikä kilpailu on kyseessä: Voimanosto \nKilpailupaikka osoitteineen: Pomarkun Monitoimihalli\, Harjantie 1\, 29630 Pomarkku \nPunnitusaikataulu: 10:00-11:30 \nKilpailujen alkamisaika: 12:00 \nSarjat ja ikäluokat: Kaikki sarjat ja ikäluokat \nOsanottomaksu: \n40€\, maksetaan ilmoittautumisen yhteydessä Suomisportin kautta. \nOsanottomäärä: 32 nostajaa \nMilloin ilmoittauduttava: 10.6 mennessä \nKenelle ilmoittauduttava: https://www.suomisport.fi/events/6382bbf6-38fd-4aee-8885-0cfad66a937d \nMuut huomiot: SE tulosten teko mahdollista \nLisätietoja: Jouni Vähäsantanen 045-1105959 tai pomarkun.pyry@gmail.com
URL:https://www.suomenvoimanostoliitto.fi/tapahtuma/kansallinen-voimanostokilpailu-pomarkun-pyry-5/
LOCATION:Pomarkun Monitoimihalli\, Harjantie 1\, Pomarkku\, 29630\, Suomi
CATEGORIES:Kansallinen kilpailu
END:VEVENT
BEGIN:VEVENT
DTSTART;TZID=Europe/Helsinki:20240629T090000
DTEND;TZID=Europe/Helsinki:20240629T170000
DTSTAMP:20260420T211651
CREATED:20240108T052338Z
LAST-MODIFIED:20240515T080909Z
UID:15059-1719651600-1719680400@www.suomenvoimanostoliitto.fi
SUMMARY:Kansallinen penkkipunnerruskilpailu (ÅKK)
DESCRIPTION:Kilpailujen järjestäjä: Ålands Kraftsportklubb r.f. \nKilpailupäivä: 2024-06-29 \nKilpailun tyyppi: Kansallinen \nMikä kilpailu on kyseessä: Penkkipunnerrus \nKilpailupaikka osoitteineen: Torget i Mariehamn\, Torggatan 13\, 22100 Mariehamn \nPunnitusaikataulu: 09.00-10.30 \nKilpailujen alkamisaika: 11.00 \nSarjat ja ikäluokat: Info finns nedan \nOsanottomaksu: 35 € \nOsanottomäärä: – \nMilloin ilmoittauduttava: 08.06.2024 \nKenelle ilmoittauduttava: info@kraftsport.nu eller på listan i gymmet Muut huomiot: Åland Sport Week / Bänkpress-SFIM Alla tävlar i öppen åldersklass och tävlingen avgörs enligt IPFGL-poäng i fyra olika viktklasser; \n– Lättvikt (damer -47 kg och -52 kg\, samt herrar -59 kg och -66 kg) \n– Mellanvikt (damer -57 kg och -63 kg\, samt herrar -74 kg och -83 kg) \n– Lätt tungvikt (damer -69 kg och -76 kg\, samt herrar -93 kg och -105 kg) \n– Tungvikt (damer -84 kg och 84+ kg\, samt herrar -120 kg och 120+ kg) Tävlingen hålls utomhus i Mariehamns absoluta centrum. Vid dåligt väder hålls den inomhus på Idrottsgården\, Neptunigatan 23\, 22100 Mariehamn. \nMedaljer till topp-3 i lättvikt\, mellanvikt\, lätt tungvikt samt tungvikt. Ytterligare pris till bästa dam- respektive herrlyftare. Tävlingen är både klassisk och med utrustning. Domare med rätt att döma nationella rekord kommer att finnas. En överenskommelse med Svenska Styrkelyftförbundet har även möjliggjort deltagande för tävlande från Sverige (dispensansökan till tävlingskommittén i Sverige behövs dock). \nÅland Sport Week är ett nytt koncept med drygt 10 olika idrotter\, som pågår i fyra dagar på Åland\, mestadels i Mariehamn. \nMera info: https://www.alandsportweek.ax/sv \nAnmälan behöver innehålla namn\, födelseår\, nationalitet\, viktklass samt klassisk eller med utrustning. \nAnmälningsavgift: 35 E. \nHela summan betalas i en avgift till ÅKKs konto FI0255780440014794 \nBIC/SWIFT: OKOYFIHH \nSista anmälningsdag: 08.06.2024\nAnmälningsavgift återbetalas ej vid utebliven tävlingsstart. OBS! Klassfast anmälan. Viktklass kan inte bytas efter 8.6.2024. \nUr ett dopingkontrollperspektiv betraktas tävlingen som en internationell tävling\, varför internationella dopingregler ska beaktas och att eventuella dispensansökningar för mediciner\, behandlingar o.liknande ska sökas. \nLisätietoja: info@kraftsport.nu
URL:https://www.suomenvoimanostoliitto.fi/tapahtuma/kansallinen-penkkipunnerruskilpailu-akk/
LOCATION:Torggatan 13\, Torggatan 13\, Mariehamn\, 22100\, Suomi
CATEGORIES:Kansallinen kilpailu
ORGANIZER;CN="%C3%85lands Kraftsportklubb":MAILTO:info@kraftsport.nu
END:VEVENT
BEGIN:VEVENT
DTSTART;TZID=Europe/Helsinki:20240629T130000
DTEND;TZID=Europe/Helsinki:20240629T160000
DTSTAMP:20260420T211651
CREATED:20240502T104537Z
LAST-MODIFIED:20240526T053718Z
UID:17065-1719666000-1719676800@www.suomenvoimanostoliitto.fi
SUMMARY:Tuomarikoulutus ja -koe Kankaanpäässä 29.6.
DESCRIPTION:Kankaanpään Voimailijat järjestää kansallisen II luokan tuomarikoulutuksen ja -kokeen 29.6.2024 klo 13. Osoite: Rautatienkatu 3\, Kankaanpää. Kouluttajana Margetta Salminen Int Cat 1. \nSeuran ulkopuolisilta osallistumismaksu 20 €. Ilmoittautumiset ja lisätietoja: kankaanpaan.voimailijat@gmail.com
URL:https://www.suomenvoimanostoliitto.fi/tapahtuma/tuomarikoulutus-ja-koe-kankaanpaassa-29-6/
END:VEVENT
BEGIN:VEVENT
DTSTART;TZID=Europe/Helsinki:20240629T170000
DTEND;TZID=Europe/Helsinki:20240629T210000
DTSTAMP:20260420T211651
CREATED:20240402T165634Z
LAST-MODIFIED:20240504T110837Z
UID:16624-1719680400-1719694800@www.suomenvoimanostoliitto.fi
SUMMARY:Karjalan mestari - kansallinen voimanoston kutsukisa (IdVo)
DESCRIPTION:Kilpailujen järjestäjä: Idän Voimailijat ry \nKilpailupäivä: 2024-06-29 \nKilpailun tyyppi: Kansallinen \nMikä kilpailu on kyseessä: Voimanosto \nKilpailupaikka osoitteineen: Joensuun kauppatori \nPunnitusaikataulu: klo 17:00-18:30 \nKilpailujen alkamisaika: klo 19:00 \nSarjat ja ikäluokat: kaikki sarjat ja ikäluokat \nOsanottomaksu: ei osanottomaksua \nOsanottomäärä: 14 \nMilloin ilmoittauduttava: Kutsukisa \nKenelle ilmoittauduttava: Kutsukisa – Kisakutsut lähetetään sähköpostilla kisaan kutsutuille nostajille. \nMuut huomiot: Klassisen voimanoston kutsukisa\, jossa naisten ja miesten sarjan voittajalle luvassa rahapalkinto. I-tason tuomarit. Kisakutsut lähetetään sähköpostilla kisaan kutsutuille nostajille. \nLisätietoja: Henna Niikko-Pirhonen 050 490 9266\, idanvoimailijat@gmail.com
URL:https://www.suomenvoimanostoliitto.fi/tapahtuma/karjalan-mestari-kansallinen-voimanoston-kutsukisa-jopupo/
LOCATION:Joensuun Kauppatori\, Joensuu
CATEGORIES:Messutapahtuma
END:VEVENT
END:VCALENDAR