BEGIN:VCALENDAR
VERSION:2.0
PRODID:-//Suomen Voimanostoliitto ry - ECPv6.9.0//NONSGML v1.0//EN
CALSCALE:GREGORIAN
METHOD:PUBLISH
X-WR-CALNAME:Suomen Voimanostoliitto ry
X-ORIGINAL-URL:https://www.suomenvoimanostoliitto.fi
X-WR-CALDESC:Events for Suomen Voimanostoliitto ry
REFRESH-INTERVAL;VALUE=DURATION:PT1H
X-Robots-Tag:noindex
X-PUBLISHED-TTL:PT1H
BEGIN:VTIMEZONE
TZID:Europe/Helsinki
BEGIN:DAYLIGHT
TZOFFSETFROM:+0200
TZOFFSETTO:+0300
TZNAME:EEST
DTSTART:20240331T010000
END:DAYLIGHT
BEGIN:STANDARD
TZOFFSETFROM:+0300
TZOFFSETTO:+0200
TZNAME:EET
DTSTART:20241027T010000
END:STANDARD
END:VTIMEZONE
BEGIN:VEVENT
DTSTART;TZID=Europe/Helsinki:20240504T093000
DTEND;TZID=Europe/Helsinki:20240504T170000
DTSTAMP:20260424T142726
CREATED:20240306T120940Z
LAST-MODIFIED:20240306T121009Z
UID:16175-1714815000-1714842000@www.suomenvoimanostoliitto.fi
SUMMARY:Kansallinen penkkipunnerruskilpailu (KoJy)
DESCRIPTION:Kilpailujen järjestäjä: Kokkolan Jymy \nKilpailupäivä: 2024-05-04 \nKilpailun tyyppi: Kansallinen \nMikä kilpailu on kyseessä: Penkkipunnerrus \nKilpailupaikka osoitteineen: Kokkolan urheilutalo\, \nVapaudentie 1 Kokkola \nPunnitusaikataulu: 09.30-10.30 \nKilpailujen alkamisaika: 11.00 \nSarjat ja ikäluokat: kaikki \nOsanottomaksu: 30€ tilille FI56 5162 0020 1473 96  28.4 mennessä \nOsanottomäärä: ei rajattu \nMilloin ilmoittauduttava: 28.4.2024 klo 21 mennessä \nKenelle ilmoittauduttava: janika.kivela79@gmail.com \nMuut huomiot: lyhyt punnitus \nilmoittautuessa: nimi\, sv\, seura\, ikäluokka/sarja \nLisätietoja: Jari Friisiltä puh. 0400 481 758 sekä Janika Kivelältä puh. 040 776 4220
URL:https://www.suomenvoimanostoliitto.fi/tapahtuma/kansallinen-penkkipunnerruskilpailu-kojy-3/
LOCATION:Kokkolan urheilutalo\, Vapaudentie 1\, KOKKOLA\, 67100\, Finland
CATEGORIES:Kansallinen kilpailu
ORGANIZER;CN="Kokkolan Jymy":MAILTO:pette@anvianet.fi
END:VEVENT
BEGIN:VEVENT
DTSTART;TZID=Europe/Helsinki:20240511T120000
DTEND;TZID=Europe/Helsinki:20240511T160000
DTSTAMP:20260424T142726
CREATED:20240412T115456Z
LAST-MODIFIED:20240412T115456Z
UID:16777-1715428800-1715443200@www.suomenvoimanostoliitto.fi
SUMMARY:Tuomarikoulutus ja -koe 11.5.2024
DESCRIPTION:Joensuun Puntti-Pojat järjestää kansallisen II luokan tuomarikoulutuksen ja kokeen 11.5.2024 klo 12. Koulutuspaikkana Marjalan ABC:n kokoustila\, Marjalantie 18\, 80140 Joensuu. Osallistumismaksu ulkopuolisilta 20 euroa\, sis. kahvi/tee + suolainen kahvileipä. Kokeeseen osallistuvilta vaaditaan svnl:n jäsenseuran jäsenyys. Ilmoittautuminen 8.5. mennessä tarjoilujen takia p. 050 3515077 / Maria tai jopupovnvastaava@outlook.com
URL:https://www.suomenvoimanostoliitto.fi/tapahtuma/tuomarikoulutus-ja-koe-11-5-2024/
END:VEVENT
BEGIN:VEVENT
DTSTART;TZID=Europe/Helsinki:20240518T090000
DTEND;TZID=Europe/Helsinki:20240518T170000
DTSTAMP:20260424T142726
CREATED:20240118T170338Z
LAST-MODIFIED:20240125T091605Z
UID:15342-1716022800-1716051600@www.suomenvoimanostoliitto.fi
SUMMARY:Kansallinen voimanostokilpailu (Nordic Power)
DESCRIPTION:Kilpailujen järjestäjä: Nordic Power \nKilpailupäivä: 2024-05-18 \nKilpailun tyyppi: Kansallinen \nMikä kilpailu on kyseessä: Voimanosto \nKilpailupaikka osoitteineen: Vapaudentie 1 67100 Kokkola \nPunnitusaikataulu: 9.00-10.30 \nKilpailujen alkamisaika: 11.00 \nSarjat ja ikäluokat: Kaikki \nOsanottomaksu: 35e Tilille: FI0631311001367410 \nOsanottomäärä: Max 3 ryhmää\, Nostajat otetaan ilmoittautumisjärjestyksessä mukaan. Klassinen ja varuste sallittu. \nMilloin ilmoittauduttava: 12.5.24 Mennessä Kenelle ilmoittauduttava: nordic.power@outlook.com \nMuut huomiot: Osanottomaksu tilille: FI0631311001367410 Pidätämme oikeuden muutoksiin jos covid-19 tai jokin muu Force Majeure-tilanne sen vaatii. \nYkkösen tuomarit pyritään järjestämään\, mutta sitä ei voida luvata varmaksi. \nKerrothan mahdollisesta SE-yrityksestä ilmoittautumisen yhteydessä sähköpostissa. \nLisätietoja: Tomi Määttä 0503161638 (WA\,SMS priority)
URL:https://www.suomenvoimanostoliitto.fi/tapahtuma/kansallinen-voimanostokilpailu-nordic-power-3/
LOCATION:Vapaudentie 1\, Vapaudentie 1\, Kokkola\, 67100\, Suomi
CATEGORIES:Kansallinen kilpailu
ORGANIZER;CN="Nordic Power":MAILTO:nordic.power@outlook.com
END:VEVENT
BEGIN:VEVENT
DTSTART;TZID=Europe/Helsinki:20240518T090000
DTEND;TZID=Europe/Helsinki:20240518T170000
DTSTAMP:20260424T142726
CREATED:20240202T150956Z
LAST-MODIFIED:20240202T150956Z
UID:15717-1716022800-1716051600@www.suomenvoimanostoliitto.fi
SUMMARY:Kansallinen voimanostokilpailu (YlöR)
DESCRIPTION:Kilpailujen järjestäjä: Ylöjärven Ryhti ry \nKilpailupäivä: 2024-05-18 \nKilpailun tyyppi: Kansallinen \nMikä kilpailu on kyseessä: Voimanosto \nKilpailupaikka osoitteineen: Ylöjärven Urheilutalo\, Koulutie 6\, 33470 Ylöjärvi \nPunnitusaikataulu: 09.00-10.30 \nKilpailujen alkamisaika: Klo 11 \nSarjat ja ikäluokat: Kaikki sarjat ja ikäluokat \nOsanottomaksu: 40 \nOsanottomäärä: 24 \nMilloin ilmoittauduttava: Viimeistään 10.5.2024 \nKenelle ilmoittauduttava: Päivi Ristolainen\, paivi.ristolainen@cimson.fi tai Whats App 050 536 5768 Muut huomiot: Kilpailumaksu maksetaan tilille FI73 5537 0120 1523 02/Ylöjärven ryhti voimailujaosto \nLisätietoja: Päivi Ristolainen 050 536 5768
URL:https://www.suomenvoimanostoliitto.fi/tapahtuma/kansallinen-voimanostokilpailu-ylor-2/
LOCATION:Ylöjärven Urheilutalo\, Koulutie 6\, Ylöjärvi\, 33470\, Finland
CATEGORIES:Kansallinen kilpailu
ORGANIZER;CN="Yl%C3%B6j%C3%A4rven Ryhti":MAILTO:paivi.ristolainen@cimson.fi
END:VEVENT
BEGIN:VEVENT
DTSTART;TZID=Europe/Helsinki:20240518T090000
DTEND;TZID=Europe/Helsinki:20240518T170000
DTSTAMP:20260424T142726
CREATED:20240305T130831Z
LAST-MODIFIED:20240305T130831Z
UID:16167-1716022800-1716051600@www.suomenvoimanostoliitto.fi
SUMMARY:Kansallinen voimanostokilpailu (Team365)
DESCRIPTION:Kilpailujen järjestäjä: Team365 ry \nKilpailupäivä: 2024-05-18 \nKilpailun tyyppi: Kansallinen \nMikä kilpailu on kyseessä: Voimanosto \nKilpailupaikka osoitteineen: Sali365\, Viljatie 5\, 00700 Helsinki \nPunnitusaikataulu: 9:00-10:30 \nKilpailujen alkamisaika: 11:00 \nSarjat ja ikäluokat: kaikki sarjat ja ikäluokat. \nOsanottomaksu: 35€ maksetaan tilille FI30 5780 5520 0496 89\, viimeistään 11.5.2024. \nOsanottomäärä: max 30 nostajaa \nMilloin ilmoittauduttava: 11.5.2024 mennessä \nKenelle ilmoittauduttava: info@team365.fi \nMuut huomiot: Muista mainita ilmoittautumisessa: Syntymäaika\, ikä- ja painoluokka sekä seura jota edustat.  Voimassa oleva lisenssi tarkastetaan punnistuksen yhteydessä. Riippuen osallistuja määrästä voidaan punnituksen ja kisojen alkamisajankohtaa tarvittaessa muuttaa. Muutos tehdään viimeistään viikkoa ennen kilpailua. Kisojen tiedottaminen: seuran FB ja Insta tileillä. Todennäköisesti paikalla 1.lk tuomarit. Varmista tilanne ennen kisoja jos mielessä Suomen ennätyksen parantaminen. \nLisätietoja: Simo Sistonen p. 044 981 3399\, info@team365.fi
URL:https://www.suomenvoimanostoliitto.fi/tapahtuma/kansallinen-voimanostokilpailu-team365/
LOCATION:Sali365\, Viljatie 5\, Helsinki\, 00700\, Suomi
CATEGORIES:Kansallinen kilpailu
ORGANIZER;CN="Team365ry":MAILTO:info@team365.fi
END:VEVENT
BEGIN:VEVENT
DTSTART;TZID=Europe/Helsinki:20240518T090000
DTEND;TZID=Europe/Helsinki:20240518T170000
DTSTAMP:20260424T142726
CREATED:20240423T131320Z
LAST-MODIFIED:20240423T131320Z
UID:16933-1716022800-1716051600@www.suomenvoimanostoliitto.fi
SUMMARY:Kansallinen penkkipunnerruskilpailu (PV-81)
DESCRIPTION:Kilpailujen järjestäjä: Porin Voimailijat-81 ry \nKilpailupäivä: 2024-05-18 \nKilpailun tyyppi: Kansallinen \nMikä kilpailu on kyseessä: Penkkipunnerrus \nKilpailupaikka osoitteineen: Satakunnankatu 33-35 A\, 3.kerros\, 28130 Pori \nPunnitusaikataulu: klo 9.00 lyhyt punnitus \nKilpailujen alkamisaika: klo 11.00 \nSarjat ja ikäluokat: kaikki sarjat ja ikäluokat \nOsanottomaksu: 50€/kutsuttu seura \nOsanottomäärä: max 2 ryhmää \nMilloin ilmoittauduttava: 10.5.2024 \nKenelle ilmoittauduttava: porinvoimailijat81@gmail.com \nMuut huomiot: Kutsujoukkuekilpailu Satakunnan penkkipunnerrusmestaruus. Jokaisen seuran nostajien ipf-pisteet lasketaan yhteen ja näistä paras seurajoukkue palkitaan. Voittajaseura saa kiertopalkinnon. Joukkueessa on 3 noistajaa\, joista vähintään 1 nainen ja 1 juniori. \nKisamaksuja ei palauteta. \nKakkosluokan tuomarit. \n  \nKisamaksut maksetaan Porin Voimailijat-81 ry tilille: FI25 5700 8150 0640 90\, viite 20226. \nLisätietoja: porinvoimailijat81@gmail.com
URL:https://www.suomenvoimanostoliitto.fi/tapahtuma/kansallinen-penkkipunnerruskilpailu-pv-81-2/
LOCATION:Satakunnankatu 33-35 A\, 3. kerros\, Satakunnankatu 33-35 A\, 3. kerros\, Pori\, Suomi
CATEGORIES:Kansallinen kilpailu
ORGANIZER;CN="Porin Voimailijat-81":MAILTO:jarkko.kemppi@outlook.com
END:VEVENT
BEGIN:VEVENT
DTSTART;TZID=Europe/Helsinki:20240518T100000
DTEND;TZID=Europe/Helsinki:20240518T170000
DTSTAMP:20260424T142726
CREATED:20240219T095606Z
LAST-MODIFIED:20240219T095606Z
UID:15894-1716026400-1716051600@www.suomenvoimanostoliitto.fi
SUMMARY:Kansallinen penkkipunnerruskilpailu (AavKi)
DESCRIPTION:Kilpailujen järjestäjä: Aavasaksan Kisa ry. \nKilpailupäivä: 2024-05-18 \nKilpailun tyyppi: Kansallinen \nMikä kilpailu on kyseessä: Penkkipunnerrus \nKilpailupaikka osoitteineen: Aavasaksan Kisan maja\, Antunojankuja 3\, Ylitornio \nPunnitusaikataulu: 10:00 – 11:30 \nKilpailujen alkamisaika: 12:00 \nSarjat ja ikäluokat: Kaikki sarjat ja ikäluokat \nOsanottomaksu: 40\,00 €\, maksetaan 15.5.2025 mennessä tilille Ylitornion OP FI37 5533 0020 0330 44 \nOsanottomäärä: Ei rajoitusta \nMilloin ilmoittauduttava: 15.5.2024 mennessä sähköpostitse tero-hyttinen@hotmail.com \nKenelle ilmoittauduttava: Tero Hyttinen \nMuut huomiot: \nLisätietoja: Tero Hyttinen\, gsm. 044 309 2263
URL:https://www.suomenvoimanostoliitto.fi/tapahtuma/kansallinen-penkkipunnerruskilpailu-aavki/
LOCATION:Aavasaksan Kisan maja\, Antunojankuja 3\, Ylitornio\, Suomi
CATEGORIES:Kansallinen kilpailu
ORGANIZER;CN="Aavasaksan Kisa ry":MAILTO:tero-hyttinen@hotmail.com
END:VEVENT
BEGIN:VEVENT
DTSTART;TZID=Europe/Helsinki:20240518T103000
DTEND;TZID=Europe/Helsinki:20240518T170000
DTSTAMP:20260424T142726
CREATED:20240308T114620Z
LAST-MODIFIED:20240308T114631Z
UID:16192-1716028200-1716051600@www.suomenvoimanostoliitto.fi
SUMMARY:Jäsentenvälinen voimanostokilpailu (Oasis Strenght Club)
DESCRIPTION:Kilpailujen järjestäjä: Oasis Strength Club \nKilpailupäivä: 2024-05-18 \nKilpailun tyyppi: Jäsentenvälinen \nMikä kilpailu on kyseessä: Voimanosto \nKilpailupaikka osoitteineen: Kuntokeidas Hämeenlinna\, Puhelinkatu 12 \nPunnitusaikataulu: 10:30-11:30 \nKilpailujen alkamisaika: 12:00 \nSarjat ja ikäluokat: Kaikki \nOsanottomaksu: 0 \nOsanottomäärä: 14 \nMilloin ilmoittauduttava: 13.05.2024 \nKenelle ilmoittauduttava: eevalkila@gmail.com \nMuut huomiot: \nLisätietoja: eevalkila@gmail.com
URL:https://www.suomenvoimanostoliitto.fi/tapahtuma/jasentenvalinen-voimanostokilpailu-oasis-strenght-club/
LOCATION:Hämeenlinnan Kuntokeidas\, Puhelinkatu 12\, Hämeenlinna\, 13130\, Suomi
CATEGORIES:Jäsentenvälinen
END:VEVENT
BEGIN:VEVENT
DTSTART;TZID=Europe/Helsinki:20240525T100000
DTEND;TZID=Europe/Helsinki:20240525T170000
DTSTAMP:20260424T142726
CREATED:20240227T054552Z
LAST-MODIFIED:20240227T054552Z
UID:16037-1716631200-1716656400@www.suomenvoimanostoliitto.fi
SUMMARY:Kansallinen voimanostokilpailu (Kuopion Painonnostajat)
DESCRIPTION:Kilpailujen järjestäjä: Kuopion Painonnostajat ry \nKilpailupäivä: 2024-05-25 \nKilpailun tyyppi: Kansallinen \nMikä kilpailu on kyseessä: Voimanosto \nKilpailupaikka osoitteineen: Rajalan väestönsuojan kuntosali\, Taivaankannenkatu\, Kuopio \nPunnitusaikataulu: 10:00-11:30 \nKilpailujen alkamisaika: 12:00 \nSarjat ja ikäluokat: Kaikki sarjat ja ikäluokat \nOsanottomaksu: 40€ \nOsanottomäärä: MAX. 30 \nMilloin ilmoittauduttava: 19.5. mennessä Kenelle ilmoittauduttava: kuopionpainonnostajat@gmail.com \nMuut huomiot: Ilmoittaessa: 1) Kilpailijan nimi 2) Seuran nimi ja lyhenne 3) Ikä- ja painoluokka 4) Klassinen vai varuste \nLisätietoja: kuopionpainonnostajat@gmail.com
URL:https://www.suomenvoimanostoliitto.fi/tapahtuma/kansallinen-voimanostokilpailu-kuopion-painonnostajat-2/
LOCATION:Rajalan väestönsuoja\, Rajalantie\, Kuopio\, Suomi
CATEGORIES:Kansallinen kilpailu
ORGANIZER;CN="Kuopion Painonnostajat":MAILTO:tuopuh@uef.fi
END:VEVENT
BEGIN:VEVENT
DTSTART;TZID=Europe/Helsinki:20240525T100000
DTEND;TZID=Europe/Helsinki:20240525T170000
DTSTAMP:20260424T142726
CREATED:20240415T075609Z
LAST-MODIFIED:20240415T075609Z
UID:16809-1716631200-1716656400@www.suomenvoimanostoliitto.fi
SUMMARY:Klassisen voimanoston 30. Helsinki-Tallinna-Tukholma Pääkaupunkiottelu (PSS)
DESCRIPTION:Kilpailujen järjestäjä: PääkaupunkiSeudun Seurayhtymä PSS \nKilpailupäivä: 2024-05-25 \nKilpailun tyyppi: Kansallinen \nMikä kilpailu on kyseessä: Voimanosto \nKilpailupaikka osoitteineen: Kontulan kuntokellari\, Ostoskuja 4\, Helsinki \nPunnitusaikataulu: klo 10:00-11:30 \nKilpailujen alkamisaika: klo 12:00 \nSarjat ja ikäluokat: Avoin miehet ja naiset. \nOsanottomaksu: Osallistumismaksua ei ole\, koska kyseessä on Helsinki-Tallinna-Tukholma kaupunkien välinen ystävyysottelu. \nOsanottomäärä: 18 (=6+6+6) nostajaa\, joilla on oltava voimassaoleva voimanostolisenssi. \nMilloin ilmoittauduttava: Viimeistään tiistaina 14.5.2024. PääkaupunkiSeudun Seurayhtymä PSS kokoaa Helsingin joukkueen syksyn 2023 Helsingin aluemestaruuskilpailun perusteella. Helsingin joukkueen nostajan on varmistettava osallistumisensa viimeistään tiistaina 14.5.2024. \nKenelle ilmoittauduttava: Jarkko Makkonen\, sähköposti: pss.voimanosto@gmail.com tai puh: 044 0188844.  Kilpailuun ilmoittautumisessa on mainittava ainakin seuraavat tiedot:  –#1) nostajan nimi\,–#2) nostajan syntymävuosi\, –#3) nostajan nimellä varustettu tuloste/todistus voimassaolevasta voimanostolisenssistä\, –#4) nostajan tai kilpailuun ilmoittajan yhteystiedot (nimi\, sähköposti ja/tai puhelinnumero) \nMuut huomiot: Kilpailu on klassisen voimanoston 30. Helsinki-Tallinna-Tukholma Pääkaupunkiottelu. \n– \nOsallistujalista ja muita lisätietoja kilpailusta on myös osoitteessa https://tikkurilankajastus.fi/PSS/kilpailut.php \n– \nTervetuloa nostamaan ja kannustamaan \nLisätietoja: https://tikkurilankajastus.fi/PSS/kilpailut.php sekä Jarkko Makkonen\, sähköposti: pss.voimanosto@gmail.com tai puh:  044 0188844
URL:https://www.suomenvoimanostoliitto.fi/tapahtuma/klassisen-voimanoston-30-helsinki-tallinna-tukholma-paakaupunkiottelu-pss/
LOCATION:Kontulan kuntokellari\, Ostoskuja 4\, Helsinki
CATEGORIES:Ystävyysottelu
ORGANIZER;CN="Tikkurilan Kajastus ry":MAILTO:tikkurilankajastus@gmail.com
END:VEVENT
BEGIN:VEVENT
DTSTART;TZID=Europe/Helsinki:20240530T163000
DTEND;TZID=Europe/Helsinki:20240530T210000
DTSTAMP:20260424T142726
CREATED:20240327T095532Z
LAST-MODIFIED:20240327T115406Z
UID:16513-1717086600-1717102800@www.suomenvoimanostoliitto.fi
SUMMARY:Kansallinen voimanostokilpailu (HeTarmo)
DESCRIPTION:Kilpailujen järjestäjä: Helsingin Tarmo \nKilpailupäivä: 2024-05-30 \nKilpailun tyyppi: Kansallinen \nMikä kilpailu on kyseessä: Voimanosto \nKilpailupaikka osoitteineen: Ratsastie 10 00280 Helsinki \nPunnitusaikataulu: 16.30 \nKilpailujen alkamisaika: 18.00 \nSarjat ja ikäluokat: Kaikki \nOsanottomaksu: Ulkopuolisille 20 € ja seuran jäsenille ilmainen \nOsanottomäärä: MAX 10 \nMilloin ilmoittauduttava: 20.5.2024 \nKenelle ilmoittauduttava: hetakisailmot.voimanosto@gmail.com \nMuut huomiot: Kun lähetät ilmoitusviestin saat paluuviestinä tilinumeron osallistumismaksua varten. \nLisätietoja: hetakisailmot.voimanosto@gmail.com
URL:https://www.suomenvoimanostoliitto.fi/tapahtuma/kansallinen-voimanostokilpailu-hetarmo/
LOCATION:ratsastie 10\, Ratsastie 10\, HELSINKI\, Uusimaa\, 00280\, Finland
CATEGORIES:Kansallinen kilpailu
ORGANIZER;CN="Helsingin Tarmo":MAILTO:hetakisailmot.voimanosto@gmail.com
END:VEVENT
END:VCALENDAR