BEGIN:VCALENDAR
VERSION:2.0
PRODID:-//Suomen Voimanostoliitto ry - ECPv6.9.0//NONSGML v1.0//EN
CALSCALE:GREGORIAN
METHOD:PUBLISH
X-WR-CALNAME:Suomen Voimanostoliitto ry
X-ORIGINAL-URL:https://www.suomenvoimanostoliitto.fi
X-WR-CALDESC:Events for Suomen Voimanostoliitto ry
REFRESH-INTERVAL;VALUE=DURATION:PT1H
X-Robots-Tag:noindex
X-PUBLISHED-TTL:PT1H
BEGIN:VTIMEZONE
TZID:Europe/Helsinki
BEGIN:DAYLIGHT
TZOFFSETFROM:+0200
TZOFFSETTO:+0300
TZNAME:EEST
DTSTART:20230326T010000
END:DAYLIGHT
BEGIN:STANDARD
TZOFFSETFROM:+0300
TZOFFSETTO:+0200
TZNAME:EET
DTSTART:20231029T010000
END:STANDARD
END:VTIMEZONE
BEGIN:VEVENT
DTSTART;TZID=Europe/Helsinki:20231216T093000
DTEND;TZID=Europe/Helsinki:20231217T170000
DTSTAMP:20260420T194201
CREATED:20231216T073000Z
LAST-MODIFIED:20231127T210143Z
UID:13542-1702719000-1702832400@www.suomenvoimanostoliitto.fi
SUMMARY:Varustepenkkipunnerruksen SM-kilpailut 16. - 17.12.2023\, kaikki ikäluokat
DESCRIPTION:Ylöjärven Ryhti ry sekä Suomen Voimanostoliitto ry järjestävät \nVARUSTEPENKKIPUNNERRUKSEN SM-KISAT KAIKILLE IKÄLUOKILLE 16.-17.12.2023 \nKilpailupaikka: Ylöjärven Urheilutalo\, Koulutie 6\, 33470 Ylöjärvi \nKisapaikkana toimii Urheilutalon palloiluhallin voimailusalon vieressä oleva kolmannes. Sisäänkäynti kisapaikalalle joko Urheilutalon pääovesta tai voimailusalille johtavalta alaovelta. \n  \nLopullinen aikataulu: \nLauantai 16.12.2023 \nAvajaiset                                                    10:30 \nM18\, M23\, M60 ja M70                            Punnitus 9.00-10.30\, kisa klo 11:00 \nN18\, N23\, N40\, N50\, N60\, N70               Punnitus 12.30-14:00\, kisa klo 14:30 \nM40\, M50                                                   Punnitus 16:00-17.30\, kisa klo 18:00 \nSunnuntai 17.12.2023 \nNaiset avoin                                               Punnitus 10.00-11.30\, kisa klo 12.00 \nMiehet avoin                                              Punnitus 12.00-13.30\, kisa klo 14.00 \nIlmoittautumiset: Seurojen yhteyshenkilöt ilmoittavat SM-kilpailuihin tarkoitetut urheilijat sähköisesti Suomisportin kautta 25.11.2023 klo 23.59 mennessä.  Ilmoittautumisten tekeminen ajoissa on seurojen vastuulla. \nOsallistumismaksu: Avoin\, M23 ja N23 sekä Masters-ikäluokat 70 € / kilpailija\, M18 ja N18-ikäluokat 40 €. Seuran tulee maksaa ilmoittamansa urheilijat ilmoittamisen yhteydessä Suomisportin kautta.. \nTuloksen tekoaika: 11.12.2022-25.11.2023 \nTulosrajat: Kilpailuun ei ole tulosrajoja\, mutta kilpailijalla on oltava tulos tehtynä penkkipunnerruksessa tuloksentekoaikana\, joka ilmoitetaan ilmoittautumisen yhteydessä. Tulokseksi lasketaan joko klassinen tai varustetulos joko penkkipunnerrus- tai voimanostokilpailuissa. \nKilpailuhotelli: \nHotelli Oma Hotelli\, Ylöjärvi\, Työväentalontie 5\, 33470 Ylöjärvi \n9 kpl 1hh-2hh hinnat 110euroa/135euroa/vrk \n1 kpl 4hh hinta 220 euroa/vrk \n1 kpl 6hh hinta 300 euroa/vrk \n1 kpl 10hh (sisältää 3 erillistä huonetta ja yhteiset oleskelutilat) 65 euroa/vrk/hlö\, minimissään 3 hlöä \nHuonevaraukset jokainen tekee suoraan hotellista varaus@omahotellit.fi tunnuksella Varustepenkkipunnerruksen SM-kisa23 30.11.2023 mennessä. Tämän jälkeen varaamattomat huoneet vapautetaan hotellin yleiseen myyntiin ja niitä voi tiedustella saatavuuden mukaan päivän hinnalla. \nVaaka: Vaaka löytyy hotellista sekä kilpailupaikalta. \nLisätietoja:       Ylöjärven Ryhti\, Päivi Ristolainen\, puh. 050 571 7625\, paivi.ristolainen@svnl.fi \nSVNL info@svnl.fi\, puh. 010 309 4270 \n  \nTervetuloa Ylöjärvelle! \n  \n 
URL:https://www.suomenvoimanostoliitto.fi/tapahtuma/varustepenkkipunnerruksen-sm-kilpailut-16-17-12-2023-kaikki-ikaluokat/
CATEGORIES:SM-kilpailu
ATTACH;FMTTYPE=image/jpeg:https://www.suomenvoimanostoliitto.fi/wp-content/uploads/varusteppsm23_v3-scaled.jpg
END:VEVENT
END:VCALENDAR