BEGIN:VCALENDAR
VERSION:2.0
PRODID:-//Suomen Voimanostoliitto ry - ECPv6.9.0//NONSGML v1.0//EN
CALSCALE:GREGORIAN
METHOD:PUBLISH
X-WR-CALNAME:Suomen Voimanostoliitto ry
X-ORIGINAL-URL:https://www.suomenvoimanostoliitto.fi
X-WR-CALDESC:Events for Suomen Voimanostoliitto ry
REFRESH-INTERVAL;VALUE=DURATION:PT1H
X-Robots-Tag:noindex
X-PUBLISHED-TTL:PT1H
BEGIN:VTIMEZONE
TZID:Europe/Helsinki
BEGIN:DAYLIGHT
TZOFFSETFROM:+0200
TZOFFSETTO:+0300
TZNAME:EEST
DTSTART:20260329T010000
END:DAYLIGHT
BEGIN:STANDARD
TZOFFSETFROM:+0300
TZOFFSETTO:+0200
TZNAME:EET
DTSTART:20261025T010000
END:STANDARD
END:VTIMEZONE
BEGIN:VEVENT
DTSTART;VALUE=DATE:20260206
DTEND;VALUE=DATE:20260209
DTSTAMP:20260420T222807
CREATED:20250921T105425Z
LAST-MODIFIED:20260202T104145Z
UID:22964-1770336000-1770595199@www.suomenvoimanostoliitto.fi
SUMMARY:Klassisen voimanoston nuorten SM-kilpailut\, Kankaanpää\, KaVo
DESCRIPTION:Kankaanpään Voimailijat ry. sekä Suomen Voimanostoliitto ry. järjestävät  \nKlassisen Voimanoston Nuorten SM-KILPAILUT 6.-8.2.2026  \nKilpailupaikka: Kankaanpään liikuntakeskus\, Jämintie 10\, 38700 Kankaanpää\n\nLopullinen aikataulu:\n \n\n\n\nPerjantai 6.2.2026\nPunnitus\nKilpailu\n\n\nN14\, M14\, N23 52-63 kg\n10:00 – 11:30\n12:00 (YouTube)\n\n\nAvajaiset\n\n15:10\n\n\nM23 66-74 kg\, N23 69-76 kg\n13:30 – 15:00\n15:30 (YouTube)\n\n\n\n\n\n\n\nLauantai 7.2.2026\nPunnitus\nKilpailu\n\n\nM23 83-93 kg\n7:00 – 8:30\n9:00 (YouTube)\n\n\nM18 53-74 kg\n10:30 – 12:00\n12:30 (YouTube)\n\n\nM18 105-120+ kg\, M23 105-120+ kg\n14:30 – 16:00\n16:30 (YouTube)\n\n\n\n\n\n\n\nSunnuntai 8.2.2026\nPunnitus\nKilpailu\n\n\nN18\n7:00 – 8:30\n9:00 (YouTube)\n\n\nM18 83-93 kg\, N23 84-84+ kg\n11:00 – 12:30\n13:00 (YouTube)\n\n\n\nIlmoittautumiset: Seurojen yhteyshenkilöt ilmoittavat SM-kilpailuihin tarkoitetut urheilijat sähköisesti Suomisportin kautta 16.1.2026 klo 24.00 mennessä. Ilmoittautumisten tekeminen ajoissa on seurojen vastuulla. Ilmoittautuminen avataan 1.1.2026 yhdessä lisenssimyynnin kanssa. \nIlmoittautumislinkki: https://www.suomisport.fi/events/1edad671-46ff-4532-bba5-547504587a6b \nSM-kilpailuihin osallistuvan urheilijan on tullut suorittaa Puhtaasti Paras ja Reilusti Paras verkkokoulutukset ennen ilmoittautumista. \nOsallistumismaksu: M23 ja N23 ikäluokka 90 € / kilpailija\, M/N14 ja M/N18 -ikäluokat 60 € / kilpailija. Maksetaan Suomisportin kautta ilmoittautumisen yhteydessä.  \nSM-kilpailun tulosrajat ja tuloksentekoaika:\nToimintasuunnitelman (2025) mukainen tulosraja tai kilpailutulos on tullut tehdä virallisessa klassisessa kilpailussa 3.2.2025 – 16.1.2026.  \n14- ja 18-vuotiaiden sarjoissa kilpailevilla ei ole tulosrajaa. Heillä on kuitenkin oltava tulosrajan tekoaikana virallisessa klassisessa kilpailussa tehty tulos\, joka on ilmoitettava SM-kisailmoittautumisessa.  \nTulosraja\, joista on säädetty liiton toimintasuunnitelmasta\, on voitu tehdä muuhun painoluokkaan kuin mihin ilmoittaudutaan. Tällöin tuloksen tulee aina olla vähintään sen painoluokan tulosrajan suuruinen\, mihin ilmoittaudutaan kilpailemaan.  \nPainoluokan jakaminen A- ja B-ryhmiin jne.  \nSM-kisoissa painoluokka jaetaan A- ja B-ryhmiin sen tilastotuloksen perusteella\, joka on tehty 12 ilmoittamista edeltävän kuukauden ajanjakson aikana painoluokkaan\, mihin nostaja ilmoitetaan kilpailemaan SM-kisaan. Ylempään painoluokkaan tehtyä tulosta ei voida hyväksyä osallistuttaessa alempaan painoluokkaan ryhmäjaossa käytettävänä tuloksena voimanoston teknisten sääntöjen mukaisesti. Alempaan painoluokkaan tehty tulos voidaan hyväksyä.  \nKilpailuhotelli:  \nSport Hotel Kantri Kankaanpää\nLinnankatu 2\, 38700 Kankaanpää \nVaraukset nettisivuilla www.hotellikantri.fi tai puh. +3582572700\n\nVaaka: Vaaka löytyy hotellista sekä kilpailupaikalta.\n\nLisätietoja:\nKaVo Nina Majamäki\, kankaanpaan.voimailijat@gmail.com\, +358407211441 \nSVNL Ville Niskanen\, ville.niskanen@svnl.fi \nKilpailun järjestäjät pidättävät itsellään oikeuden aikataulumuutoksiin lopullisten nostajamäärien selvittyä. 
URL:https://www.suomenvoimanostoliitto.fi/tapahtuma/klassisen-voimanoston-nuorten-sm-kilpailut-kankaanpaa-kavo/
LOCATION:Kankaanpään liikuntakeskus\, Jämintie 10\, Kankaanpää\, 38700\, Finland
CATEGORIES:SM-kilpailu
ATTACH;FMTTYPE=image/png:https://www.suomenvoimanostoliitto.fi/wp-content/uploads/2026-sm-JUN.png
ORGANIZER;CN="Kankaanp%C3%A4%C3%A4n Voimailijat ry":MAILTO:kankaanpaan.voimailijat@gmail.com
END:VEVENT
BEGIN:VEVENT
DTSTART;VALUE=DATE:20260220
DTEND;VALUE=DATE:20260223
DTSTAMP:20260420T222807
CREATED:20250911T074626Z
LAST-MODIFIED:20260212T091459Z
UID:22844-1771545600-1771804799@www.suomenvoimanostoliitto.fi
SUMMARY:Varustevoimanoston ja -penkkipunnerruksen SM-kilpailut\, Tampere\, TVN
DESCRIPTION:Tampereen Voimanostajat ry. sekä Suomen Voimanostoliitto ry. järjestävät \nVARUSTEVOIMANOSTON JA -PENKIN SM-KISAT KAIKILLE IKÄLUOKILLE 20.-22.2.2026 \nKilpailupaikka: Nääshalli\, Näsijärvenkatu 8\, 33210 Tampere \nLopullinen aikataulu: \nVarustevoimanosto \n\n\n\nPerjantai 20.2.2026\nPunnitus \nKilpailu \n\n\nMasters miehet\n13:00 – 14:30 \n15:00 (YouTube)\n\n\n \n \n \n\n\nLauantai 21.2.2026 \nPunnitus \nKilpailu \n\n\nNuoret kaikki & masters naiset\n8:00 – 9:30 \n10:00 (YouTube)\n\n\nAvoin kaikki\n12:00 – 13:30 \n14:00 (YouTube)\n\n\n\nVarustepenkkipunnerrus \n\n\n\nSunnuntai 22.2.2026\nPunnitus \nKilpailu \n\n\nNaiset kaikki\n8:00 – 9:30 \n10:00 (YouTube)\n\n\nMiehet nuoret & avoin\n10:00 – 11:30 \n12:00 (YouTube)\n\n\nM60 & M70\n11:30 – 13:00 \n13:30 (YouTube)\n\n\nM40 & M50\n13:00 – 14:30 \n15:00 (YouTube)\n\n\n\nIlmoittautumiset: Seurojen yhteyshenkilöt ilmoittavat SM-kilpailuihin tarkoitetut urheilijat sähköisesti Suomisportin kautta 30.1.2026 klo 24.00 mennessä.  Ilmoittautumisten tekeminen ajoissa on seurojen vastuulla. Ilmoittautuminen avataan 1.1.2026 yhdessä lisenssimyynnin kanssa. \nIlmoittautumislinkki voimanostoon: https://www.suomisport.fi/events/887506d0-d640-494f-84c7-e7a8616de669 \nIlmoittautumislinkki penkkipunnerrukseen: https://www.suomisport.fi/events/20149ada-5d46-434c-b336-280f2032c696 \nSM-kilpailuihin osallistuvan urheilijan on tullut suorittaa Puhtaasti Paras ja Reilusti Paras verkkokoulutukset ennen ilmoittautumista. \nOsallistumismaksu: \nVoimanostossa Avoin\, M23 ja N23 sekä Masters-ikäluokat 90 € / kilpailija\, M18 ja N18-ikäluokat 60€ \nPenkissä Avoin\, M23 ja N23 sekä Masters-ikäluokat 80 € / kilpailija\, M18 ja N18-ikäluokat 50€ \nSeuran tulee maksaa ilmoittamansa urheilijat ilmoittamisen yhteydessä Suomisportin kautta. \nTuloksen tekoaika: 6.1.2025-30.1.2026 \nTulosrajat: Varuste SM-kilpailuihin ei ole tulosrajoja. Varustekilpailuissa kilpailevilla on kuitenkin oltava tuloksentekoaikana virallisessa kilpailussa (klassinen tai varuste) tehty tulos\, joka on ilmoitettava SM-kisailmoittautumisessa. \nKilpailuhotelli: \nHotelli Lapland Tampere\, Yliopistonkatu 44\, 33100 Tampere. \nKiintiömajoitus \n30 huonetta / vrk ajalle 19.-22.2.2026 \nHinnat sisältävät arvonlisäveron \nNorthern Comfort\, yhden hengen huone 19.2.            125\,00 € / vrk \nNorthern Comfort\, kahden hengen huone 19.2.           145\,00 € / vrk \nNorthern Comfort\, yhden hengen huone 20.2.            165\,00 € / vrk \nNorthern Comfort\, kahden hengen huone 20.2.           185\,00 € / vrk \nNorthern Comfort\, yhden hengen huone 21.2.            165\,00 € / vrk \nNorthern Comfort\, kahden hengen huone 21.2.           185\,00 € / vrk \nMAJOITUSHINTAAN SISÄLTYY\nAitojen makujen buffetaamiainen sekä hotellin asiakassaunojen käyttö. Hinta oikeuttaa myös Lapland Hotels Club -pisteisiin ja etuihin. \nMAJOITUSVARAUKSET JA VARAUSEHTO\nVarauksen voi tehdä puhelimitse (+358 3 383 0000) tai sähköpostitse suoraan hotellista (tampere@laplandhotels.com). Tarjoushinnan saa majoitukselleen mainitsemalla varauksen teon yhteydessä varauskoodin VarusteSM2026 \nVaraukset kiintiöstä tarjoushinnoin 1.2.2026 mennessä\, jonka jälkeen päivän majoitushinnalla ja varausehdoilla. \nMajoitusvaraukset tehdään joustavin varausehdoin\, joiden mukaan varaukselle pätee kuluton muutos- ja peruutusoikeus tulopäivään klo 18.00 asti. Majoituksen maksu suoritetaan paikanpäällä hotellin vastaanottoon (käteinen\, pankki- tai luottokortti). Tämän tarjouksen liitteenä mainittuja ehtoja sovelletaan kiintiöstä tehdyille yksittäisille majoitusvarauksille ainoastaan kohtien ”Muut ehdot”\, ”Vakuutukset” ja ”Force Majeure” osalta. Nämä esitetään myös kunkin majoitusvarauksen omalla yksilöllisellä varausvahvistuksella. \nVaaka: Vaaka löytyy hotellista sekä kilpailupaikalta. \nLisätietoja:     \nTVN Matias Peräinen 045 320 7279\, mankku68@gmail.com \nSVNL Ville Niskanen ville.niskanen@svnl.fi \nKilpailun järjestäjät pidättävät itsellään oikeuden aikataulumuutoksiin lopullisten nostajamäärien selvittyä. \nTervetuloa Tampereelle!! \n 
URL:https://www.suomenvoimanostoliitto.fi/tapahtuma/varustevoimanoston-ja-penkkipunnerruksen-sm-kilpailut-tampere-tvn/
LOCATION:Nääshalli\, Näsijärvenkatu 8\, Tampere\, 33210\, Finland
CATEGORIES:SM-kilpailu
ATTACH;FMTTYPE=image/png:https://www.suomenvoimanostoliitto.fi/wp-content/uploads/Tampere_logo.png
ORGANIZER;CN="Tampereen Voimanostajat ry":MAILTO:mankku68@gmail.com
END:VEVENT
END:VCALENDAR