BEGIN:VCALENDAR
VERSION:2.0
PRODID:-//Suomen Voimanostoliitto ry - ECPv6.9.0//NONSGML v1.0//EN
CALSCALE:GREGORIAN
METHOD:PUBLISH
X-ORIGINAL-URL:https://www.suomenvoimanostoliitto.fi
X-WR-CALDESC:Events for Suomen Voimanostoliitto ry
REFRESH-INTERVAL;VALUE=DURATION:PT1H
X-Robots-Tag:noindex
X-PUBLISHED-TTL:PT1H
BEGIN:VTIMEZONE
TZID:Europe/Helsinki
BEGIN:DAYLIGHT
TZOFFSETFROM:+0200
TZOFFSETTO:+0300
TZNAME:EEST
DTSTART:20250330T010000
END:DAYLIGHT
BEGIN:STANDARD
TZOFFSETFROM:+0300
TZOFFSETTO:+0200
TZNAME:EET
DTSTART:20251026T010000
END:STANDARD
END:VTIMEZONE
BEGIN:VEVENT
DTSTART;TZID=Europe/Helsinki:20251107T080000
DTEND;TZID=Europe/Helsinki:20251109T170000
DTSTAMP:20260423T112756
CREATED:20240705T065721Z
LAST-MODIFIED:20251104T094403Z
UID:17704-1762502400-1762707600@www.suomenvoimanostoliitto.fi
SUMMARY:Klassisen voimanoston avoimen SM-kilpailut 7. - 9.11.2025\, Rovaniemi\, NaVo
DESCRIPTION:  \nNapapiirin Voimailijat ry sekä Suomen Voimanostoliitto ry järjestävät  \nKLASSISEN VOIMANOSTON AVOIMEN LUOKAN SM-KILPAILUT 7.-9.11.2025  \nKilpailupaikka: Totto-halli\, Kosteenranta 1\, 97140 Muurola  \nLopullinen aikataulu:  \n\n\n\nPerjantai 7.11.2025\nPunnitus\nKilpailu\nLive-\n\n\nNaiset 52 – 63 kg\n7:00 – 8:30\n9:00\nstriimi / tulokset\n\n\nMiehet 66 – 83 kg\n11:30 – 13:00\n13:30\nstriimi / tulokset\n\n\nMiehet 93 kg\n16:30 – 18:00\n18:30\nstriimi / tulokset\n\n\n\n\n\n\n\n\nLauantai 8.11.2025\nPunnitus\nKilpailu\nLive-\n\n\nNaiset 69 kg\n7:00 – 8:30\n9:00\nstriimi / tulokset\n\n\nNaiset 76 kg\n10:30 – 12:00\n12:30\nstriimi / tulokset\n\n\nMiehet 105 kg\n14:00 – 15:30\n16:00\nstriimi / tulokset\n\n\n\n\n\n\n\n\nSunnuntai 9.11.2025\nPunnitus\nKilpailu\nLive-\n\n\nNaiset 84 – 84+ kg\n7:00 – 8:30\n9:00\nstriimi / tulokset\n\n\nMiehet 120 – 120+ kg\n11:30 – 13:00\n13:30\nstriimi / tulokset\n\n\n\nIlmoittautumiset: Seurojen yhteyshenkilöt ilmoittavat SM-kilpailuihin tarkoitetut urheilijat sähköisesti Suomisportin kautta 17.10.2025 kello 24:00 mennessä. Ilmoittautumisen tekeminen ajoissa on seurojen vastuulla. \nIlmoittautumislinkki: https://www.suomisport.fi/events/3a37be99-2c77-4a7b-931a-334c9e0462e0 \nSM-kilpailuihin osallistuvan urheilijan on tullut suorittaa Puhtaasti Paras ja Reilusti Paras verkkokoulutukset. \nOsallistumismaksu: 90\,00 euroa/kilpailija. Maksetaan Suomisportin kautta ilmoittautumisen yhteydessä.  \nSM-kilpailun tulosrajat:  \nNaiset  \n47 kg 230\,0  \n52 kg 250\,0  \n57 kg 280\,0  \n63 kg 310\,0  \n69 kg 330\,0  \n76 kg 340\,0  \n84 kg 355\,0  \n84+ kg 370\,0  \nMiehet  \n59 kg 455\,0  \n66 kg 485\,0  \n74 kg 515\,0  \n83 kg 545\,0  \n93 kg 600\,0  \n105 kg 630\,0  \n120 kg 650\,0  \n120+ kg 690\,0  \nVoidakseen kilpailla ylemmässä sarjassa on tehdyn tuloksen oltava vähintään ko. sarjan tulosrajan suuruinen.  \nTuloksentekoaika: 9.12.2024-17.10.2025  \nPainoluokan jakaminen A- ja B-ryhmiin jne.  \nSM-kisoissa painoluokka jaetaan A- ja B-ryhmiin sen tilastotuloksen perusteella\, joka on tehty 12 ilmoittamista edeltävän kuukauden ajanjakson aikana painoluokkaan\, mihin nostaja ilmoitetaan kilpailemaan SM-kisaan. Ylempään painoluokkaan tehtyä tulosta ei voida hyväksyä osallistuttaessa alempaan painoluokkaan ryhmäjaossa käytettävänä tuloksena voimanoston teknisten sääntöjen mukaisesti. Alempaan painoluokkaan tehty tulos voidaan hyväksyä.  \nKilpailuhotelli:  \nHotelli Metsähirvas\nToukolantie 49\, 97130 Rovaniemi  \nMajoitus hotellihuoneissa 6.-9.11.2025  \n130\,-/vrk/kahden hengen huone (1-2 hlöä)  \n149\,-/vrk/standard+ huone (suurempi kahden hengen huone\, jossa on vuodetuoli kolmannelle henkilölle)  \n180\,-/vrk/suite (1-4 hlöä)  \n310\,-/vrk/huoneisto (1-6 hlöä\, lisävuodemahdollisuus vuodesohvassa +37\,-/vrk/hlö)  \n470\,-/vrk/huoneisto superior+ (1-8 hlöä\, 4 kahden hengen makuuhuonetta ja poreamme terassilla)  \nAamupala ja ilmainen pysäköinti sisältyvät majoituksen hintaan. Muille aamiaisen hinta on 15 €/hlö/päivä (ennakkovaraukset). Aikaisin lähteville voidaan toimittaa aamupalapaketti huoneeseen edellisenä iltana.  \nJokainen varaa ja maksaa huoneensa itse.  \nHotellilla on mahdollisuus lounaaseen ja päivälliseen ennakkovarauksella. Ilmoita majoitusvarauksen yhteydessä\, mikäli haluat lounaan tai päivällisen ja mille päiville. Varaukset ovat sitovia.  \nHotellilla on maksullinen kuljetuspalvelu. Ilmoita myös tästä etukäteen\, mikäli tarvitset kuljetusta.  \nHotellin puolella majoitushintaan kuuluu asiakassaunan käyttö (naisten saunavuoro päivittäin klo 18-19.30 ja miesten klo 19.30-21). Huoneistoissa on omat saunat.  \nVaraukset: suoraan hotellista viimeistään kaksi viikkoa ennen majoittumista +358 40 031 5099 tai info@metsahirvas.fi.  \n\nMajoitusta tarjoaa myös: \n\n\nLapitar \n\n\nKalliokummuntie 22 \n\n\n97130 Hirvas\, Rovaniemi \n\n\nhttps://lapitar.fi/ \n\n\nSM-kilpailujen osanottajille majoitustarjous – 25 % listahinnasta\, majoitusta myös isommalle ryhmälle \n\n\nVaraukset: Jari Seppälä\, p. 050 4999 773 \n\nVaaka: Vaaka löytyy kilpailuhotellista (Hotelli Metsähirvas) ja kilpailupaikalta.  \nSauna: Kilpailupaikalla ei ole saunaa. \nLisätietoja:  \nNaVo Jaarli Pirkkiö\, jaarli.pirkkio@gmail.com\, 044 2090422  \nSVNL Ville Niskanen\, ville.niskanen@svnl.fi \nTervetuloa Rovaniemelle!  \nKilpailun järjestäjät pidättävät itsellään oikeuden aikataulumuutoksiin lopullisten nostajamäärien selvittyä. 
URL:https://www.suomenvoimanostoliitto.fi/tapahtuma/klassisen-voimanoston-avoimen-sm-kilpailut-7-9-11-2025-rovaniemi-navo/
LOCATION:Totto-halli\, Kosteenranta 1\, Muurola\, 97140\, Finland
CATEGORIES:SM-kilpailu
ATTACH;FMTTYPE=image/png:https://www.suomenvoimanostoliitto.fi/wp-content/uploads/Sm-logo.png
ORGANIZER;CN="Napapiirin Voimailijat ry":MAILTO:jaarli.pirkkio@gmail.com
END:VEVENT
BEGIN:VEVENT
DTSTART;VALUE=DATE:20251114
DTEND;VALUE=DATE:20251117
DTSTAMP:20260423T112756
CREATED:20240705T065839Z
LAST-MODIFIED:20251112T104504Z
UID:17706-1763078400-1763337599@www.suomenvoimanostoliitto.fi
SUMMARY:Klassisen voimanoston mastersien SM-kilpailut\, 14. - 16.11.2025\, Pori\, PV-81
DESCRIPTION:  \nPorin Voimailijat -81 ry. sekä Suomen Voimanostoliitto ry. järjestävät  \nKlassisen Voimanoston Masters SM-KILPAILUT 14.-16.11.2025  \nKilpailupaikka: Porin Urheilutalo\, Kuninkaanhaanaukio 12\, 28130 Pori  \nLopullinen aikataulu:  \n\n\n\nPerjantai 14.11.2025 \nPunnitus \nKilpailu \n\n\nAvajaiset \n \n11:30 \n\n\nM70\, N60\, N70\n10:00 – 11:30 \n12:00 (YouTube)\n\n\nM40 66 – 93 kg\n15:00 – 16:30 \n17:00 (YouTube)\n\n\n \n \n \n \n \n\n\nLauantai 15.11.2025 \nPunnitus \nKilpailu \n\n\nN50\n6:00 – 7:30 \n8:00 (YouTube)\n\n\nM40 105 – 120+ kg\n11:00 – 12:30 \n13:00 (YouTube)\n\n\nN40\n16:00 – 17:30 \n18:00 (YouTube)\n\n\n \n \n \n \n \n\n\nSunnuntai 16.11.2025 \nPunnitus \nKilpailu \n\n\nM60 kaikki\, M50 66 – 83 kg\n6:00 – 7:30 \n8:00 (YouTube)\n\n\nM50 93 – 120+ kg \n13:00 – 14:30 \n15:00 (YouTube)\n\n\n\nJos joku haluaa tietyn kappaleen soimaan nostojensa aikana\, niin siitä voi laittaa toiveen osoitteeseen: jamppa.taehtinen@gmail.com \nIlmoittautumiset: Seurojen yhteyshenkilöt ilmoittavat SM-kilpailuihin tarkoitetut urheilijat sähköisesti Suomisportin kautta 24.10.2025 klo 24.00 mennessä. Ilmoittautumisten tekeminen ajoissa on seurojen vastuulla. \nIlmoittautumislinkki: https://www.suomisport.fi/events/062545bb-efe3-4656-9ba8-08bd822ea166 \nSM-kilpailuihin osallistuvan urheilijan on tullut suorittaa Puhtaasti Paras ja Reilusti Paras verkkokoulutukset. \nOsallistumismaksu: Seuran tulee maksaa ilmoittamansa urheilijat ilmoittamisen yhteydessä Suomisportin kautta. Osallistumismaksu on 90€/kilpailija/kilpailuluokka.  \nTuloksentekoaika ja tulosrajat: Nostajan on tullut tehdä klassisen voimanoston kilpailuissa tulos ajalla 18.11.2024 – 24.10.2025.  \nKlassinen voimanosto\, miehet  \n\n\n\nSarja\nM40\nM50\nM60\nM70\n\n\n59 kg\n365\,0\n320\,0\n272\,5\n227\,5\n\n\n66 kg\n390\,0\n340\,0\n290\,0\n242\,5\n\n\n74 kg\n412\,5\n360\,0\n310\,0\n257\,5\n\n\n83 kg\n440\,0\n382\,5\n327\,5\n272\,5\n\n\n93 kg\n480\,0\n420\,0\n360\,0\n300\,0\n\n\n105 kg\n505\,0\n440\,0\n377\,5\n315\,0\n\n\n120 kg\n520\,0\n455\,0\n390\,0\n325\,0\n\n\n120+ kg\n552\,5\n485\,0\n415\,0\n345\,0\n\n\n\nKlassinen voimanosto\, naiset  \n\n\n\nSarja\nN40\nN50\nN60\nN70\n\n\n47 kg\n185\,0\n162\,5\n137\,5\n115\,0\n\n\n52 kg\n200\,0\n175\,0\n150\,0\n125\,0\n\n\n57 kg\n225\,0\n197\,5\n167\,5\n140\,0\n\n\n63 kg\n247\,5\n217\,5\n187\,5\n155\,0\n\n\n69 kg\n265\,0\n232\,5\n197\,5\n165\,0\n\n\n76 kg\n272\,5\n237\,5\n205\,0\n170\,0\n\n\n84 kg\n285\,0\n247\,5\n212\,5\n177\,5\n\n\n84+ kg\n297\,5\n260\,0\n222\,5\n185\,0\n\n\n\nKilpailuhotelli: Original Sokos Hotel Vaakuna\, Gallen-Kallelankatu 7\, 28100 Pori \nStandard:         103€ / 1hh / vrk\, 123€ / 2hh / vrk  \nSuperior:          123€ / 1hh / vrk\, 143€ / 2hh / vrk  \nlisävuode 20€ / huone / vrk  \nHinnat sisältävät aamiaisen\, asiakassaunan sekä kuntoilutilan käytön. Take away -aamiaispussi pitää tilata etukäteen\, mielellään jo varausvaiheessa.  \nVaraukset  \nVaraukset sivustolta www.sokoshotels.fi tai suoraan hotellimme myyntipalvelusta sales.pori@sokoshotels.fi tai puhelimitse 029 004 2002 varauskoodilla BVOIMANOSTONSM25.  \nTarjoushintaiset huoneet ovat varattavissa 6.11.2025 asti\, mikäli kiintiössä on huoneita jäljellä. Tämän päivämäärän jälkeen varaamattomat huoneet vapautuvat takaisin myyntiin.  \nKiintiöstä varattujen yksittäisten huoneiden viimeinen kuluton peruutuspäivä on 7 vuorokautta ennen tulopäivää ja kukin majoittuja vastaa itse omista majoituskuluistaan.  \nVarauksen vahvistaminen  \nKiintiöstä tehdyt huonevaraukset on vahvistettava varausvaiheessa luottokortilla. Tietosuojasyistä luottokorttitietoja ei saa lähettää sähköpostitse.  \nMaksutapa  \nJokainen majoittuja vastaa itse omista majoituskuluistaan.  \nVaaka: Vaaka löytyy kisahotellin kuntoilutilasta sekä kilpailupaikalta.  \nLisätietoja:\nPorin Voimailijat 81\, Jarkko Kemppi\, jarkko.kemppi@outlook.com\, 044 701 2559  \nSVNL Ville Niskanen\, ville.niskanen@svnl.fi \nKilpailun järjestäjät pidättävät itsellään oikeuden aikataulumuutoksiin lopullisten nostajamäärien selvittyä. 
URL:https://www.suomenvoimanostoliitto.fi/tapahtuma/klassisen-voimanoston-mastersien-sm-kilpailut-14-16-11-2025-pori-pv-81/
LOCATION:Porin Urheilutalo\, Kuninkaanhaanaukio 12\, Pori\, 28130
CATEGORIES:SM-kilpailu
ATTACH;FMTTYPE=image/jpeg:https://www.suomenvoimanostoliitto.fi/wp-content/uploads/kisalogo-1.jpg
ORGANIZER;CN="Porin Voimailijat-81":MAILTO:jarkko.kemppi@outlook.com
END:VEVENT
END:VCALENDAR