BEGIN:VCALENDAR
VERSION:2.0
PRODID:-//Suomen Voimanostoliitto ry - ECPv6.9.0//NONSGML v1.0//EN
CALSCALE:GREGORIAN
METHOD:PUBLISH
X-ORIGINAL-URL:https://www.suomenvoimanostoliitto.fi
X-WR-CALDESC:Events for Suomen Voimanostoliitto ry
REFRESH-INTERVAL;VALUE=DURATION:PT1H
X-Robots-Tag:noindex
X-PUBLISHED-TTL:PT1H
BEGIN:VTIMEZONE
TZID:Europe/Helsinki
BEGIN:DAYLIGHT
TZOFFSETFROM:+0200
TZOFFSETTO:+0300
TZNAME:EEST
DTSTART:20250330T010000
END:DAYLIGHT
BEGIN:STANDARD
TZOFFSETFROM:+0300
TZOFFSETTO:+0200
TZNAME:EET
DTSTART:20251026T010000
END:STANDARD
END:VTIMEZONE
BEGIN:VEVENT
DTSTART;TZID=Europe/Helsinki:20251012T083000
DTEND;TZID=Europe/Helsinki:20251012T170000
DTSTAMP:20260423T200919
CREATED:20250123T094234Z
LAST-MODIFIED:20250707T073641Z
UID:19971-1760257800-1760288400@www.suomenvoimanostoliitto.fi
SUMMARY:Opiskelijoiden SM-kilpailut\, kansallinen voimanostokilpailu (HKaanto)
DESCRIPTION:Kilpailujen järjestäjä: Herwannan Hauiskääntö \nKilpailupäivä: 2025-10-12 \nKilpailun tyyppi: Kansallinen \nMikä kilpailu on kyseessä: Voimanosto \nKilpailupaikka osoitteineen: Tamppi areena\, Korkeakoulunkatu 12\, 33720 Tampere \nPunnitusaikataulu: ilmoitetaan kun ilmoitusaika sulkeutuu \nKilpailujen alkamisaika: miehet: ilmoitetaan kun ilmoitusaika sulkeutuu \nOsanottomaksu: 45€. Lisäksi OLL:n ulkopuoliset korkeakouluopiskelijat maksavat 50% osallistumis maksusta OLL- lisää \nOsanottomäärä: 40 (arvio viiime vuoden perusteella) \nMilloin ilmoittauduttava: ilmoitetaan myöhemmin \nKenelle ilmoittauduttava: : https://forms.gle/4mWZ1roWRLX2baHn9 \nMuut huomiot: HUOM! Kyseessä on opiskelijoiden mestaruuskilpailu\, joten osallistuminen edellyttää voimassaolevaa toisen tai korkea-asteen oppilaitoksen opiskelijakorttia\, läsnäolotodistusta tai todistusta kuluvana tai edellisenä kalenterivuonna Kilpailuilmoittautumisessa ei kysytä painoluokkia\, vaan ne määräytyvät kilpailupäivänä puntarilla. Kilpailu käydään kaikki kaikkiavastaan -periaatteella vertaamalla pisteitä. Kaikkien kilpailuun osallistuvien tulos kirjataan kuitenkin muuten normaalisti pöytäkirjaan. \nOpiskelijoiden SM-kilpailut toimivat valintakilpailuna opiskelijoiden arvokilpailuihin kuten Opiskelijoiden MM-kisat ja University cupit \n  \nLauantaina 11.10.2025 kilpaillaan painonnostossa\, sekä lisenssittömien nostajien rentosarjassa. Kilpailussa on mahdollista kilpailla myös supertotalissa\, eli painonnoston ja voimanoston yhteispisteissä \nLisätietoja: Herwannan Hauiskäännön kotisivuilta osoitteesta hkaanto.fi\, tai sähköpostiosoitteesta hkaanto@lists.tuni.fi
URL:https://www.suomenvoimanostoliitto.fi/tapahtuma/opiskelijoiden-sm-kilpailut-kansallinen-voimanostokilpailu-hkaanto/
LOCATION:Tamppi Areena\, Korkeakoulunkatu 12\, Tampere\, 33720\, Suomi
CATEGORIES:Kansallinen kilpailu
ORGANIZER;CN="Herwannan Hauisk%C3%A4%C3%A4nt%C3%B6":MAILTO:hkaanto@lists.tuni.fi
END:VEVENT
END:VCALENDAR