BEGIN:VCALENDAR
VERSION:2.0
PRODID:-//Suomen Voimanostoliitto ry - ECPv6.9.0//NONSGML v1.0//EN
CALSCALE:GREGORIAN
METHOD:PUBLISH
X-WR-CALNAME:Suomen Voimanostoliitto ry
X-ORIGINAL-URL:https://www.suomenvoimanostoliitto.fi
X-WR-CALDESC:Events for Suomen Voimanostoliitto ry
REFRESH-INTERVAL;VALUE=DURATION:PT1H
X-Robots-Tag:noindex
X-PUBLISHED-TTL:PT1H
BEGIN:VTIMEZONE
TZID:Europe/Helsinki
BEGIN:DAYLIGHT
TZOFFSETFROM:+0200
TZOFFSETTO:+0300
TZNAME:EEST
DTSTART:20250330T010000
END:DAYLIGHT
BEGIN:STANDARD
TZOFFSETFROM:+0300
TZOFFSETTO:+0200
TZNAME:EET
DTSTART:20251026T010000
END:STANDARD
END:VTIMEZONE
BEGIN:VEVENT
DTSTART;TZID=Europe/Helsinki:20250927T110000
DTEND;TZID=Europe/Helsinki:20250927T170000
DTSTAMP:20260423T214559
CREATED:20250628T081113Z
LAST-MODIFIED:20250628T081223Z
UID:22191-1758970800-1758992400@www.suomenvoimanostoliitto.fi
SUMMARY:Kansallinen voimanostokilpailu\, (Huima)
DESCRIPTION:Kilpailujen järjestäjä: Äänekosken Huima\nKilpailupäivä: 2025-09-27\nKilpailun tyyppi: Kansallinen\nMikä kilpailu on kyseessä: Voimanosto\nKilpailupaikka osoitteineen: Koulunmäenkatu 2 44100 Äänekoski\nPunnitusaikataulu: 9-10.30\nKilpailujen alkamisaika: 11.00\nSarjat ja ikäluokat: Kaikki sarjat ja ikäluokat\n1. luokan tuomarit: Ei\nOsanottomaksu: 40\nOsanottomäärä: Max. 3 ryhmää\nMilloin ilmoittauduttava: 21.9.2025 mennessä\nKenelle ilmoittauduttava: tepi.thn@gmail.com\nMuut huomiot: 2.n tuomarit\nNostettava siinä sarjassa mihin ilmoittautuu\nTilin.FI18 5290 0220 5108 28\nKisamaksu 40 euroa\nLisätietoja: tepi.thn@gmail.com 0409652151
URL:https://www.suomenvoimanostoliitto.fi/tapahtuma/huima-kansallinen-voimanostokilpailu-aanekoski/
CATEGORIES:Kansallinen kilpailu
ORGANIZER;CN="%C3%84%C3%A4nekosken Huima":MAILTO:tepi.thn@gmail.com
END:VEVENT
END:VCALENDAR