BEGIN:VCALENDAR
VERSION:2.0
PRODID:-//Suomen Voimanostoliitto ry - ECPv6.9.0//NONSGML v1.0//EN
CALSCALE:GREGORIAN
METHOD:PUBLISH
X-ORIGINAL-URL:https://www.suomenvoimanostoliitto.fi
X-WR-CALDESC:Events for Suomen Voimanostoliitto ry
REFRESH-INTERVAL;VALUE=DURATION:PT1H
X-Robots-Tag:noindex
X-PUBLISHED-TTL:PT1H
BEGIN:VTIMEZONE
TZID:Europe/Helsinki
BEGIN:DAYLIGHT
TZOFFSETFROM:+0200
TZOFFSETTO:+0300
TZNAME:EEST
DTSTART:20260329T010000
END:DAYLIGHT
BEGIN:STANDARD
TZOFFSETFROM:+0300
TZOFFSETTO:+0200
TZNAME:EET
DTSTART:20261025T010000
END:STANDARD
END:VTIMEZONE
BEGIN:VEVENT
DTSTART;TZID=Europe/Helsinki:20260102T180000
DTEND;TZID=Europe/Helsinki:20260102T220000
DTSTAMP:20260423T125707
CREATED:20251129T125509Z
LAST-MODIFIED:20251129T125509Z
UID:23839-1767376800-1767391200@www.suomenvoimanostoliitto.fi
SUMMARY:Kansallinen Voimanostokilpailu\, Pomarkku\, 2.1.2026
DESCRIPTION:Kilpailujen järjestäjä: Pomarkun Pyry voimailu \nKilpailupäivä: 2026-01-02 \nKilpailun tyyppi: Kansallinen \nMikä kilpailu on kyseessä: Voimanosto \nKilpailupaikka osoitteineen: Pomarkun Monitoimihalli\, Harjantie 1\, 29630 Pomarkku \nPunnitusaikataulu: 16:00-17:30 \nKilpailujen alkamisaika: 18:00 \nSarjat ja ikäluokat: Kaikki sarjat ja ikäluokat 1. luokan tuomarit: Ei \nOsanottomaksu: 35 € maksetaan Pomarkun Pyryn voimailun tilille FI83 5106 0120 1632 50 ilmoittautumisajan loppuun 29.12.25 mennessä \nOsanottomäärä: 10 \nMilloin ilmoittauduttava: 29.12.2025 \nKenelle ilmoittauduttava: sähköpostilla: voimailu@pomarkunpyry.onmicrosoft.com \nMuut huomiot: \nLisätietoja: Jouni Vähäsantanen 0451105959 tai Mikko Lähteenmäki 0505266764
URL:https://www.suomenvoimanostoliitto.fi/tapahtuma/kansallinen-voimanostokilpailu-pomarkku-2-1-2026/
LOCATION:Pomarkun Monitoimihalli\, Harjantie 1\, Pomarkku\, 29630\, Suomi
CATEGORIES:Kansallinen kilpailu
END:VEVENT
BEGIN:VEVENT
DTSTART;TZID=Europe/Helsinki:20260110T120000
DTEND;TZID=Europe/Helsinki:20260110T170000
DTSTAMP:20260423T125708
CREATED:20260107T174107Z
LAST-MODIFIED:20260107T174107Z
UID:24374-1768046400-1768064400@www.suomenvoimanostoliitto.fi
SUMMARY:Kansallinen voimanostokilpailu\, Mariehamn\, 10.1.2026
DESCRIPTION:Kilpailujen järjestäjä: Ålands Kraftsportklubb r.f. (ÅKK) \nKilpailupäivä: 2026-01-10 \nKilpailun tyyppi: Kansallinen \nMikä kilpailu on kyseessä: Voimanosto \nKilpailupaikka osoitteineen: Neptunigatan 23\, 22100 Mariehamn \nPunnitusaikataulu: 10.00-11.30 \nKilpailujen alkamisaika: 12.00 \nSarjat ja ikäluokat: Alla viktklasser\, alla åldersklasser 1. luokan tuomarit: Ei \nOsanottomaksu: 30 € för utomstående tävlande \nOsanottomäärä: – \nMilloin ilmoittauduttava: 03.01.2026 \nKenelle ilmoittauduttava: info@kraftsport.nu Muut huomiot: ÅKKs kontonummer FI0255780440014794 \nLisätietoja: info@kraftsport.nu
URL:https://www.suomenvoimanostoliitto.fi/tapahtuma/kansallinen-voimanostokilpailu-mariehamn-10-1-2026/
LOCATION:Neptunigatan 23\, Maarianhamina\, 22100\, Suomi
CATEGORIES:Kansallinen kilpailu
ORGANIZER;CN="%C3%85lands Kraftsportklubb":MAILTO:info@kraftsport.nu
END:VEVENT
BEGIN:VEVENT
DTSTART;TZID=Europe/Helsinki:20260130T183000
DTEND;TZID=Europe/Helsinki:20260130T213000
DTSTAMP:20260423T125708
CREATED:20260109T100029Z
LAST-MODIFIED:20260110T155051Z
UID:24404-1769797800-1769808600@www.suomenvoimanostoliitto.fi
SUMMARY:Kansallinen voimanostokilpailu\, Kokkola\, 30.1.2026
DESCRIPTION:Kilpailujen järjestäjä: Kokkolan Jymy \nKilpailupäivä: 2026-01-30 \nKilpailun tyyppi: Kansallinen \nMikä kilpailu on kyseessä: Voimanosto \nKilpailupaikka osoitteineen: Kokkolan urheilutalo\, Vapaudentie 1 67100 Kokkola \nPunnitusaikataulu: 17.00-18.00 \nKilpailujen alkamisaika: 18.30 \nSarjat ja ikäluokat: kaikki \nOsanottomaksu: 35€ \nOsanottomäärä: 5 \nMilloin ilmoittauduttava: 16.1 mennessä \nKenelle ilmoittauduttava: pette@anvianet.fi / mats finne Muut huomiot: lyhyt puntari\, max 5 nostajaa \nLisätietoja: 0504146041 / mats
URL:https://www.suomenvoimanostoliitto.fi/tapahtuma/kansallinen-voimanostokilpailu-kokkola-30-1-2026/
LOCATION:Kokkolan urheilutalo\, Vapaudentie 1\, KOKKOLA\, 67100\, Finland
CATEGORIES:Kansallinen kilpailu
ORGANIZER;CN="Kokkolan Jymy":MAILTO:pette@anvianet.fi
END:VEVENT
END:VCALENDAR