BEGIN:VCALENDAR
VERSION:2.0
PRODID:-//Suomen Voimanostoliitto ry - ECPv6.9.0//NONSGML v1.0//EN
CALSCALE:GREGORIAN
METHOD:PUBLISH
X-WR-CALNAME:Suomen Voimanostoliitto ry
X-ORIGINAL-URL:https://www.suomenvoimanostoliitto.fi
X-WR-CALDESC:Events for Suomen Voimanostoliitto ry
REFRESH-INTERVAL;VALUE=DURATION:PT1H
X-Robots-Tag:noindex
X-PUBLISHED-TTL:PT1H
BEGIN:VTIMEZONE
TZID:Europe/Helsinki
BEGIN:DAYLIGHT
TZOFFSETFROM:+0200
TZOFFSETTO:+0300
TZNAME:EEST
DTSTART:20250330T010000
END:DAYLIGHT
BEGIN:STANDARD
TZOFFSETFROM:+0300
TZOFFSETTO:+0200
TZNAME:EET
DTSTART:20251026T010000
END:STANDARD
END:VTIMEZONE
BEGIN:VEVENT
DTSTART;TZID=Europe/Helsinki:20251004T090000
DTEND;TZID=Europe/Helsinki:20251004T170000
DTSTAMP:20260423T182645
CREATED:20250729T041504Z
LAST-MODIFIED:20250915T115133Z
UID:22419-1759568400-1759597200@www.suomenvoimanostoliitto.fi
SUMMARY:SFI-mestaruuskilpailut\, kansallinen voimanostokilpailu (KK Eken)
DESCRIPTION:Kilpailujen järjestäjä: Kraftklubben KK Eken \nKilpailupäivä: 2025-10-04 \nKilpailun tyyppi: Kansallinen \nMikä kilpailu on kyseessä: Voimanosto \nKilpailupaikka osoitteineen: Fleminginkatu 19 10600 Tammisaari \nPunnitusaikataulu: 09:00 – 10:30 \nKilpailujen alkamisaika: 11:00 \nSarjat ja ikäluokat: Kaikki sarjat/ ikäluokat \n1. luokan tuomarit: Kyllä \nOsanottomaksu: 35 eur\, \nTilinumero: FI53 5549 6640 0167 74 \nOsanottomäärä: Voimanoston SFI mestaruuskilpailu vain SFI nostajille. \nMilloin ilmoittauduttava: 19.9.2025 \nKenelle ilmoittauduttava: ville.orasmaa@svnl.fi \nMuut huomiot: \nLisätietoja: Ville Orasmaa p.0505596485
URL:https://www.suomenvoimanostoliitto.fi/tapahtuma/sfi-mestaruuskilpailut-kansallinen-voimanostokilpailu-kk-eken/
LOCATION:Tammisaaren Palloiluhalli\, Fleminginkatu 19\, Tammisaari\, 10600\, Suomi
CATEGORIES:Kansallinen kilpailu
END:VEVENT
BEGIN:VEVENT
DTSTART;TZID=Europe/Helsinki:20251004T093000
DTEND;TZID=Europe/Helsinki:20251004T170000
DTSTAMP:20260423T182645
CREATED:20250702T120505Z
LAST-MODIFIED:20250702T124131Z
UID:22289-1759570200-1759597200@www.suomenvoimanostoliitto.fi
SUMMARY:Akaan avoimet kansalliset voimanostokilpailut (AVo)
DESCRIPTION:Kilpailujen järjestäjä: Akaan Voima ry \nKilpailupäivä: 2025-10-04 \nKilpailun tyyppi: Kansallinen \nMikä kilpailu on kyseessä: Voimanosto \nKilpailupaikka osoitteineen: Köyvärintie 8\, 37800 Akaa \nPunnitusaikataulu: 9.30-10.30 \nKilpailujen alkamisaika: 11.00 \nSarjat ja ikäluokat: Kaikki sarjat\, ei ikäluokkia 1. luokan tuomarit: Ei \nOsanottomaksu: 45 \nOsanottomäärä: Maks. 28 hlöä eli 2 täyttä nostoryhmää. Kisapaikalla AVo:n kisakahvila ja kisapaitamyynti. \nMilloin ilmoittauduttava: 26.9.2025 klo 23.00 mennessä \nKenelle ilmoittauduttava: https://www.suomisport.fi/events/085d5702-da41-4099-8821-455dea7ca53b \nMuut huomiot: Akaan Voiman jäsenille osallistuminen ilmainen alennuskoodilla jonka saat pyytämällä Jarilta \nLisätietoja: Jari Mutanen p. 050 4029 554 (myös whatsapp)
URL:https://www.suomenvoimanostoliitto.fi/tapahtuma/kansallinen-voimanostokilpailu-avo/
LOCATION:Köyvärintie 8\, Köyvärintie 8\, Akaa\, 37800
CATEGORIES:Kansallinen kilpailu
END:VEVENT
BEGIN:VEVENT
DTSTART;TZID=Europe/Helsinki:20251004T093000
DTEND;TZID=Europe/Helsinki:20251004T170000
DTSTAMP:20260423T182645
CREATED:20250805T111405Z
LAST-MODIFIED:20250819T132222Z
UID:22471-1759570200-1759597200@www.suomenvoimanostoliitto.fi
SUMMARY:Kansallinen voimanostokilpailu (TVN)
DESCRIPTION:Kilpailujen järjestäjä: Tampereen Voimanostajat ry \nKilpailupäivä: 2025-10-04 \nKilpailun tyyppi: Kansallinen \nMikä kilpailu on kyseessä: Voimanosto \nKilpailupaikka osoitteineen: Nääshalli\, Näsijärvenkatu 8\, 33210 Tampere \nPunnitusaikataulu: 09:30-11:00 \nKilpailujen alkamisaika: 11:30 \nSarjat ja ikäluokat: Kaikki sarjat ja ikäluokat \n1. luokan tuomarit: Kyllä \nOsanottomaksu: 35€ \nOsanottomäärä: Maksimissaan 30 nostajaa \nMilloin ilmoittauduttava: 1.10.2025 \nKenelle ilmoittauduttava: matti.rajaniemi2@gmail.com \nMuut huomiot: Kisamaksu 35€ maksettava 1.10.2025 mennessä tilille FI11 8330 0710 1097 56. Saajaksi Tampereen Voimanostajat ry ja viestikenttään nostajan nimi. \nPaikalla ykkösen tuomarit\, joten SE:t ovat mahdollisia. \nLisätietoja: matti.rajaniemi2@gmail.com
URL:https://www.suomenvoimanostoliitto.fi/tapahtuma/kansallinen-voimanostokilpailu-tvn-2/
LOCATION:Nääshallin toiminnallinen liikuntasali\, Näsijärvenkatu 8\, Tampere\, 33210\, Suomi
CATEGORIES:Kansallinen kilpailu
ORGANIZER;CN="Tampereen Voimanostajat ry":MAILTO:mankku68@gmail.com
END:VEVENT
BEGIN:VEVENT
DTSTART;TZID=Europe/Helsinki:20251004T110000
DTEND;TZID=Europe/Helsinki:20251004T170000
DTSTAMP:20260423T182645
CREATED:20250818T105716Z
LAST-MODIFIED:20250818T105716Z
UID:22613-1759575600-1759597200@www.suomenvoimanostoliitto.fi
SUMMARY:Kansallinen voimanostokilpailu (HauVo)
DESCRIPTION:Kilpailujen järjestäjä: Haukiputaan Voimailijat ry \nKilpailupäivä: 2025-10-04 \nKilpailun tyyppi: Kansallinen \nMikä kilpailu on kyseessä: Voimanosto \nKilpailupaikka osoitteineen: Liikuntakeskus Core\, Takomotie 1\, 90830 Haukipudas \nPunnitusaikataulu: 11.00-12.30 \nKilpailujen alkamisaika: 13.00 \nSarjat ja ikäluokat: kaikki \n\nluokan tuomarit: Ei\n\nOsanottomaksu: 30 €\, maksetaan tilille FI43 5740 7520 1127 48  viimeistään 25.9.2025 \nOsanottomäärä: Max 28\, kaksi ryhmää \nMilloin ilmoittauduttava: 25.9.2025 \nKenelle ilmoittauduttava: hauvory@gmail.com \nMuut huomiot: Ilmoittautumisviestissä on oltava kilpailijan nimi\, seura\, syntymävuosi \, nostomuoto ja painoluokka. Maksun viestikenttään ”Voimanosto lokakuu 2025”. \nLisätietoja: Antti Kotilaine\, 040 157 5707
URL:https://www.suomenvoimanostoliitto.fi/tapahtuma/kansallinen-voimanostokilpailu-hauvo-2/
LOCATION:Liikuntakeskus Core\, Takomotie 1\, Haukipudas\, 90830\, Suomi
CATEGORIES:Kansallinen kilpailu
ORGANIZER;CN="Haukiputaan Voimailijat ry":MAILTO:antti.kotilaine@gmail.com
END:VEVENT
BEGIN:VEVENT
DTSTART;TZID=Europe/Helsinki:20251011T100000
DTEND;TZID=Europe/Helsinki:20251011T170000
DTSTAMP:20260423T182645
CREATED:20250825T072319Z
LAST-MODIFIED:20250825T072319Z
UID:22701-1760176800-1760202000@www.suomenvoimanostoliitto.fi
SUMMARY:Kansallinen voimanostokilpailu (PomPy)
DESCRIPTION:Kilpailujen järjestäjä: Pomarkun Pyry voimailu\nKilpailupäivä: 2025-10-11\nKilpailun tyyppi: Kansallinen\nMikä kilpailu on kyseessä: Voimanosto\nKilpailupaikka osoitteineen: Pomarkun Monitoimihalli\, Harjantie 1\, 29630 Pomarkku\nPunnitusaikataulu: 10:00-11:30\nKilpailujen alkamisaika: 12:00\nSarjat ja ikäluokat: Kaikki sarjat ja ikäluokat\n1. luokan tuomarit: Ei\nOsanottomaksu: 35 € maksetaan Pomarkun Pyryn voimailun tilille FI83 5106 0120 1632 50 ilmoittautumisajan loppuun eli 3.10 mennessä\nOsanottomäärä: 20\nMilloin ilmoittauduttava: 3.10 mennessä\nKenelle ilmoittauduttava: sähköpostilla: voimailu@pomarkunpyry.onmicrosoft.com\nMuut huomiot: Ilmoita nimi\, seura\, syntymävuosi\, ikä- ja painoluokka\nLisätietoja: Marjaana Vähäsantanen 0504671126 tai Mikko Lähteenmäki 0505266764
URL:https://www.suomenvoimanostoliitto.fi/tapahtuma/kansallinen-voimanostokilpailu-pompy-3/
LOCATION:Pomarkun Monitoimihalli\, Harjantie 1\, Pomarkku\, 29630\, Suomi
CATEGORIES:Kansallinen kilpailu
END:VEVENT
BEGIN:VEVENT
DTSTART;TZID=Europe/Helsinki:20251011T103000
DTEND;TZID=Europe/Helsinki:20251011T170000
DTSTAMP:20260423T182645
CREATED:20250818T105534Z
LAST-MODIFIED:20250818T105534Z
UID:22611-1760178600-1760202000@www.suomenvoimanostoliitto.fi
SUMMARY:Kansallinen penkkipunnerruskilpailu (PV)
DESCRIPTION:  \nKilpailujen järjestäjä: Pietarsaaren Voimailijat \nKilpailupäivä: 2025-10-11 \nKilpailun tyyppi: Kansallinen \nMikä kilpailu on kyseessä: Penkkipunnerrus \nKilpailupaikka osoitteineen: Jeppis Gym Koulukatu 25\, 68600 Pietarsaari \nPunnitusaikataulu: 10.30-11.30 \nKilpailujen alkamisaika: 12.00 \nSarjat ja ikäluokat: kaikki sarjat \n\nluokan tuomarit: Kyllä\n\nOsanottomaksu: 25€  maksetaan tilille  FI08 5567 0720 1183 42 \nOsanottomäärä: ei rajattu \nMilloin ilmoittauduttava: 4.10 mennessä \nKenelle ilmoittauduttava: Juhani Salo 045-6952959  tekstiviesti / whatsapp Muut huomiot: huom. lyhyt punnitus. \nLisätietoja: salojuh@hotmail.com
URL:https://www.suomenvoimanostoliitto.fi/tapahtuma/kansallinen-penkkipunnerruskilpailu-pv-3/
LOCATION:Jeppis Gym\, Koulukatu 25\, Pietarsaari\, 68600\, Suomi
CATEGORIES:Kansallinen kilpailu
ORGANIZER;CN="Pietarsaaren Voimailijat":MAILTO:salojuh@hotmail.com
END:VEVENT
BEGIN:VEVENT
DTSTART;TZID=Europe/Helsinki:20251012T083000
DTEND;TZID=Europe/Helsinki:20251012T170000
DTSTAMP:20260423T182645
CREATED:20250123T094234Z
LAST-MODIFIED:20250707T073641Z
UID:19971-1760257800-1760288400@www.suomenvoimanostoliitto.fi
SUMMARY:Opiskelijoiden SM-kilpailut\, kansallinen voimanostokilpailu (HKaanto)
DESCRIPTION:Kilpailujen järjestäjä: Herwannan Hauiskääntö \nKilpailupäivä: 2025-10-12 \nKilpailun tyyppi: Kansallinen \nMikä kilpailu on kyseessä: Voimanosto \nKilpailupaikka osoitteineen: Tamppi areena\, Korkeakoulunkatu 12\, 33720 Tampere \nPunnitusaikataulu: ilmoitetaan kun ilmoitusaika sulkeutuu \nKilpailujen alkamisaika: miehet: ilmoitetaan kun ilmoitusaika sulkeutuu \nOsanottomaksu: 45€. Lisäksi OLL:n ulkopuoliset korkeakouluopiskelijat maksavat 50% osallistumis maksusta OLL- lisää \nOsanottomäärä: 40 (arvio viiime vuoden perusteella) \nMilloin ilmoittauduttava: ilmoitetaan myöhemmin \nKenelle ilmoittauduttava: : https://forms.gle/4mWZ1roWRLX2baHn9 \nMuut huomiot: HUOM! Kyseessä on opiskelijoiden mestaruuskilpailu\, joten osallistuminen edellyttää voimassaolevaa toisen tai korkea-asteen oppilaitoksen opiskelijakorttia\, läsnäolotodistusta tai todistusta kuluvana tai edellisenä kalenterivuonna Kilpailuilmoittautumisessa ei kysytä painoluokkia\, vaan ne määräytyvät kilpailupäivänä puntarilla. Kilpailu käydään kaikki kaikkiavastaan -periaatteella vertaamalla pisteitä. Kaikkien kilpailuun osallistuvien tulos kirjataan kuitenkin muuten normaalisti pöytäkirjaan. \nOpiskelijoiden SM-kilpailut toimivat valintakilpailuna opiskelijoiden arvokilpailuihin kuten Opiskelijoiden MM-kisat ja University cupit \n  \nLauantaina 11.10.2025 kilpaillaan painonnostossa\, sekä lisenssittömien nostajien rentosarjassa. Kilpailussa on mahdollista kilpailla myös supertotalissa\, eli painonnoston ja voimanoston yhteispisteissä \nLisätietoja: Herwannan Hauiskäännön kotisivuilta osoitteesta hkaanto.fi\, tai sähköpostiosoitteesta hkaanto@lists.tuni.fi
URL:https://www.suomenvoimanostoliitto.fi/tapahtuma/opiskelijoiden-sm-kilpailut-kansallinen-voimanostokilpailu-hkaanto/
LOCATION:Tamppi Areena\, Korkeakoulunkatu 12\, Tampere\, 33720\, Suomi
CATEGORIES:Kansallinen kilpailu
ORGANIZER;CN="Herwannan Hauisk%C3%A4%C3%A4nt%C3%B6":MAILTO:hkaanto@lists.tuni.fi
END:VEVENT
BEGIN:VEVENT
DTSTART;TZID=Europe/Helsinki:20251018T100000
DTEND;TZID=Europe/Helsinki:20251018T170000
DTSTAMP:20260423T182645
CREATED:20250127T152912Z
LAST-MODIFIED:20251003T040518Z
UID:19993-1760781600-1760806800@www.suomenvoimanostoliitto.fi
SUMMARY:Kansallinen voimanostokilpailu (Rauman Ydinvoima)
DESCRIPTION:Kilpailujen järjestäjä: Rauman Ydinvoima \nKilpailupäivä: 2025-10-18 \nKilpailun tyyppi: Kansallinen \nMikä kilpailu on kyseessä: Voimanosto \nKilpailupaikka osoitteineen: on Kauppiksen liikuntasali\, Satamakatu 26\, 26100 Rauma. \nPunnitusaikataulu: 10:00 – 11:30 \nKilpailujen alkamisaika: 12:00 \nSarjat ja ikäluokat: Kaikki sarjat ja ikäluokat \nOsanottomaksu: 30 euroa maksetaan Rauman Ydinvoiman tilille: FI56 4108 0012 0513 33. \nOsanottomäärä: Ei rajoitettu. \nMilloin ilmoittauduttava: Viimeistään 15.10.2025 \nKenelle ilmoittauduttava: Ilmoittautumiset tehdään Rauman Ydinvoiman verkkosivujen Ilmoittautumiset-välilehden lomakkeen kautta. http://www.raumanydinvoima.fi/?page_id=15767 \nMuut huomiot: Nostetaan sekä klassisessa että varustekilpailumuodossa. Klassisen ja varustekilpailun nostajat punnitaan yhdessä punnituksessa. Kilpailuun osallistuvan nostajan on ilmoittautumisen yhteydessä ilmoitettava kummassa kilpailumuodossa (klassinen ja/tai varuste) aikoo nostaa. Mikäli aiot nostaa molemmissa nostomuodoissa niin ilmoittautumisen yhteydessä maksa kaksi kisamaksua. \nTapahtumaan on yleisöllä vapaa pääsy ja kilpailuissa on kaikille avoin kahvitarjoilu. \nRyhmäjako julkaistaan Rauman Ydinvoiman nettisivuilla ilmoittautumisajan päättymisen jälkeen. Osallistumismaksua ei palauteta\, mikäli kilpailija peruuttaa tulonsa tai jää pois kilpailuista. Kilpailuissa on 1-lk tuomarit. \nLisätietoja: Arto Manninen\, 0400 435266\, kilpailut@raumanydinvoima.fi
URL:https://www.suomenvoimanostoliitto.fi/tapahtuma/kansallinen-voimanostokilpailu-rauman-ydinvoima-2/
LOCATION:Kauppiksen sali\, Satamakatu 26\, Rauma\, 26200\, Suomi
CATEGORIES:Kansallinen kilpailu
ORGANIZER;CN="Rauman Ydinvoima":MAILTO:kilpailut@raumanydinvoima.fi
END:VEVENT
END:VCALENDAR