BEGIN:VCALENDAR
VERSION:2.0
PRODID:-//Suomen Voimanostoliitto ry - ECPv6.9.0//NONSGML v1.0//EN
CALSCALE:GREGORIAN
METHOD:PUBLISH
X-WR-CALNAME:Suomen Voimanostoliitto ry
X-ORIGINAL-URL:https://www.suomenvoimanostoliitto.fi
X-WR-CALDESC:Events for Suomen Voimanostoliitto ry
REFRESH-INTERVAL;VALUE=DURATION:PT1H
X-Robots-Tag:noindex
X-PUBLISHED-TTL:PT1H
BEGIN:VTIMEZONE
TZID:Europe/Helsinki
BEGIN:DAYLIGHT
TZOFFSETFROM:+0200
TZOFFSETTO:+0300
TZNAME:EEST
DTSTART:20250330T010000
END:DAYLIGHT
BEGIN:STANDARD
TZOFFSETFROM:+0300
TZOFFSETTO:+0200
TZNAME:EET
DTSTART:20251026T010000
END:STANDARD
END:VTIMEZONE
BEGIN:VEVENT
DTSTART;TZID=Europe/Helsinki:20250809T083000
DTEND;TZID=Europe/Helsinki:20250809T170000
DTSTAMP:20260423T214402
CREATED:20250526T084513Z
LAST-MODIFIED:20250526T084513Z
UID:21857-1754728200-1754758800@www.suomenvoimanostoliitto.fi
SUMMARY:Jäsentenvälinen voimanostokilpailu (OPT)
DESCRIPTION:Kilpailujen järjestäjä: Oulun Power Team ry \nKilpailupäivä: 2025-08-09 \nKilpailun tyyppi: Jäsentenvälinen \nMikä kilpailu on kyseessä: Voimanosto \nKilpailupaikka osoitteineen: Kuntosali Puntti\, Mielikintie 1\, 90550 Oulu \nPunnitusaikataulu: 8:30 \nKilpailujen alkamisaika: 10:00 \nSarjat ja ikäluokat: Kaikki sarjat ja ikäluokat 1. luokan tuomarit: Ei \nOsanottomaksu: 30 EUR. Maksettava 2.8.2025 mennessä. \nOsanottomäärä: Yksi ryhmä. \nMilloin ilmoittauduttava: 2.8.2025 \nKenelle ilmoittauduttava: Katja Kärkkäinen\, katturpeinen@hotmail.com \nMuut huomiot: Koska kyseeessä on jäsentenvälinen kilpailu\, niin lisenssittömät seuran jäsenet voivat osallistua kilpailuun. Näiden lisenssittömien nostajien tuloksia ei julkaista eikä rekisteröidä. Siten heillä on mahdollisuus tutustua lajiin matalalla kynnyksellä. \nLisätietoja: Katja Kärkkäinen\, 040 700 3274
URL:https://www.suomenvoimanostoliitto.fi/tapahtuma/jasentenvalinen-voimanostokilpailu-opt-2/
LOCATION:Kuntosali Puntti\, Mielikintie 1\, Oulu\, 90550\, Suomi
CATEGORIES:Jäsentenvälinen,Kansallinen kilpailu
ORGANIZER;CN="Oulun Power Team ry":MAILTO:sami.a.siltala@gmail.com
END:VEVENT
BEGIN:VEVENT
DTSTART;TZID=Europe/Helsinki:20250816T100000
DTEND;TZID=Europe/Helsinki:20250816T170000
DTSTAMP:20260423T214402
CREATED:20250218T085414Z
LAST-MODIFIED:20250218T085414Z
UID:20312-1755338400-1755363600@www.suomenvoimanostoliitto.fi
SUMMARY:Kansallinen penkkipunnerruskilpailu (ÅKK)
DESCRIPTION:Kilpailujen järjestäjä: Ålands Kraftsportklubb r.f. (ÅKK) \nKilpailupäivä: 2025-08-16 \nKilpailun tyyppi: Kansallinen \nMikä kilpailu on kyseessä: Penkkipunnerrus \nKilpailupaikka osoitteineen: Torget\, Torggatan 13\, 22100 Mariehamn \nPunnitusaikataulu: 10.00-11.30 \nKilpailujen alkamisaika: 12.00 \nSarjat ja ikäluokat: Damer Lättvikt upp till 52\,00 kg\, Damer Mellanvikt 52\,01 – 63\,00 kg\, Damer Lätt tungvikt 63\,01 – 76\,00 kg\, Damer Tungvikt 76\,01 kg och uppåt\, Herrar Lättvikt upp till 66\,00 kg\, Herrar Mellanvikt 66\,01 – 83\,00 kg\, Herrar Lätt tungvikt 83\,01 – 105\,00 kg\, Herrar Tungvikt 105\,01 kg och uppåt. Alla tävlar i öppen åldersklass. \n\nluokan tuomarit: Kyllä\n\nOsanottomaksu: 40 € \nOsanottomäärä: – \nMilloin ilmoittauduttava: 26.07.2025 \nKenelle ilmoittauduttava: info@kraftsport.nu Muut huomiot: ÅKK arrangerar 16 augusti 2025 en bänkpresstävling utomhus på Torget i Mariehamn under Åland Sport Week i samarbete med Ålands Idrott. Tävlingen kommer att avgöras på koefficient (IPFGL) och det blir både klassisk och utrustad tävling. Tävlande från Finland och Sverige kan delta! Reservplats för tävling vid dåligt väder är Idrottsgården\, Neptunigatan 23 i Mariehamn. \nNationella rekord kan slås\, men enbart vikter som är delbara med 2\,5 kg är möjliga att göra. \nMedaljer till topp-3 i de fyra viktklasserna\, samt pokaler till de tre bästa damerna respektive herrarna enligt IPFGL. \nMeddela namn\, födelseår\, förening\, viktklass (t.ex. mellanvikt) samt bästa tävlingsresultat enligt IPFGL under perioden 1.8.2024 – 26.7.2025. Om grupperna måste delas till A- och B-grupp rankas de anmälda enligt IPFGL. Anmälningsavgiften är 40 € vilket betalas till ÅKKs konto FI0255780440014794. BIC/SWIFT: OKOYFIHH. \n  \nEn överenskommelse med Svenska Styrkelyftförbundet har möjliggjort deltagande för tävlande från Sverige (dispensansökan till tävlingskommittén i Sverige behövs dock\, men beviljas vartefter ansökningar görs per email). Vi kommer att ha internationella domare. \nUr ett dopingkontrollperspektiv betraktas tävlingen som en internationell tävling\, varför internationella dopingregler ska beaktas och att eventuella dispensansökningar för mediciner\, behandlingar och liknande ska sökas. \nDet blir en avslutningsmiddag på Mariepark efter tävlingen. Mer info om meny och pris kommer senare. \nLisätietoja: info@kraftsport.nu
URL:https://www.suomenvoimanostoliitto.fi/tapahtuma/kansallinen-penkkipunnerruskilpailu-akk-2/
LOCATION:Torggatan 13\, Torggatan 13\, Mariehamn\, 22100\, Suomi
CATEGORIES:Kansallinen kilpailu
ORGANIZER;CN="%C3%85lands Kraftsportklubb":MAILTO:info@kraftsport.nu
END:VEVENT
BEGIN:VEVENT
DTSTART;TZID=Europe/Helsinki:20250816T100000
DTEND;TZID=Europe/Helsinki:20250816T170000
DTSTAMP:20260423T214402
CREATED:20250522T093507Z
LAST-MODIFIED:20250522T093507Z
UID:21810-1755338400-1755363600@www.suomenvoimanostoliitto.fi
SUMMARY:Kansallinen voimanostokilpailu (JuPu)
DESCRIPTION:Kilpailujen järjestäjä: Juankosken Punnerrus ry \nKilpailupäivä: 2025-08-16 \nKilpailun tyyppi: Kansallinen \nMikä kilpailu on kyseessä: Voimanosto \nKilpailupaikka osoitteineen: Juankosken Punnerruksen kuntosali\, Ruukintie 5\, Juankoski \nPunnitusaikataulu: 10.00-11.30 \nKilpailujen alkamisaika: 12.00 \nSarjat ja ikäluokat: Kaikki sarjat ja ikäluokat \n1. luokan tuomarit: Ei \nOsanottomaksu: 30 € \nOsanottomäärä: Max 28 osallistujaa \nMilloin ilmoittauduttava: 5.8.2025 \nKenelle ilmoittauduttava: Jari Martikainen WhatsApp 050-5617183 \nMuut huomiot: Osallistumismaksu Juankosken Punnerruksen tilille FI76 5288 0420 0901 95 \nLisätietoja:
URL:https://www.suomenvoimanostoliitto.fi/tapahtuma/kansallinen-voimanostokilpailu-jupu/
LOCATION:Ruukintie 5\, Juankoski
CATEGORIES:Kansallinen kilpailu
END:VEVENT
BEGIN:VEVENT
DTSTART;TZID=Europe/Helsinki:20250821T163000
DTEND;TZID=Europe/Helsinki:20250821T210000
DTSTAMP:20260423T214402
CREATED:20250527T100156Z
LAST-MODIFIED:20250527T100156Z
UID:21867-1755793800-1755810000@www.suomenvoimanostoliitto.fi
SUMMARY:Kansallinen voimanostokilpailu (HeTa)
DESCRIPTION:Kilpailujen järjestäjä: Helsingin Tarmo \nKilpailupäivä: 2025-08-21 \nKilpailun tyyppi: Kansallinen \nMikä kilpailu on kyseessä: Voimanosto \nKilpailupaikka osoitteineen: Ratsastie 10 00280 Helsinki \nPunnitusaikataulu: 16.30 \nKilpailujen alkamisaika: 18.00 \nSarjat ja ikäluokat: Kaikki \n\nluokan tuomarit: Ei\n\nOsanottomaksu: Ulkopuolisille 20 € ja seuran jäsenille ilmainen \nOsanottomäärä: Max 10 \nMilloin ilmoittauduttava: 8.8.2025 \nKenelle ilmoittauduttava: hetakisailmot.voimanosto@gmail.com \nMuut huomiot: Kun lähetät ilmoitusviestin saat paluuviestinä tilinumeron osallistumismaksua varten. \nLisätietoja: hetakisailmot.voimanosto@gmail.com
URL:https://www.suomenvoimanostoliitto.fi/tapahtuma/kansallinen-voimanostokilpailu-heta-2/
LOCATION:ratsastie 10\, Ratsastie 10\, HELSINKI\, Uusimaa\, 00280\, Finland
CATEGORIES:Kansallinen kilpailu
ORGANIZER;CN="Helsingin Tarmo":MAILTO:hetakisailmot.voimanosto@gmail.com
END:VEVENT
BEGIN:VEVENT
DTSTART;TZID=Europe/Helsinki:20250823T100000
DTEND;TZID=Europe/Helsinki:20250823T170000
DTSTAMP:20260423T214402
CREATED:20250123T094040Z
LAST-MODIFIED:20250318T084235Z
UID:19969-1755943200-1755968400@www.suomenvoimanostoliitto.fi
SUMMARY:Kansallinen voimanostokilpailu (HKaanto)
DESCRIPTION:Kilpailujen järjestäjä: Herwannan Hauiskääntö \nKilpailupäivä: 2025-08-23 \nKilpailun tyyppi: Kansallinen \nMikä kilpailu on kyseessä: Voimanosto \nKilpailupaikka osoitteineen: Korkeakoulunkatu 12\, 33720 Tampere \nPunnitusaikataulu: 10:00-11:30 \nKilpailujen alkamisaika: 12:00 \nSarjat ja ikäluokat: kaikki \nOsanottomaksu: jäsenille ilmainen \nOsanottomäärä: max 2 ryhmää (28 henkilöä) \nKISA ON TÄYNNÄ (18.3.2025 EDIT) Milloin ilmoittauduttava: viimeistään 16.08.2025  \nKenelle ilmoittauduttava: hkaanto@lists.tuni.fi \nMuut huomiot: Ilmoittautumiseen nimi\, seura\, syntymäpäivä\, paino- ja ikäluokka\, sähköpostiosoite lisätiedoille ja kuva voimassa olevasta kilpailulisenssistä Suomisportista \nLisätietoja: hkaanto@lists.tuni.fi
URL:https://www.suomenvoimanostoliitto.fi/tapahtuma/kansallinen-voimanostokilpailu-hkaanto-2/
LOCATION:Korkeakoulunkatu 12\, Korkeakoulunkatu 12\, Tampere\, 33720\, Finland
CATEGORIES:Kansallinen kilpailu
ORGANIZER;CN="Herwannan Hauisk%C3%A4%C3%A4nt%C3%B6":MAILTO:hkaanto@lists.tuni.fi
END:VEVENT
BEGIN:VEVENT
DTSTART;TZID=Europe/Helsinki:20250823T100000
DTEND;TZID=Europe/Helsinki:20250823T170000
DTSTAMP:20260423T214402
CREATED:20250127T153135Z
LAST-MODIFIED:20250127T153135Z
UID:19995-1755943200-1755968400@www.suomenvoimanostoliitto.fi
SUMMARY:Kansallinen penkkipunnerruskilpailu (Rauman Ydinvoima)
DESCRIPTION:Kilpailujen järjestäjä: Rauman Ydinvoima \nKilpailupäivä: 2025-08-23 \nKilpailun tyyppi: Kansallinen \nMikä kilpailu on kyseessä: Penkkipunnerrus \nKilpailupaikka osoitteineen: Liikuntakeskus Kuntosumppu\, Karjalankatu 29\, 26100 Rauma \nPunnitusaikataulu: 10:00 – 11:30 \nKilpailujen alkamisaika: 12:00 \nSarjat ja ikäluokat: Kaikki sarjat ja ikäluokat \nOsanottomaksu: 30 euroa maksetaan Rauman Ydinvoiman tilille: FI56 4108 0012 0513 33. \nOsanottomäärä: Ei rajoitettu. \nMilloin ilmoittauduttava: Viimeistään 20.8.2025 \nKenelle ilmoittauduttava: Ilmoittautumiset tehdään Rauman Ydinvoiman verkkosivujen Ilmoittautumiset-välilehden lomakkeen kautta. http://www.raumanydinvoima.fi/?page_id=15767 \nMuut huomiot: Nostetaan sekä klassisessa että varustekilpailumuodossa. Klassisen ja varustekilpailun nostajat punnitaan yhdessä punnituksessa. Kilpailuun osallistuvan nostajan on ilmoittautumisen yhteydessä ilmoitettava kummassa kilpailumuodossa (klassinen ja/tai varuste) aikoo nostaa. Mikäli aiot nostaa molemmissa nostomuodoissa niin ilmoittautumisen yhteydessä maksa kaksi kisamaksua. \nTapahtumaan on yleisöllä vapaa pääsy ja kilpailuissa on kaikille avoin kahvitarjoilu. \nRyhmäjako julkaistaan Rauman Ydinvoiman nettisivuilla ilmoittautumisajan päättymisen jälkeen. \nOsallistumismaksua ei palauteta\, mikäli kilpailija peruuttaa tulonsa tai jää pois kilpailuista. \nKilpailuissa on 2-lk tuomarit. \nLisätietoja: Arto Manninen\, 0400 435266\, kilpailut@raumanydinvoima.fi
URL:https://www.suomenvoimanostoliitto.fi/tapahtuma/kansallinen-penkkipunnerruskilpailu-rauman-ydinvoima-3/
LOCATION:Kuntosumppu\, Karjalankatu 29\, Rauma\, 26100\, Suomi
CATEGORIES:Kansallinen kilpailu
ORGANIZER;CN="Rauman Ydinvoima":MAILTO:kilpailut@raumanydinvoima.fi
END:VEVENT
BEGIN:VEVENT
DTSTART;TZID=Europe/Helsinki:20250830T090000
DTEND;TZID=Europe/Helsinki:20250830T170000
DTSTAMP:20260423T214402
CREATED:20250410T091658Z
LAST-MODIFIED:20250410T091658Z
UID:21308-1756544400-1756573200@www.suomenvoimanostoliitto.fi
SUMMARY:Kansallinen penkkipunnerruskilpailu (KP)
DESCRIPTION:Kilpailujen järjestäjä: Kuopion Painonnostajat ry \nKilpailupäivä: 2025-08-30 \nKilpailun tyyppi: Kansallinen \nMikä kilpailu on kyseessä: Penkkipunnerrus \nKilpailupaikka osoitteineen: Rajalan väestönsuojan kuntosali Taivaankannenkatu\, Kuopio \nPunnitusaikataulu: 9:00-10:30 \nKilpailujen alkamisaika: 11:00 \nSarjat ja ikäluokat: Kaikki sarjat ja ikäluokat 1. luokan tuomarit: Ei \nOsanottomaksu: 35€ \nOsanottomäärä: max 40. \nMilloin ilmoittauduttava: 23.8.2025 \nKenelle ilmoittauduttava: kuopionpainonnostajat@gmail.com \nMuut huomiot: Kilpailun yhteydessä järjestetään myös Suomen Voimapunnerrus ry:n alaiset toisto- ja maksimivoimapunneruskilpailut. Mahdollisuus osallistua neljään lajiin: klassinen ja varustepenkkipunnerrus\, toisto- ja maksimivoimapunnerrus. \n1 laji 35 € \n2 lajia 60 € \n3 tai 4 lajia 70 € \nLisätietoja: kuopionpainonnostajat@gmail.com
URL:https://www.suomenvoimanostoliitto.fi/tapahtuma/kansallinen-penkkipunnerruskilpailu-kp-2/
LOCATION:Rajalan väestönsuoja\, Rajalantie\, Kuopio\, Suomi
CATEGORIES:Kansallinen kilpailu
ORGANIZER;CN="Kuopion Painonnostajat":MAILTO:tuopuh@uef.fi
END:VEVENT
BEGIN:VEVENT
DTSTART;TZID=Europe/Helsinki:20250830T090000
DTEND;TZID=Europe/Helsinki:20250830T170000
DTSTAMP:20260423T214402
CREATED:20250526T084235Z
LAST-MODIFIED:20250728T055751Z
UID:21854-1756544400-1756573200@www.suomenvoimanostoliitto.fi
SUMMARY:Jäsentenvälinen voimanostokilpailu (LVK team)
DESCRIPTION:Kilpailujen järjestäjä: Lopen Voima ja Kuntoteam \nKilpailupäivä: 2025-08-30 \nKilpailun tyyppi: Jäsentenvälinen \nMikä kilpailu on kyseessä: Voimanosto \nKilpailupaikka osoitteineen: Viertotie 1  12700 Loppi \nPunnitusaikataulu: 9.00 \nKilpailujen alkamisaika: 11.00 \nSarjat ja ikäluokat: Kaikki sarjat ja ikäluokat 1. luokan tuomarit: Ei \nOsanottomaksu: Ei osanottomaksua \nOsanottomäärä: Ei rajattu \nMilloin ilmoittauduttava: Su 24.8. klo 24.00 mennessä \nKenelle ilmoittauduttava: S-posti :  lopenvoimajakunto@gmail.com \nMuut huomiot: Teamin jäsenillä mahdollisuus osallistua ilman lisenssiä. \nLisätietoja: Puh: 04573379690  (LVK team)
URL:https://www.suomenvoimanostoliitto.fi/tapahtuma/jasentenvalinen-voimanostokilpailu-lvk-team-3/
LOCATION:Viertotie 1\, Viertotie 1\, Loppi\, 12700\, Finland
CATEGORIES:Jäsentenvälinen,Kansallinen kilpailu
END:VEVENT
BEGIN:VEVENT
DTSTART;TZID=Europe/Helsinki:20250830T100000
DTEND;TZID=Europe/Helsinki:20250830T170000
DTSTAMP:20260423T214402
CREATED:20240812T124112Z
LAST-MODIFIED:20241117T181433Z
UID:17979-1756548000-1756573200@www.suomenvoimanostoliitto.fi
SUMMARY:Kansallinen penkkipunnerruskilpailu (AavKi)
DESCRIPTION:Kilpailujen järjestäjä: Aavasaksan Kisa ry. \nKilpailupäivä: 2025-08-30 \nKilpailun tyyppi: Kansallinen \nMikä kilpailu on kyseessä: Penkkipunnerrus \nKilpailupaikka osoitteineen: Aavasaksan Kisan maja\, Antunojankuja 3\, Ylitornio \nPunnitusaikataulu: 10:00 – 11:30 \nKilpailujen alkamisaika: 12:00 \nSarjat ja ikäluokat: Kaikki sarjat ja ikäluokat \nOsanottomaksu: 40\,00 €\, maksetaan 25.8.2025 mennessä tilille Ylitornion OP FI37 5533 0020 0330 44 \nOsanottomäärä: Ei rajoitusta \nMilloin ilmoittauduttava: 25.8.2025 mennessä \nKenelle ilmoittauduttava: Tero Hyttinen\, sähköpostitse tero-hyttinen@hotmail.com \nMuut huomiot: Nostettava sarjassa\, mihin on ilmoittautunut \nLisätietoja: Tero Hyttinen\, gsm. 044 309 2263
URL:https://www.suomenvoimanostoliitto.fi/tapahtuma/kansallinen-penkkipunnerruskilpailu-aavki-2/
LOCATION:Aavasaksan Kisan maja\, Antunojankuja 3\, Ylitornio\, Suomi
CATEGORIES:Kansallinen kilpailu
ORGANIZER;CN="Aavasaksan Kisa ry":MAILTO:tero-hyttinen@hotmail.com
END:VEVENT
BEGIN:VEVENT
DTSTART;TZID=Europe/Helsinki:20250830T120000
DTEND;TZID=Europe/Helsinki:20250830T170000
DTSTAMP:20260423T214402
CREATED:20250609T184628Z
LAST-MODIFIED:20250609T184731Z
UID:22063-1756555200-1756573200@www.suomenvoimanostoliitto.fi
SUMMARY:Kansallinen voimanostokilpailu (JoPuPo)
DESCRIPTION:Kilpailujen järjestäjä: Joensuun Puntti-Pojat\nKilpailupäivä: 2025-08-30\nKilpailun tyyppi: Kansallinen\nMikä kilpailu on kyseessä: Voimanosto\nKilpailupaikka osoitteineen: Noljakankaari 1\, 80140 Joensuu\nPunnitusaikataulu: 10:30 – 11:30\nKilpailujen alkamisaika: 12:00\nSarjat ja ikäluokat: Kaikki\n1. luokan tuomarit: Ei\nOsanottomaksu: 30e\nOsanottomäärä: Max 20\nMilloin ilmoittauduttava: 24.8.2025 klo.24:00 mennessä\nKenelle ilmoittauduttava: Maria Karjalainen\, jopupovnvastaava@outlook.com\nMuut huomiot: Lyhyt punnitus. Nostajan on ilmoitettava ilmoittautumisen yhteydessä nostaako varustesarjassa vai klassisessa sarjassa. Osallistumismaksu maksetaan ilmoittautumisen yhteydessä tilille FI64 5770 0520 0660 33\, OKOYFIHH. Kuitti maksusta sekä voimassaoleva kilpailulisenssi esitettävä punnituksen yhteydessä. Maksua ei palauteta ilman hyväksyttävää syytä. Ilmoittautumiset ainoastaan sähköpostiin!\nLisätietoja: Maria Karjalainen\, p. 0447392571
URL:https://www.suomenvoimanostoliitto.fi/tapahtuma/kansallinen-voimanostokilpailu-joensuu-jopupo/
LOCATION:Noljakankaari 1\, Noljakankaari 1\, Joensuu\, 80140\, Suomi
CATEGORIES:Kansallinen kilpailu
ORGANIZER;CN="Joensuun Puntti-Pojat":MAILTO:jopupovnvastaava@outlook.com
END:VEVENT
END:VCALENDAR