BEGIN:VCALENDAR
VERSION:2.0
PRODID:-//Suomen Voimanostoliitto ry - ECPv6.9.0//NONSGML v1.0//EN
CALSCALE:GREGORIAN
METHOD:PUBLISH
X-WR-CALNAME:Suomen Voimanostoliitto ry
X-ORIGINAL-URL:https://www.suomenvoimanostoliitto.fi
X-WR-CALDESC:Events for Suomen Voimanostoliitto ry
REFRESH-INTERVAL;VALUE=DURATION:PT1H
X-Robots-Tag:noindex
X-PUBLISHED-TTL:PT1H
BEGIN:VTIMEZONE
TZID:Europe/Helsinki
BEGIN:DAYLIGHT
TZOFFSETFROM:+0200
TZOFFSETTO:+0300
TZNAME:EEST
DTSTART:20250330T010000
END:DAYLIGHT
BEGIN:STANDARD
TZOFFSETFROM:+0300
TZOFFSETTO:+0200
TZNAME:EET
DTSTART:20251026T010000
END:STANDARD
END:VTIMEZONE
BEGIN:VEVENT
DTSTART;TZID=Europe/Helsinki:20250503T080000
DTEND;TZID=Europe/Helsinki:20250503T170000
DTSTAMP:20260424T040050
CREATED:20250310T073233Z
LAST-MODIFIED:20250310T073233Z
UID:20676-1746259200-1746291600@www.suomenvoimanostoliitto.fi
SUMMARY:Kansallinen voimanostokilpailu (SalVo)
DESCRIPTION:Kilpailujen järjestäjä: Salon Voimailijat ry \nKilpailupäivä: 2025-05-03 \nKilpailun tyyppi: Kansallinen \nMikä kilpailu on kyseessä: Voimanosto \nKilpailupaikka osoitteineen: Hämeenojankatu 9\, 24260 Salo \nPunnitusaikataulu: klo 10:00 \nKilpailujen alkamisaika: klo 12:00 \nSarjat ja ikäluokat: Kaikki \n\nluokan tuomarit: Kyllä\n\nOsanottomaksu: 30 euroa\, SalVon jäsenille ilmainen. \nOsanottomäärä: Max 1 ryhmä: 12 nostajaa. \nMilloin ilmoittauduttava: 26.2. klo 20 mennessä \nKenelle ilmoittauduttava: hietanen.miika95@gmail.com \nMuut huomiot: Osanottomaksu tilille: FI04 5410 0240 0874 63 \nSaaja: Salon Voimailijat ry \nViesti: Kilpailu 2025 / kilpailijan nimi \n  \nIlmoitathan maksun yhteydessä sähköpostilla tarvittavat tiedot osallistumista varten. \n  \nKilpailuun järjestetään pieni kahvio. Kilpailupaikan läheisyydessä K-Market Ollikkala. \nLisätietoja: Miika Hietanen (0400398969)
URL:https://www.suomenvoimanostoliitto.fi/tapahtuma/kansallinen-voimanostokilpailu-salvo-2/
LOCATION:Hämeenojankatu\, Hämeenojankatu 9\, Salo\, 24260\, Finland
CATEGORIES:Kansallinen kilpailu
END:VEVENT
BEGIN:VEVENT
DTSTART;TZID=Europe/Helsinki:20250503T100000
DTEND;TZID=Europe/Helsinki:20250503T170000
DTSTAMP:20260424T040050
CREATED:20250205T051530Z
LAST-MODIFIED:20250205T051530Z
UID:20141-1746266400-1746291600@www.suomenvoimanostoliitto.fi
SUMMARY:Kansallinen voimanostokilpailu (VarpVi)
DESCRIPTION:Kilpailujen järjestäjä: Varpaisjärven Vire ry \nKilpailupäivä: 2025-05-03 \nKilpailun tyyppi: Kansallinen \nMikä kilpailu on kyseessä: Voimanosto \nKilpailupaikka osoitteineen: Varpaisjärven liikuntahalli\, Kirjastontie 4\, 73200 Varpaisjärvi \nPunnitusaikataulu: 10-11:30 \nKilpailujen alkamisaika: 12 \nSarjat ja ikäluokat: Kaikki sarjat ja ikäluokat 1. luokan tuomarit: Ei \nOsanottomaksu: 30 €\, Osallistumismaksu maksetaan ilmoittautumisen yhteydessä Varpaisjärven Vireen voimailujaoston tilille FI81 5501 0320 0239 74 \, OKOYFIHH. \nOsanottomäärä: Max 20 nostajaa \nMilloin ilmoittauduttava: 26.4.2025 klo 24 mennessä \nKenelle ilmoittauduttava: Markus Ahonen\, ilmoittautumiset sähköpostiin makeaho@hotmail.com \nMuut huomiot: Nostajan on ilmoitettava ilmoittautumisen yhteydessä nostaako varustesarjassa vai klassisessa sarjassa. Kuitti maksusta sekä voimassaoleva kilpailulisenssi esitettävä punnituksen yhteydessä. \nLisätietoja: Markus Ahonen\, sähköposti makeaho@hotmail.com ja puh. 0403573193
URL:https://www.suomenvoimanostoliitto.fi/tapahtuma/kansallinen-voimanostokilpailu-varpvi/
LOCATION:Varpaisjärven Liikuntahalli\, Kirjastontie 4\, Varpaisjärvi\, 73200\, Finland
CATEGORIES:Kansallinen kilpailu
END:VEVENT
BEGIN:VEVENT
DTSTART;TZID=Europe/Helsinki:20250503T120000
DTEND;TZID=Europe/Helsinki:20250503T170000
DTSTAMP:20260424T040050
CREATED:20250302T084233Z
LAST-MODIFIED:20250302T084233Z
UID:20524-1746273600-1746291600@www.suomenvoimanostoliitto.fi
SUMMARY:Kansallinen voimanostokilpailu (SalVo)
DESCRIPTION:Kilpailupaikka osoitteineen: Hämeenojankatu 9\, 24260 Salo \nPunnitusaikataulu: klo 10:00\nKilpailujen alkamisaika: klo 12:00\nSarjat ja ikäluokat: Kaikki\n1. luokan tuomarit: Kyllä \nOsanottomaksu: 30 euroa\, SalVon jäsenille ilmainen.\nOsanottomäärä: Max 1 ryhmä: 12 nostajaa.\nMilloin ilmoittauduttava: 26.4. klo 20 mennessä\nKenelle ilmoittauduttava: hietanen.miika95@gmail.com\nMuut huomiot: Osanottomaksu tilille: FI04 5410 0240 0874 63\nSaaja: Salon Voimailijat ry\nViesti: Kilpailu 2025 / kilpailijan nimi \nIlmoitathan maksun yhteydessä sähköpostilla tarvittavat tiedot osallistumista varten. \nKilpailuun järjestetään pieni kahvio. Kilpailupaikan läheisyydessä K-Market Ollikkala.
URL:https://www.suomenvoimanostoliitto.fi/tapahtuma/kansallinen-voimanostokilpailu-salvo/
CATEGORIES:Kansallinen kilpailu
END:VEVENT
BEGIN:VEVENT
DTSTART;TZID=Europe/Helsinki:20250517T090000
DTEND;TZID=Europe/Helsinki:20250517T170000
DTSTAMP:20260424T040050
CREATED:20250113T153501Z
LAST-MODIFIED:20250115T131222Z
UID:19874-1747472400-1747501200@www.suomenvoimanostoliitto.fi
SUMMARY:Kansallinen voimanostokilpailu (NPower)
DESCRIPTION:Kilpailujen järjestäjä: Nordic Power \nKilpailupäivä: 2025-05-17 \nKilpailun tyyppi: Kansallinen \nMikä kilpailu on kyseessä: Voimanosto \nKilpailupaikka osoitteineen: Vapaudentie 1 67100 Kokkola \nPunnitusaikataulu: 9.00-10.30 \nKilpailujen alkamisaika: 11.00 \nSarjat ja ikäluokat: Kaikki \nOsanottomaksu: 35€  tilille: FI5141080013057701 \nOsanottomäärä: Max 3 ryhmää\, Kilpailijat otetaan mukaan järjestyksessä\, ilmoittautumiset vain sähköpostilla. \nMilloin ilmoittauduttava: 10.5.2025 Mennessä nordic.power@outlook.com \nKenelle ilmoittauduttava: nordic.power@outlook.com \nMuut huomiot: Pidetään legendaarisen Kokkolan Urheilutalon viimeiset voimanostokisat tässä muodossaan. Tämän jälkeen kisahalli puretaan. Lisätietoja: Tomi Määttä 0503161638 mieluiten SMS/WA.  Pidätämme oikeuden muutoksiin jos covid-19 tai jokin muu Force Majeure-tilanne sen vaatii.  Ykkösen tuomarit pyritään järjestämään\, mutta sitä ei voida luvata varmaksi. \nLisätietoja: Tomi Määttä 0503161638 mieluiten SMS/WA.
URL:https://www.suomenvoimanostoliitto.fi/tapahtuma/kansallinen-voimanostokilpailu-npower/
LOCATION:Vapaudentie 1\, Vapaudentie 1\, Kokkola\, 67100\, Suomi
CATEGORIES:Kansallinen kilpailu
ORGANIZER;CN="Nordic Power":MAILTO:nordic.power@outlook.com
END:VEVENT
BEGIN:VEVENT
DTSTART;TZID=Europe/Helsinki:20250517T120000
DTEND;TZID=Europe/Helsinki:20250517T170000
DTSTAMP:20260424T040050
CREATED:20250408T052131Z
LAST-MODIFIED:20250408T052131Z
UID:21282-1747483200-1747501200@www.suomenvoimanostoliitto.fi
SUMMARY:Kansallinen penkkipunnerruskilpailu (KiurU)
DESCRIPTION:Kilpailujen järjestäjä: Kiuruveden Urheilijat ry. \nKilpailupäivä: 2025-05-17 \nKilpailun tyyppi: Kansallinen \nMikä kilpailu on kyseessä: Penkkipunnerrus \nKilpailupaikka osoitteineen: Teollisuustie 7\, 74700 Kiuruvesi \nPunnitusaikataulu: 12:00-13:00 \nKilpailujen alkamisaika: 13:30 \nSarjat ja ikäluokat: Kaikki \n\nluokan tuomarit: Kyllä\n\nOsanottomaksu: 30€\, KiurU:n jäsenille ilmainen \nOsanottomäärä: Ei rajattu \nMilloin ilmoittauduttava: 11.5.2025 klo. 24:00 mennessä \nKenelle ilmoittauduttava: Jari Saastamoinen\, ilmoittautumiset sähköpostiin: jari_saastamoinen@luukku.com \nMuut huomiot: Lyhyt punnitus. Nostajan on ilmoitettava ilmoittautumisen yhteydessä\, että nostaako hän klassisessa vai varustesarjassa. Osallistumismaksu maksettava ennen kilpailua Kiuruveden Urheilijoiden tilille: FI68 5157 0620 0286 96. Kuitti osallistumismaksusta ja voimassa oleva kilpailulisenssi esitettävä punnituksen yhteydessä. \nLisätietoja: Jari Saastamoinen\, puh. 040 184 8486
URL:https://www.suomenvoimanostoliitto.fi/tapahtuma/kansallinen-penkkipunnerruskilpailu-kiuru/
LOCATION:teollisuustie 7\, Teollisuustie 7\, Kiuruvesi\, 74700\, Suomi
CATEGORIES:Kansallinen kilpailu
ORGANIZER;CN="Kiuruveden Urheilijat ry":MAILTO: jari_saastamoinen@luukku.com
END:VEVENT
BEGIN:VEVENT
DTSTART;TZID=Europe/Helsinki:20250524T080000
DTEND;TZID=Europe/Helsinki:20250524T170000
DTSTAMP:20260424T040050
CREATED:20250214T062142Z
LAST-MODIFIED:20250214T062142Z
UID:20263-1748073600-1748106000@www.suomenvoimanostoliitto.fi
SUMMARY:31. Klassisen voimanoston pääkaupunkiottelu (Tallinna)
DESCRIPTION:Klassisen voimanoston Pääkaupunkiottelu Helsinki-Tukholma-Tallinna\, Tallinnassa 24.5.2025.\n\nKilpailuun osallistuvat pääkaupunkien 3+3 henkiset sekajoukkueet ja voitto ratkaistaan joukkueen yhteisillä IPF GL-pisteillä. \nMatkan järjestää PääkaupunkiSeudun Seurayhtymä ry.
URL:https://www.suomenvoimanostoliitto.fi/tapahtuma/31-klassisen-voimanoston-paakaupunkiottelu-tallinna/
LOCATION:Tallinna
CATEGORIES:Kansallinen kilpailu,Ystävyysottelu
ORGANIZER;CN="P%C3%A4%C3%A4kaupunkiseudun Seurayhtym%C3%A4":MAILTO:pss.voimanosto@gmail.com
END:VEVENT
BEGIN:VEVENT
DTSTART;TZID=Europe/Helsinki:20250524T090000
DTEND;TZID=Europe/Helsinki:20250524T170000
DTSTAMP:20260424T040050
CREATED:20250108T044944Z
LAST-MODIFIED:20250108T044944Z
UID:19761-1748077200-1748106000@www.suomenvoimanostoliitto.fi
SUMMARY:Kansallinen voimanostokilpailu (KP)
DESCRIPTION:Kilpailujen järjestäjä: Kuopion Painonnostajat ry \nKilpailupäivä: 2025-05-24 \nKilpailun tyyppi: Kansallinen \nMikä kilpailu on kyseessä: Voimanosto \nKilpailupaikka osoitteineen: Rajalan väestönsuojan kuntosali Taivaankannenkatu\, Kuopio \nPunnitusaikataulu: 9:00-10:30 \nKilpailujen alkamisaika: 11:00 \nSarjat ja ikäluokat: Kaikki sarjat ja ikäluokat \nOsanottomaksu: 40€ \nOsanottomäärä: max 30. \nMilloin ilmoittauduttava: 17.5 mennessä \nKenelle ilmoittauduttava: kuopionpainonnostajat@gmail.com \nMuut huomiot: Ilmoitathan seuraavat tiedot: \nNimi \nSeura ja seuran lyhenne \nSyntymävuosi \nSarja: Ikä- ja painoluokka \nKlassinen vai varuste \nLisätietoja: kuopionpainonnostajat@gmail.com
URL:https://www.suomenvoimanostoliitto.fi/tapahtuma/kansallinen-voimanostokilpailu-kp-2/
LOCATION:Rajalan väestönsuoja\, Rajalantie\, Kuopio\, Suomi
CATEGORIES:Kansallinen kilpailu
ORGANIZER;CN="Kuopion Painonnostajat":MAILTO:tuopuh@uef.fi
END:VEVENT
BEGIN:VEVENT
DTSTART;TZID=Europe/Helsinki:20250524T090000
DTEND;TZID=Europe/Helsinki:20250524T170000
DTSTAMP:20260424T040050
CREATED:20250129T121712Z
LAST-MODIFIED:20250207T092426Z
UID:20038-1748077200-1748106000@www.suomenvoimanostoliitto.fi
SUMMARY:Kansallinen voimanostokilpailu (Team365)
DESCRIPTION:Huom 7.2.2025: \nKisat on varattu täyteen ja maksimi nostajamäärä 30 on saavutettu. \nPeruutuspaikkoja voi tiedustella info@team365.fi \n  \nKilpailujen järjestäjä: Team365 ry \nKilpailupäivä: 2025-05-24 \nKilpailun tyyppi: Kansallinen \nMikä kilpailu on kyseessä: Voimanosto \nKilpailupaikka osoitteineen: Sali365\, Viljatie 5\, 00700 Helsinki \nPunnitusaikataulu: 9:00-10:30 \nKilpailujen alkamisaika: 11:00 \nSarjat ja ikäluokat: kaikki sarjat ja ikäluokat. \n\nluokan tuomarit: Kyllä\n\nOsanottomaksu: 40€ maksetaan tilille FI30 5780 5520 0496 89\, viimeistään 16.5.2025. \nOsanottomäärä: Max 30 nostajaa \nMilloin ilmoittauduttava: 16.5.2025 mennessä \nKenelle ilmoittauduttava: info@team365.fi \nMuut huomiot: Muista mainita ilmoittautumisessa: Syntymäaika\, ikä- ja painoluokka sekä seura jota edustat.  Voimassa oleva lisenssi tarkastetaan punnistuksen yhteydessä. Riippuen osallistuja määrästä voidaan punnituksen ja kisojen alkamisajankohtaa tarvittaessa muuttaa. Muutos tehdään viimeistään viikkoa ennen kilpailua. Kisojen tiedottaminen: seuran FB ja Insta tileillä. Todennäköisesti paikalla 1.lk tuomarit. Varmista tilanne ennen kisoja jos mielessä Suomen ennätyksen parantaminen. \n  \nLisätietoja: Simo Sistonen p. 044 981 3399\, info@team365.fi
URL:https://www.suomenvoimanostoliitto.fi/tapahtuma/kansallinen-voimanostokilpailu-team365-2/
LOCATION:Sali365\, Viljatie 5\, Helsinki\, 00700\, Suomi
CATEGORIES:Kansallinen kilpailu
ORGANIZER;CN="Team365ry":MAILTO:info@team365.fi
END:VEVENT
BEGIN:VEVENT
DTSTART;TZID=Europe/Helsinki:20250524T100000
DTEND;TZID=Europe/Helsinki:20250524T170000
DTSTAMP:20260424T040050
CREATED:20250202T161006Z
LAST-MODIFIED:20250202T161006Z
UID:20107-1748080800-1748106000@www.suomenvoimanostoliitto.fi
SUMMARY:Kansallinen voimanostokilpailu (IdVo)
DESCRIPTION:Kilpailujen järjestäjä: Idän Voimailijat ry \nKilpailupäivä: 2025-05-24 \nKilpailun tyyppi: Kansallinen \nMikä kilpailu on kyseessä: Voimanosto \nKilpailupaikka osoitteineen: PTVGYM Joensuu\, Teollisuuskatu 5-7 Joensuu \nPunnitusaikataulu: klo 10.00-11:30 \nKilpailujen alkamisaika: klo 12:00 \nSarjat ja ikäluokat: kaikki sarjat ja ikäluokat 1. luokan tuomarit: Ei \nOsanottomaksu: ulkopuolisille kilpailijoille 30€\, seuran jäsenille ilmainen \nOsanottomäärä: max 20 nostajaa \nMilloin ilmoittauduttava: 10.5.2025 mennessä \nKenelle ilmoittauduttava: idanvoimailijat@gmail.com \nMuut huomiot: Osanottomaksu maksettava ilmoittautumisen yhteydessä tilille FI67 1544 3000 2314 10 \n  \nHuom! lyhyt punnitus \nLisätietoja: Henna Niikko-Pirhonen 050 490 9266\, idanvoimailijat@gmail.com
URL:https://www.suomenvoimanostoliitto.fi/tapahtuma/kansallinen-voimanostokilpailu-idvo/
LOCATION:PTVGYM Joensuu\, Teollisuuskatu 5-7\, Joensuu\, Suomi
CATEGORIES:Kansallinen kilpailu
END:VEVENT
BEGIN:VEVENT
DTSTART;TZID=Europe/Helsinki:20250524T100000
DTEND;TZID=Europe/Helsinki:20250524T190000
DTSTAMP:20260424T040050
CREATED:20240812T123941Z
LAST-MODIFIED:20250516T174318Z
UID:17977-1748080800-1748113200@www.suomenvoimanostoliitto.fi
SUMMARY:Voimanoston Pohjois- ja Itä-Suomen mestaruuskilpailut (AavKi) HOX! muuttunut aikataulu
DESCRIPTION:Kilpailujen järjestäjä: Aavasaksan Kisa ry. \nKilpailupäivä: 2025-05-24 \nKilpailun tyyppi: Kansallinen \nMikä kilpailu on kyseessä: Voimanosto \nKilpailupaikka osoitteineen: Ylitornion kuntotalo\, Alkkulanraitti 2\, Ylitornio \nKilpailujen aikataulu: \nM18\, M23\, M\, M40\, M50\, M60\, M70      punnitus 08:00 – 09:30     kilpailu 10:00 – 14:30; 26 nostajaa \nN23\, N\, N40\, N50\, N60                             punnitus 13:30 – 15:00     kilpailu 15:30 – 19:00; 18 nostajaa \nSarjat ja ikäluokat: Kaikki sarjat ja ikäluokat \nOsanottomaksu: 45\,00 €\, maksetaan 16.5.2025 mennessä tilille Ylitornion OP FI37 5533 0020 0330 44 \nOsanottomäärä: Ei rajoitusta \nMilloin ilmoittauduttava: 16.5.2025 mennessä \nKenelle ilmoittauduttava: Tero Hyttinen\, sähköpostitse tero-hyttinen@hotmail.com \nMuut huomiot: Nostettava sarjassa\, mihin on ilmoittautunut. \nLisätietoja: Tero Hyttinen\, gsm. 044 309 2263
URL:https://www.suomenvoimanostoliitto.fi/tapahtuma/kansallinen-voimanostokilpailu-aavki/
LOCATION:Ylitornion Kuntotalo\, Alkkulanraitti 2\, Ylitornio\, 95600
CATEGORIES:Kansallinen kilpailu
ORGANIZER;CN="Aavasaksan Kisa ry":MAILTO:tero-hyttinen@hotmail.com
END:VEVENT
END:VCALENDAR