BEGIN:VCALENDAR
VERSION:2.0
PRODID:-//Suomen Voimanostoliitto ry - ECPv6.9.0//NONSGML v1.0//EN
CALSCALE:GREGORIAN
METHOD:PUBLISH
X-WR-CALNAME:Suomen Voimanostoliitto ry
X-ORIGINAL-URL:https://www.suomenvoimanostoliitto.fi
X-WR-CALDESC:Events for Suomen Voimanostoliitto ry
REFRESH-INTERVAL;VALUE=DURATION:PT1H
X-Robots-Tag:noindex
X-PUBLISHED-TTL:PT1H
BEGIN:VTIMEZONE
TZID:Europe/Helsinki
BEGIN:DAYLIGHT
TZOFFSETFROM:+0200
TZOFFSETTO:+0300
TZNAME:EEST
DTSTART:20210328T010000
END:DAYLIGHT
BEGIN:STANDARD
TZOFFSETFROM:+0300
TZOFFSETTO:+0200
TZNAME:EET
DTSTART:20211031T010000
END:STANDARD
BEGIN:DAYLIGHT
TZOFFSETFROM:+0200
TZOFFSETTO:+0300
TZNAME:EEST
DTSTART:20220327T010000
END:DAYLIGHT
BEGIN:STANDARD
TZOFFSETFROM:+0300
TZOFFSETTO:+0200
TZNAME:EET
DTSTART:20221030T010000
END:STANDARD
BEGIN:DAYLIGHT
TZOFFSETFROM:+0200
TZOFFSETTO:+0300
TZNAME:EEST
DTSTART:20230326T010000
END:DAYLIGHT
BEGIN:STANDARD
TZOFFSETFROM:+0300
TZOFFSETTO:+0200
TZNAME:EET
DTSTART:20231029T010000
END:STANDARD
BEGIN:DAYLIGHT
TZOFFSETFROM:+0200
TZOFFSETTO:+0300
TZNAME:EEST
DTSTART:20240331T010000
END:DAYLIGHT
BEGIN:STANDARD
TZOFFSETFROM:+0300
TZOFFSETTO:+0200
TZNAME:EET
DTSTART:20241027T010000
END:STANDARD
BEGIN:DAYLIGHT
TZOFFSETFROM:+0200
TZOFFSETTO:+0300
TZNAME:EEST
DTSTART:20250330T010000
END:DAYLIGHT
BEGIN:STANDARD
TZOFFSETFROM:+0300
TZOFFSETTO:+0200
TZNAME:EET
DTSTART:20251026T010000
END:STANDARD
BEGIN:DAYLIGHT
TZOFFSETFROM:+0200
TZOFFSETTO:+0300
TZNAME:EEST
DTSTART:20260329T010000
END:DAYLIGHT
BEGIN:STANDARD
TZOFFSETFROM:+0300
TZOFFSETTO:+0200
TZNAME:EET
DTSTART:20261025T010000
END:STANDARD
END:VTIMEZONE
BEGIN:VEVENT
DTSTART;VALUE=DATE:20260315
DTEND;VALUE=DATE:20260323
DTSTAMP:20260419T154458
CREATED:20260113T131143Z
LAST-MODIFIED:20260321T195259Z
UID:24452-1773532800-1774223999@www.suomenvoimanostoliitto.fi
SUMMARY:Klassisen voimanoston EM-kilpailut\, St Julians\, Malta
DESCRIPTION:Kilpailun tiedot EPF:n sivuilla \nMaajoukkue \nIlmoittautuneet: Naiset  |  Miehet \nYouTube livestriimi \nLivetulokset \nTulokset: Naiset  |  Miehet \nSuomalaisaikataulu \n\n\n\nSunnuntai 15.3.2026\n\n\n\n\nNaiset 47 kg\n\n12:00 (YouTube)\n\n\nMiehet 59 kg\n\n\n\nNaiset 52 kg\nJaana Koskipaasi\, OPT\n17:00 (YouTube)\n\n\nMiehet 66 kg\n\n\n\nMaanantai 16.3.2026\n\n\n\nNaiset 57 kg B\nNelli Westerlund\, KP\n12:00 (YouTube)\n\n\nMiehet 74 kg B\n\n\n\nNaiset 57 kg A\nSatu Pylväs\, OPT\n17:00 (YouTube)\n\n\nMiehet 74 kg A\n\n\n\nTiistai 17.3.2026\n\n\n\n\nNaiset 63 kg B\n\n12:00 (YouTube)\n\n\nMiehet 83 kg B\n\n\n\nNaiset 63 kg A\nFanni Savela\, OPT\n17:00 (YouTube)\n\n\nMiehet 83 kg A\n\n\n\nKeskiviikko 18.3.2026\n\n\n\nEPF:n yleiskokous\n\n11:00\n\n\nTorstai 19.3.2026\n\n\n\n\nNaiset 69 kg C\nTanja Korhonen\, RAV\n12:00 (YouTube)\n\n\nMiehet 93 kg C\n\n\n\nNaiset 69 kg B\n\n15:30 (YouTube)\n\n\nMiehet 93 kg B\n\n\n\nNaiset 69 kg A\n\n18:30 (YouTube)\n\n\nMiehet 93 kg A\n\n\n\nPerjantai 20.3.2026\n\n\n\n\nNaiset 76 kg B\n\n12:00 (YouTube)\n\n\nMiehet 105 kg B\n\n\n\nNaiset 76 kg A\n\n17:00 (YouTube)\n\n\nMiehet 105 kg A\n\n\n\nLauantai 21.3.2026\n\n\n\n\nNaiset 84 kg B\n\n11:00 (YouTube)\n\n\nMiehet 120 kg C\n\n\n\nMiehet 120 kg B\n\n\n\nNaiset 84 kg A\n\n17:30 (YouTube)\n\n\nMiehet 120 kg A\nTuomas Hautala\, LaPo\n\n\nSunnuntai 22.3.2026\n\n\n\n\nNaiset 84+ kg\nElviira Jokivirta\, E-SV\n12:00 (YouTube)\n\n\nMiehet 120+ kg
URL:https://www.suomenvoimanostoliitto.fi/tapahtuma/klassisen-voimanoston-em-kilpailut-st-julians-malta/
CATEGORIES:EM-kilpailu
END:VEVENT
BEGIN:VEVENT
DTSTART;VALUE=DATE:20260217
DTEND;VALUE=DATE:20260221
DTSTAMP:20260419T154458
CREATED:20251230T123425Z
LAST-MODIFIED:20260220T071342Z
UID:24253-1771286400-1771631999@www.suomenvoimanostoliitto.fi
SUMMARY:Klassisen voimanoston Euroopan yliopistocup\, Merignac\, Ranska
DESCRIPTION:Kilpailun tiedot EPF:n sivuilla \nMaajoukkue \nIlmoittautuneet: Miehet  |  Naiset \nYouTube livestriimi \nLivetulokset \nTulokset: Miehet  |  Naiset \nSuomalaisaikataulu \n\n\n\nTiistai 17.2.2026\n\n\n\n\nNaiset 47 – 52 kg\n\n17:00 (YouTube)\n\n\nMiehet 59 – 74 kg\n\n\n\nKeskiviikko 18.2.2026\n\n\n\n\nNaiset 63 kg B\n\n11:00 (YouTube)\n\n\nMiehet 83 kg B\n\n\n\nNaiset 63 kg A\n\n15:00 (YouTube)\n\n\nMiehet 83 kg A\n\n\n\nNaiset 57 kg\n\n19:00 (YouTube)\n\n\nMiehet 105 kg\n\n\n\nTorstai 19.2.2026\n\n\n\n\nNaiset 69 kg B\n\n12:00 (YouTube)\n\n\nNaiset 69 kg A\n\n\n\nNaiset 76 kg\n\n16:00 (YouTube)\n\n\nMiehet 93 kg\n\n\n\nPerjantai 20.2.2026\n\n\n\n\nNaiset 84 – 84+ kg\n84 kg: Aada Uotila\, Tampereen yliopisto (Hkaanto)\n12:00 (YouTube)\n\n\nMiehet 120 – 120+ kg
URL:https://www.suomenvoimanostoliitto.fi/tapahtuma/klassisen-voimanoston-euroopan-yliopistocup-merignac-ranska/
CATEGORIES:EM-kilpailu
END:VEVENT
BEGIN:VEVENT
DTSTART;VALUE=DATE:20260208
DTEND;VALUE=DATE:20260216
DTSTAMP:20260419T154458
CREATED:20251215T084021Z
LAST-MODIFIED:20260213T105917Z
UID:24169-1770508800-1771199999@www.suomenvoimanostoliitto.fi
SUMMARY:Klassisen voimanoston masters EM-kilpailut\, Oulu
DESCRIPTION:Kilpailun tiedot EPF:n sivuilla \nMaajoukkue \nIlmoittautuneet: Miehet  |  Naiset \nYouTube livestriimi \nLivetulokset \nTulokset: Miehet  |  Naiset \nAikataulu: \n\n\n\nSunnuntai 8.2.2026\n\n\n\n\nM70 59 – 74 kg\n66 kg: Keijo Kuisma\, OutVe\n10:30 (YouTube)\n\n\n74 kg: Jorma Immonen\, OPT\n\n\nM70 83 – 120+ kg\n83 kg: Antero Juntunen\, ÄmVoima\n\n\n83 kg: Markku Koivukari\, PV-81\n\n\n93 kg: Ilkka Launonen\, SVV\n\n\n93 kg: Mauri Hyrkäs\, Huima\n\n\n105 kg: Ari Järvenpää\, RAV\n\n\n105 kg: Arto Hakala\, K-UV\n\n\nAvajaiset\n\n15:30\n\n\nN70 47 – 84+ kg\n\n16:00 (YouTube)\n\n\nN60 47 – 57 kg\n52 kg: Johanna Jaaranen\, HAK\n\n\n57 kg: Leena Jokitalo\, TNT\n\n\nMaanantai 9.2.2026\n\n\n\n\nN60 63 kg\nRitva Pihlaja\, HAK\n9:30 (YouTube)\n\n\nM60 59 – 74 kg\n\n\n\nN60 69 kg\nOuti Nurmilaukas\, HeTarmo\n13:30 (YouTube)\n\n\nMargetta Salminen\, LVK team\n\n\nM60 83 kg\nKeijo Pasanen\, I-HV\n\n\nVeli-Matti Dahlgren\, Ols-Ta\n\n\nM60 93 kg\nHarri Hagfors\, MY-Power\n\n\nIsmo Karisalo\, EV\n\n\nN60 76 – 84+ kg\n76 kg: Pirkko Kynäkoski\, HeTarmo\n18:00 (YouTube)\n\n\n84 kg: Päivi Peltonen\, I-HV\n\n\n84+ kg: Tiina Kiviranta\, RK\n\n\nN50 52 – 57 kg\n57 kg: Nina Honka\, TVN\n\n\nTiistai 10.2.2026\n\n\n\n\nM60 105 kg\nJarmo Putkonen\, KesU\n10:00 (YouTube)\n\n\nAri Aalto\, ViVo\n\n\nM60 120 – 120+ kg\n120 kg: Jari Niskanen\, So-Vi\n\n\n120+ kg: Mika Kurjonen\, TVN\n\n\nN50 63 kg\n\n14:00 (YouTube)\n\n\nM50 59 – 66 kg\n\n17:00 (YouTube)\n\n\nN50 69 kg\nAnne Turunen\, TNT\n\n\nAnu Kangaskesti\, OPT\n\n\nKeskiviikko 11.2.2026\n\n\n\n\nN50 76 kg\nTiina Voho\, KoJy\n10:00 (YouTube)\n\n\nKatja Sonninen\, E-IT\n\n\nN50 84 kg\nHanna Suominen\, ViVo\n\n\nMarjaana Vähäsantanen\, PomPy\n\n\nM50 74 kg\nSami Siltala\, OPT\n14:30 (YouTube)\n\n\nJonas Enkvist\, PV\n\n\nN50 84+ kg\nPäivi Isola\, OPT\n\n\nM50 83 kg\nMarko Helynen\, SalVo\n19:00 (YouTube)\n\n\nVesa Kovalainen\, ÄmVoima\n\n\nTorstai 12.2.2026\n\n\n\n\nN40 47 – 52 kg\n\n10:00 (YouTube)\n\n\nN40 57 kg\n\n\n\nM50 93 kg\nSami Teeri\, PLP\n14:00 (YouTube)\n\n\nTero Stenbacka\, PV-81\n\n\nM50 105 kg\nPasi Putkonen\, OPT\n\n\nM50 120 kg\nPertti Kinnunen\, MY-Power\n18:00 (YouTube)\n\n\nM50 120+ kg\n\n\n\nPerjantai 13.2.2026\n\n\n\n\nM40 59 – 74 kg\n\n11:00 (YouTube)\n\n\nM40 83 kg\nJohan Henriksson\, HPT\n\n\nMarko Tuomainen\, Huima\n\n\nN40 63 kg\nMinna Pohjola\, RAV\n16:00 (YouTube)\n\n\nTeija Grönlund\, NNRY\n\n\nN40 69 kg\nJonna Alanko\, YlöR\n\n\nJohanna Kankus-Mikkola\, RanPe\n\n\nLauantai 14.2.2026\n\n\n\n\nM40 93 kg\nJussi Harmaala\, LeVo\n11:00 (YouTube)\n\n\nHenri Vauto\, MaxPower\n\n\nN40 76 kg\nMeri Kallio\, MeVo\n14:00 (YouTube)\n\n\nJenny Björkström\, NPower\n\n\nN40 84 kg\nHeidi Bäckström\, RAV\n\n\nMila Vuorentie\, E-SV\n\n\nSunnuntai 15.2.2026\n\n\n\n\nM40 105 kg\nHeikki Kurvinen\, HauVo\n11:00 (YouTube) HOX: aamu- ja päiväkisat yhdistetty!\n\n\nVille Majava\, HauVo\n\n\nN40 84+ kg\n\n\n\nM40 120 – 120+ kg\n120 kg: Tuomo Väänänen\, PTP\n\n\n120+ kg: Jari Saario\, OutVe
URL:https://www.suomenvoimanostoliitto.fi/tapahtuma/klassisen-voimanoston-masters-em-kilpailut-oulu/
LOCATION:Lapland Hotel Oulu\, Kirkkokatu 3\, Oulu\, 90100\, Finland
CATEGORIES:EM-kilpailu
ORGANIZER;CN="Oulun Power Team ry":MAILTO:sami.a.siltala@gmail.com
END:VEVENT
BEGIN:VEVENT
DTSTART;VALUE=DATE:20251128
DTEND;VALUE=DATE:20251208
DTSTAMP:20260419T154458
CREATED:20250929T121127Z
LAST-MODIFIED:20251201T094825Z
UID:23039-1764288000-1765151999@www.suomenvoimanostoliitto.fi
SUMMARY:Klassisen voimanoston nuorten EM-kilpailut\, Druskininkai\, Liettua
DESCRIPTION:Kilpailun tiedot EPF:n sivuilla \nMaajoukkue \nIlmoittautuneet: Miehet  |  Naiset \nYouTube livestriimi \nLivetulokset \nTulokset: Miehet  |  Naiset \nSuomalaisaikataulu \n\n\n\nPerjantai 28.11.2025\n\n\n\n\nN18 43 – 52 kg\n\n10:00\n\n\nM18 53 – 59 kg\n\n\n\nM18 66 kg\nValtteri Kivimäki\, OPT\n15:00\n\n\nSpecial Olympics\n\n\n\nLauantai 29.11.2025\n\n\n\n\nN18 57 kg\n\n10:00\n\n\nN18 63 kg\n\n\n\nN18 69 kg\nEssi Närvä\, PomPy\n15:00\n\n\nN18 76 kg\nSeela Kallio\, KoJy\n\n\nSunnuntai 30.11.2025\n\n\n\nM18 74 kg B\n\n10:00\n\n\nM18 83 kg B\nFilip Strand\, ÅKK\n\n\nAlvar Korsu\, HPT\n\n\nM18 74 kg A\n\n15:00\n\n\nM18 83 kg A\n\n\n\nMaanantai 1.12.2025\n\n\n\n\nM18 93 kg B\nAleksi Kuosmanen\, KP\n10:00\n\n\nN18 84 kg\n\n\n\nN18 84+ kg\nLyydia Leskinen\, IdVo\n\n\nMartta Nieminen\, KaVo\n\n\nM18 93 kg A\n\n15:30\n\n\nM18 105 kg\nLassi Mäntyniemi\, E-SV\n\n\nTiistai 2.12.2025\n\n\n\n\nM18 120 kg\n\n10:00\n\n\nM18 120+ kg\n\n\n\nM23 53 – 59 kg\n\n14:00\n\n\nN23 43 – 47 kg\n\n\n\nM23 66 kg\n\n17:30\n\n\nKeskiviikko 3.12.2025\n\n\n\n\nN23 52 kg B\nMiila Hautamäki\, PyY\n10:00\n\n\nM23 74 kg B\n\n\n\nN23 52 kg A\n\n14:00\n\n\nM23 74 kg A\n\n\n\nN23 57 kg B\n\n18:00\n\n\nN23 57 kg A\n\n\n\nTorstai 4.12.2025\n\n\n\n\nM23 83 kg C\nViljami Javanainen\, PV-81\n10:00\n\n\nN23 63 kg B\nJenni Kahri\, MeVo\n13:00\n\n\nM23 83 kg B\n\n\n\nN23 63 kg A\n\n17:00\n\n\nM23 83 kg A\n\n\n\nPerjantai 5.12.2025\n\n\n\n\nM23 105 kg C\n\n9:00\n\n\nM23 93 kg B\n\n13:00\n\n\nM23 105 kg B\n\n\n\nM23 93 kg A\n\n17:00\n\n\nM23 105 kg A\nNiko Lappi\, JVK\n\n\nLauantai 6.12.2025\n\n\n\n\nN23 69 kg B\n\n9:00\n\n\nN23 76 kg B\nHelmi Mäkelä\, MaxPower\n\n\nN23 69 kg A\nOona Kujala\, OPT\n14:00\n\n\nN23 76 kg A\nJuuli Kostian\, PyY\n\n\nN23 84 kg\nNina Heikkinen\, PV\n18:30\n\n\nJenna Laitinen\, FPC\n\n\nSunnuntai 7.12.2025\n\n\n\n\nM23 120 kg B\n\n10:00\n\n\nM23 120 kg A\nSanteri Pasanen\, TiKa\n\n\nGeorgios Pantelidis\, HartVo\n\n\nN23 84+ kg\n\n14:30\n\n\nM23 120+ kg
URL:https://www.suomenvoimanostoliitto.fi/tapahtuma/klassisen-voimanoston-nuorten-em-kilpailut-druskininkai-liettua/
CATEGORIES:EM-kilpailu
END:VEVENT
BEGIN:VEVENT
DTSTART;VALUE=DATE:20250922
DTEND;VALUE=DATE:20250929
DTSTAMP:20260419T154458
CREATED:20250610T065106Z
LAST-MODIFIED:20250924T063013Z
UID:22085-1758499200-1759103999@www.suomenvoimanostoliitto.fi
SUMMARY:Penkkipunnerruksen EM-kilpailut\, St. Paul's Bay\, Malta
DESCRIPTION:Kilpailun tiedot EPF:n sivuilla \nMaajoukkue \nIlmoittautuneet\, klassinen: Miehet  |  Naiset \nIlmoittautuneet\, varuste: Miehet  |  Naiset \nYouTube livestriimi \nLivetulokset \nTulokset\, klassinen: Miehet  |  Naiset \nAikataulut Suomen aikaa \nKlassinen penkkipunnerrus \n\n\n\nMaanantai 22.9.2025\n\n\n\n\nN70 & N60 kaikki\nN60 69 kg: Margetta Salminen\, LVK team\n11:00 (YouTube)\n\n\nM70 kaikki\n74 kg: Juhani Rasilainen\, TiKa\n\n\nM60 59 – 83 kg\n\n14:30 (YouTube)\n\n\nM60 93 – 120+ kg\n93 kg: Jari Salste\, PV\n\n\n105 kg: Kari Seliverstow\, E-IT\n\n\nN50 52 – 69 kg\n57 kg: Mervi Sirkiä\, TNT\n16:30 (YouTube)\n\n\n69 kg: Satu Sarpola\, OPT\n\n\nN50 76 – 84+ kg\n76 kg: Tiina Voho\, KoJy\n\n\nM50 59 – 93 kg\n66 kg: Esa Metsälä\, FPC\n19:00 (YouTube)\n\n\nM50 105 – 120+ kg\n105 kg: Pasi Putkonen\, OPT\n\n\nTiistai 23.9.2025\n\n\n\n\nN40 47 – 69 kg\n57 kg: Niina Köninki\, APW\n11:00 (YouTube)\n\n\n63 kg: Soila Ranta\, PV-81\n\n\n69 kg: Minna Pohjola\, RAV\n\n\nM40 59 – 74 kg\n66 kg: Tapio Peltokangas\, LaPo\n\n\n74 kg: Ville Vaivila\, E-IT\n\n\nM40 83 – 93 kg\n83 kg: Juha Aalto\, OPT\n13:30 (YouTube)\n\n\nN40 76 – 84+ kg\n76 kg: Pauliina Suomela\, HPV\n\n\n84+ kg: Anne Kekäläinen\, JuPu\n\n\n84+ kg: Nanny Wallén\, KK Eken\n\n\nM40 105 – 120+ kg\n105 kg: Niko Syri\, KoJy\n\n\nM18 53 – 66 kg\n59 kg: Valtteri Lavikainen\, LVK team\n17:00 (YouTube)\n\n\n66 kg: Tyrsky Reunanen\, HAK\n\n\nN18 kaikki\n63 kg: Ninni Kopola\, SiSi\n\n\n63 kg: Jenna Tarvainen\, PomPy\n\n\n69 kg: Essi Närvä\, PomPy\n\n\nM18 74 kg\nAlexander Björkqvist\, NyKK\n\n\nM18 83 – 93 kg\n\n20:00 (YouTube)\n\n\nM18 105 – 120+ kg\n105 kg: Samuel Lehtonen\, LIKE\n\n\nKeskiviikko 24.9.2025\n\n\n\n\nN23 52 – 69 kg\n52 kg: Sara-Sofia Väliviita\, PomPy\n11:00 (YouTube)\n\n\n69 kg: Sohvi Mikkonen\, ViNo\n\n\nM23 53 – 66 kg\n66 kg: Artturi Kiuru\, PLP\n\n\nM23 74 kg\n\n13:30 (YouTube)\n\n\nN23 76 – 84+ kg\n84 kg: Suvi-Maaria Heinonen\, TamRy\n\n\nM23 83 kg\n\n\n\nM23 93 – 105 kg\n\n16:30 (YouTube)\n\n\nM23 120 – 120+ kg\n120 kg: Ossi Rantala\, PTVAK\n\n\nNaiset 47 – 52 kg & SOI\n52 kg: Johanna Kuronen\, LVK team\n19:00 (YouTube)\n\n\nNaiset 57 – 63 kg\n\n\n\nTorstai 25.9.2025\n\n\n\n\nNaiset 69 – 76 kg\n69 kg: Roosa Valkola\, OPT\n11:00 (YouTube)\n\n\nMiehet 59 – 74 kg\n\n\n\nMiehet 83 kg\n\n13:30 (YouTube)\n\n\nMiehet 93 kg\n\n\n\nMiehet 105 kg\nJoni Tajakka\, OPT\n16:00 (YouTube)\n\n\nNaiset 84 – 84+ kg\n84 kg: Mira Lahtinen\, SaJy\n\n\n84+ kg: Johanna Laitinen\, TNT\n\n\nMiehet 120 – 120+ kg\n120 kg: Simo Sistonen\, Team365\n\n\n\nVarustepenkkipunnerrus \n\n\n\nPerjantai 26.9.2025\n\n\n\n\nN70\, N60 & N50 kaikki\nN50 69 kg: Satu Sarpola\, OPT\n11:00 (YouTube)\n\n\nN50 76 kg: Joanna Linna\, JP 2000\n\n\nN50 84+ kg: Kirsi Lehmuskanta\, E-IT\n\n\nM70 & M60 kaikki\nM60 83 kg: Stig-Erik Björkqvist\, NyKK\n13:00 (YouTube)\n\n\nM50 59 – 93 kg\n93 kg: Petteri Laurikainen\, E-IT\n\n\nN40 kaikki\n63 kg: Janika Kivelä\, KoJy\n15:30 (YouTube)\n\n\n84 kg: Tiina Leppäaho\, E-SV\n\n\n84+ kg: Helena Rehnberg\, E-SV\n\n\nM50 105 – 120+ kg\n105 kg: Kaj Wasenius\, E-IT\n\n\n120+ kg: Kenneth Sandvik\, ÅKK\n\n\nM40 74 – 105 kg\n74 kg: Ville Vaivila\, E-IT\n18:00 (YouTube)\n\n\n83 kg: Lasse Arkela\, E-IT\n\n\nM40 120 – 120+ kg\n120 kg: Mikko Tiensuu\, TamRy\n\n\n120+ kg: Jani Laaksonen\, TamRy\n\n\nLauantai 27.9.2025\n\n\n\n\nM18 kaikki\n\n13:00 (YouTube)\n\n\nN18 kaikki\n63 kg: Ninni Kopola\, SiSi\n\n\n63 kg: Jenna Tarvainen\, PomPy\n\n\n69 kg: Essi Närvä\, PomPy\n\n\nN23 69 – 84+ kg\n\n15:30 (YouTube)\n\n\nN23 43 – 63 kg\n52 kg: Riina Hartikainen\, EV\n\n\nM23 kaikki\n74 kg: Daniel Wasenius\, E-IT\n18:00 (YouTube)\n\n\nSunnuntai 28.9.2025\n\n\n\n\nMiehet 59 – 83 kg & SOI\n74 kg: Jani Haapamäki\, OPT\n11:00 (YouTube)\n\n\nNaiset 47 – 57 kg\n52 kg: Marcela Sandvik\, ÅKK\n\n\nMiehet 93 kg\n\n\n\nNaiset 63 – 69 kg\n63 kg: Maria Karjalainen\, JoPuPo\n14:00 (YouTube)\n\n\n69 kg: Milla Haapamäki\, OPT\n\n\nMiehet 105 kg\nSanttu Turunen\, JVK\n\n\nNaiset 76 – 84+ kg\n84 kg: Sofie Sällinen\, KoJy\n16:30 (YouTube)\n\n\nMiehet 120 – 120+ kg\n120 kg: Markus Ahonen\, VarpVi
URL:https://www.suomenvoimanostoliitto.fi/tapahtuma/penkkipunnerruksen-em-kilpailut-valletta-malta/
CATEGORIES:EM-kilpailu
END:VEVENT
BEGIN:VEVENT
DTSTART;VALUE=DATE:20250912
DTEND;VALUE=DATE:20250915
DTSTAMP:20260419T154458
CREATED:20250425T082546Z
LAST-MODIFIED:20250912T051034Z
UID:21490-1757635200-1757894399@www.suomenvoimanostoliitto.fi
SUMMARY:Voimanoston Länsi-Euroopan mestaruuskilpailut\, Pornainen
DESCRIPTION:Kilpailun tiedot EPF:n sivuilla \nMaajoukkue \nIlmoittautuneet\, klassinen: Miehet  |  Naiset \nIlmoittautuneet\, varuste: Miehet  |  Naiset \nYouTube livestriimi \nLivetulokset \nSuomalaisaikataulu \nKlassinen voimanosto \n\n\n\nPerjantai 12.9.2025\n\n\n\n\nNaiset 47 – 52 kg\n47 kg: Claudia Baende\, VIS\n10:00 (YouTube)\n\n\nMiehet 59 – 74 kg\n66 kg: Tenho Talvensaari\, OPT\n\n\n66 kg: Atte Nieminen\, LVK team\n\n\n74 kg: Elmeri Kujala\, OSC\n\n\nNaiset 57 kg\nEssi Valo\, NPower\n14:30 (YouTube)\n\n\nIida Makkonen\, TiKa\n\n\nMiehet 83 kg\nJanne Mourujärvi\, KEV\n\n\nNaiset 63 kg\nLinda Launiainen\, HAK\n18:00 (YouTube)\n\n\nMiehet 93 kg\nMikko Nuolioja\, TVN\n\n\nOskari Helenius\, RAV\n\n\nJoona Makkonen\, TiKa\n\n\nLauantai 13.9.2025\n\n\n\n\nNaiset 69 kg\nMeri Kallio\, MeVo\n10:00 (YouTube)\n\n\nJenna Tuomainen\, OSC\n\n\nSaija Hilden\, EV\n\n\nRoosa Valkola\, OPT\n\n\nNaiset 76 – 84 kg\nKristiina Kolmer\, OpLi\n13:00 (YouTube)\n\n\nMiehet 105 kg\nTomas Lindblom\, HAK\n\n\nNaiset 84+ kg\n\n17:00 (YouTube)\n\n\nMiehet 120 – 120+ kg\n120 kg: Tuomas Hautala\, LaPo\n\n\n120+ kg: Nuutti Mansukoski\, PP\n\n\n120+ kg: Jyrki Haikama\, FPC\n\n\n\nVarustevoimanosto \n\n\n\nSunnuntai 14.9.2025\n\n\n\n\nNaiset 57 – 63 kg\n57 kg: Mari Ukkonen\, JuPu\n10:00 (YouTube)\n\n\n63 kg: Sofia Räihä\, OPT\n\n\n63 kg: Janika Silvennoinen\, LIKE\n\n\n63 kg: Eerika Palosaari\, RK\n\n\nMiehet 66 – 93 kg\n83 kg: Toni Kuusi\, TamRy\n\n\nNaiset 69 – 84+ kg\n84 kg: Rosanna Lampela\, LIKE\n14:00 (YouTube)\n\n\nMiehet 105 – 120+ kg\n120 kg: Jussi Kangasvieri\, NPower\n\n\n120 kg: Ville Niskanen\, So-Vi\n\n\n120+ kg: Janne Hakala\, TamRy
URL:https://www.suomenvoimanostoliitto.fi/tapahtuma/voimanoston-lansi-euroopan-mestaruuskilpailut-pornainen/
LOCATION:Pornaisten yhtenäiskoulu\, Koulutie 4\, Pornainen\, 07170\, Suomi
CATEGORIES:EM-kilpailu
ORGANIZER;CN="Etel%C3%A4-Suomen Voimanostajat":MAILTO:kaj.mattila@svnl.fi
END:VEVENT
BEGIN:VEVENT
DTSTART;VALUE=DATE:20250502
DTEND;VALUE=DATE:20250512
DTSTAMP:20260419T154458
CREATED:20250225T080844Z
LAST-MODIFIED:20250507T055322Z
UID:20438-1746144000-1747007999@www.suomenvoimanostoliitto.fi
SUMMARY:Varustevoimanoston EM-kilpailut\, Pilsen\, Tsekki
DESCRIPTION:Kilpailun tiedot EPF:n sivuilla \nMaajoukkue \nIlmoittautuneet: Miehet  |  Naiset \nYouTube livelähetys: Juniorit & avoin  |  Masters \nGoodlift livetulosseuranta \nTulokset: Miehet  |  Naiset \nSuomalaisaikataulu \n\n\n\nPerjantai 2.5.2025\n\n\n\n\nN18 43 – 52 kg\n\n11:00 (YouTube)\n\n\nN18 57 – 63 kg\n63 kg: Ninni Kopola\, SiSi\n\n\nM18 53 – 74 kg\n\n16:00 (YouTube)\n\n\nN18 69 – 84+ kg\n69 kg: Essi Närvä\, PomPy\n\n\n76 kg: Nelli Korpi\, KemaKu\n\n\nLauantai 3.5.2025\n\n\n\n\nM18 83 – 93 kg\n\n11:00 (YouTube)\n\n\nM18 105 – 120+ kg\n\n\n\nN23 43 – 63 kg\n63 kg: Eerika Palosaari\, RK\n15:30 (YouTube)\n\n\nM23 59 – 74 kg\n\n\n\nM23 83 kg\n\n\n\nSunnuntai 4.5.2025\n\n\n\n\nN23 69 – 76 kg\n69 kg: Emma Honkonen\, JVK\n11:00 (YouTube)\n\n\nM23 93 – 105 kg\n\n\n\nN23 84 – 84+ kg\n\n15:30 (YouTube)\n\n\nM23 120 – 120+ kg\n\n\n\nMaanantai 5.5.2025\n\n\n\n\nNaiset 47 – 52 kg\n52 kg: Olivia Kyösti\, PV-81\n12:00 (YouTube)\n\n\nMiehet 59 – 74 kg\n66 kg: Antti Savolainen\, TNT\n\n\nNaiset 57 kg\n\n17:00 (YouTube)\n\n\nMiehet 83 kg\n\n\n\nTiistai 6.5.2025\n\n\n\n\nNaiset 63 kg\nSofia Räihä\, OPT\n12:00 (YouTube)\n\n\nJanika Silvennoinen\, LIKE\n\n\nMiehet 93 kg\n\n\n\nNaiset 69 – 76 kg\n\n17:00 (YouTube)\n\n\nMiehet 105 kg\n\n\n\nKeskiviikko 7.5.2025\n\n\n\n\nNaiset 84 – 84+ kg\n84+ kg: Emilia Haataja\, So-Vi\n11:00 (YouTube)\n\n\nMiehet 120 kg\nTomi Määttä\, NPower\n14:30 (YouTube)\n\n\nJussi Kangasvieri\, NPower\n\n\nMiehet 120+ kg\nSanteri Helin\, E-SV\n\n\nTorstai 8.5.2025\n\n\n\n\nN70 kaikki\, N60 kaikki\nN60 69 kg: Seija Skogman\, E-SV\n11:00 (YouTube)\n\n\nM70 59 – 83 kg\n\n\n\nN50 52 – 63 kg\n57 kg: Nina Honka\, TVN\n15:30 (YouTube)\n\n\nM70 93 – 120 kg\n93 kg: Antero Juntunen\, ÄmVoima\n\n\nM60 59 – 74 kg\n74 kg: Kari Räihä\, OPT\n19:30 (YouTube)\n\n\nM60 83 kg\n83 kg: Seppo Norpila\, K-UV\n\n\nPerjantai 9.5.2025\n\n\n\n\nM60 93 – 105 kg\n\n10:00 (YouTube)\n\n\nM60 120 – 120+ kg\n120 kg: Lauri Johansson\, HVV\n\n\nM50 66 – 83 kg\n\n13:30 (YouTube)\n\n\nM50 93 – 105 kg\n105 kg: Kaj Wasenius\, E-IT\n\n\nN50 69 – 84+ kg\n69 kg: Sanna Joutsela\, TVN\n18:00 (YouTube)\n\n\nM50 120 – 120+ kg\n120 kg: Kaj Mattila\, E-SV\n\n\nLauantai 10.5.2025\n\n\n\n\nM40 66 – 83 kg\n\n12:00 (YouTube)\n\n\nM40 93 kg\nWilliam Kähkönen\, JuPu\n\n\nN40 57 – 63 kg\n\n16:30 (YouTube)\n\n\nM40 105 kg\n\n\n\nSunnuntai 11.5.2025\n\n\n\n\nN40 69 – 84+ kg\n69 kg: Nina Mäkinen\, MY-Power\n12:00 (YouTube)\n\n\nM40 120 – 120+ kg\n120 kg: Janne Hakala\, TamRy
URL:https://www.suomenvoimanostoliitto.fi/tapahtuma/varustevoimanoston-em-kilpailut-pilsen-tsekki/
CATEGORIES:EM-kilpailu
END:VEVENT
BEGIN:VEVENT
DTSTART;VALUE=DATE:20250318
DTEND;VALUE=DATE:20250324
DTSTAMP:20260419T154458
CREATED:20250108T100401Z
LAST-MODIFIED:20250324T063528Z
UID:19773-1742256000-1742774399@www.suomenvoimanostoliitto.fi
SUMMARY:Klassisen voimanoston EM-kilpailut\, Malaga\, Espanja
DESCRIPTION:Kilpailun tiedot EPF:n sivuilla \nMaajoukkue \nIlmoittautuneet: Miehet  |  Naiset \nYouTube livelähetys \nGoodlift livetulosseuranta \nTulokset: Miehet  |  Naiset \nSuomalaisaikataulu \n\n\n\nTiistai 18.3.2025\n\n\nNaiset 47 kg & 52 kg (B)\n52 kg: Jaana Koskipaasi\, OPT (sijoitus 11.\, tulos 332\,5 kg)\n10:00 (YouTube)\n\n\nMiehet 74 kg (B)\n\n\n\nNaiset 52 kg (A)\n\n15:00 (Eurosport / YouTube)\n\n\nMiehet 74 kg (A)\nJani Haapamäki\, OPT (sijoitus 9.\, tulos 662\,5 kg)\n\n\nMiehet 59 kg\n\n19:30 (YouTube)\n\n\nMiehet 66 kg\nAntti Savolainen\, TNT (sijoitus 1.\, tulos 655 kg)\n\n\nKeskiviikko 19.3.2025\n\n\nMiehet 83 kg (C)\n\n12:00 (YouTube)\n\n\nNaiset 57 kg (B)\nNelli Westerlund\, KP (sijoitus 15.\, tulos 370 kg)\n14:30 (YouTube)\n\n\nMiehet 83 kg (B)\n\n\n\nNaiset 57 kg (A)\nSatu Pylväs\, OPT (sijoitus 7.\, tulos 427\,5 kg)\n19:00 (Eurosport / YouTube)\n\n\nMiehet 83 kg (A)\n\n\n\nTorstai 20.3.2025\n\n\nMiehet 93 kg (C)\n\n10:00 (YouTube)\n\n\nMiehet 93 kg (B)\n\n\n\nMiehet 105 kg (B)\n\n13:30 (YouTube)\n\n\nMiehet 93 kg (A)\n\n17:00 (Eurosport / YouTube)\n\n\nMiehet 105 kg (A)\n\n\n\nPerjantai 21.3.2025\n\n\nNaiset 63 kg (B)\n\n12:00 (YouTube)\n\n\nNaiset 69 kg (B)\n\n\n\nNaiset 63 kg (A)\n\n16:00 (YouTube)\n\n\nNaiset 69 kg (A)\n\n\n\nLauantai 22.3.2025\n\n\nNaiset 76 kg (B)\n\n12:00 (YouTube)\n\n\nMiehet 120 kg (B)\n\n\n\nNaiset 76 kg (A)\nEllen Grönlund\, S-V (sijoitus 7.\, tulos 530 kg)\n17:00 (YouTube)\n\n\nMiehet 120 kg (A)\n\n\n\nSunnuntai 23.3.2025\n\n\nNaiset 84 kg (B)\n\n11:00 (YouTube)\n\n\nNaiset 84 kg (A)\n\n\n\nNaiset 84+ kg\nAnnina Luotonen\, PLP (sijoitus 5.\, tulos 542\,5 kg SE)\n15:00 (YouTube)\n\n\nMiehet 120+ kg
URL:https://www.suomenvoimanostoliitto.fi/tapahtuma/klassisen-voimanoston-em-kilpailut-malaga-espanja/
CATEGORIES:EM-kilpailu
END:VEVENT
BEGIN:VEVENT
DTSTART;VALUE=DATE:20250221
DTEND;VALUE=DATE:20250224
DTSTAMP:20260419T154458
CREATED:20250108T100246Z
LAST-MODIFIED:20250224T061745Z
UID:19771-1740096000-1740355199@www.suomenvoimanostoliitto.fi
SUMMARY:Klassisen voimanoston Euroopan yliopisto-cup\, Hamm\, Luxemburg
DESCRIPTION:Kilpailukutsu \nMaajoukkue \nIlmoittautuneet: Miehet  |  Naiset \nYouTube livelähetys \nGoodlift livetulosseuranta \nAikataulu Suomen aikaa \n\n\n\nPerjantai 21.2.2025\n\n\n\n\nNaiset 47 – 52 kg\n\n12:00\n\n\nNaiset 57 kg\n\n\n\nNaiset 63 kg B\nJenna Onkalo\, Tampereen yliopisto (Hkaanto) (sijoitus 14.\, tulos 370 kg)\n16:30\n\n\nNaiset 63 kg A\n\n\n\nMiehet 59 – 74 kg\n\n20:00\n\n\nLauantai 22.2.2025\n\n\n\n\nNaiset 69 kg\nHanne Ahonen\, Jyväskylän yliopisto (JVK) (sijoitus 4.\, tulos 407\,5 kg)\n11:00\n\n\nNaiset 76 kg\n\n\n\nMiehet 83 kg B\n\n15:00\n\n\nMiehet 93 kg B\n\n\n\nMiehet 83 kg A\n\n19:30\n\n\nMiehet 93 kg A\n\n\n\nSunnuntai 23.2.2025\n\n\n\n\nMiehet 105 kg\n\n11:00\n\n\nNaiset 84 – 84+ kg\n\n15:00\n\n\nMiehet 120 – 120+ kg
URL:https://www.suomenvoimanostoliitto.fi/tapahtuma/klassisen-voimanoston-euroopan-yliopisto-cup-hamm-luxemburg/
CATEGORIES:EM-kilpailu
END:VEVENT
BEGIN:VEVENT
DTSTART;VALUE=DATE:20250209
DTEND;VALUE=DATE:20250217
DTSTAMP:20260419T154458
CREATED:20250108T095852Z
LAST-MODIFIED:20250217T064006Z
UID:19769-1739059200-1739750399@www.suomenvoimanostoliitto.fi
SUMMARY:Masters klassisen voimanoston EM-kilpailut\, Albi\, Ranska
DESCRIPTION:Kilpailun tiedot EPF:n sivuilla \nMaajoukkue \nIlmoittautuneet: Miehet  |  Naiset \nYouTube livelähetys \nGoodlift livetulosseuranta \nTulokset: Miehet  |  Naiset \nSuomalaisaikataulu \n\n\n\nSunnuntai 9.2.2025\n\n\nM70 59 – 83 kg\n\n11:00\n\n\nM70 93 – 120+ kg\n\n\n\nN70\n\n17:00\n\n\nN60 47 – 57 kg\n\n\n\nMaanantai 10.2.2025\n\n\nN60 63 – 69 kg\n\n11:00\n\n\nN60 76 – 84+ kg\n76 kg: Irene Matinpalo\, Team365 (sijoitus 5.\, tulos 245 kg)\n\n\nN50 47 & 57 kg\n47 kg: Sanna-Mari Jauhola\, OPT (sijoitus 2.\, tulos 225 kg)\n15:30\n\n\nN50 52 kg\n\n\n\nM60 59 – 74 kg\n\n19:00\n\n\nM60 83 – 93 kg\n\n\n\nTiistai 11.2.2025\n\n\nM60 105 & 120+ kg\n\n11:00\n\n\nM60 120 kg\nJari Niskanen\, So-Vi (sijoitus 3.\, tulos 595 kg)\n\n\nM50 59 – 66 kg\n\n15:00\n\n\nN50 63 kg\nRitva Pihlaja\, HAK (sijoitus 7.\, tulos 237\,5 kg)\n18:00\n\n\nN50 69 kg\nPetriina Wäre\, E-SV (sijoitus 6.\, tulos 327\,5 kg)\n\n\nKeskiviikko 12.2.2025\n\n\nN50 76 kg\nTiina Voho\, KoJy (sijoitus 4.\, tulos 400\,5 kg)\n12:00\n\n\nN50 84 kg\n\n\n\nN50 84+ kg\n\n17:00\n\n\nM50 74 – 83 kg\n74 kg: Sami Siltala\, OPT (sijoitus 1.\, tulos 567\,5 kg)\n\n\n83 kg: Marko Helynen\, SalVo (sijoitus 2.\, tulos 612\,5 kg)\n\n\nTorstai 13.2.2025\n\n\nN40 47 – 52 kg\n\n11:00\n\n\nN40 57 kg\nMarika Hyttinen\, LoBo (sijoitus 5.\, tulos 337\,5 kg)\n\n\nM50 93 kg\nSami Teeri\, PLP (sijoitus 7.\, tulos 585 kg)\n15:00\n\n\nM50 105 kg\nKaj Wasenius\, E-IT (sijoitus 5.\, tulos 550 kg)\n\n\nM50 120 kg\n\n19:30\n\n\nM50 120+ kg\n\n\n\nPerjantai 14.2.2025\n\n\nM40 59\, 66\, 83 kg\n83 kg: Jari Kaarnais\, E-VO (sijoitus 2.\, tulos 650 kg)\n12:00\n\n\nM40 74 kg\nJani Haapamäki\, OPT (sijoitus 1.\, tulos 682\,5 kg)\n\n\nN40 63 kg\nMinna Pohjola\, RAV (sijoitus 7.\, tulos 382\,5 kg)\n17:00\n\n\nN40 69 kg\nJohanna Kankus-Mikkola\, RaPe (sijoitus 2.\, tulos 458\,5 kg)\n\n\nOlga Nieminen\, KEV (sijoitus 5.\, tulos 415 kg)\n\n\nLauantai 15.2.2025\n\n\nM40 93 kg\n\n12:00\n\n\nN40 76 kg\nHannele Eerikäinen\, HAK (sijoitus 5.\, tulos 392\,5 kg)\n15:30\n\n\nN40 84 kg\nHeidi Bäckström\, RAV (sijoitus 2.\, tulos 440 kg)\n\n\nAnna Ranki\, RAV (sijoitus 4.\, tulos 390 kg)\n\n\nSunnuntai 16.2.2025\n\n\nN40 84+ kg\nLiisa Asanti\, NIL (sijoitus 7.\, tulos 417\,5 kg)\n12:00\n\n\nM40 105 kg\nVille Majava\, HauVo (sijoitus 6.\, tulos 690 kg)\n\n\nHeikki Kurvinen\, HauVo (sijoitus 3.\, tulos 725 kg)\n\n\nM40 120 kg\n\n16:30\n\n\nM40 120+ kg\nJari Saario\, OutVe (sijoitus 2.\, tulos 880 kg)\n\n\nJyrki Haikama\, FPC (sijoitus 4.\, tulos 755 kg)
URL:https://www.suomenvoimanostoliitto.fi/tapahtuma/masters-klassisen-voimanoston-em-kilpailut-albi-ranska/
CATEGORIES:EM-kilpailu
END:VEVENT
BEGIN:VEVENT
DTSTART;VALUE=DATE:20211203
DTEND;VALUE=DATE:20211213
DTSTAMP:20260419T154458
CREATED:20210624T092825Z
LAST-MODIFIED:20210624T092825Z
UID:7099-1638489600-1639353599@www.suomenvoimanostoliitto.fi
SUMMARY:EM-kilpailut\, klassinen voimanosto\, nuoret ja avoin\, Västerås\, Ruotsi
DESCRIPTION:Kisakutsut & lisätiedot EPF:n sivuilla \nMaajoukkueeseen ilmoittautuminen
URL:https://www.suomenvoimanostoliitto.fi/tapahtuma/em-kilpailut-klassinen-voimanosto-nuoret-ja-avoin-vasteras-ruotsi/
LOCATION:Västerås\, Västerås\, Ruotsi
CATEGORIES:EM-kilpailu
END:VEVENT
BEGIN:VEVENT
DTSTART;VALUE=DATE:20211121
DTEND;VALUE=DATE:20211126
DTSTAMP:20260419T154458
CREATED:20210922T075517Z
LAST-MODIFIED:20210922T075517Z
UID:8227-1637452800-1637884799@www.suomenvoimanostoliitto.fi
SUMMARY:EM-kilpailut\, klassinen ja varustepenkkipunnerrus\, kaikki ikäluokat\, Jekaterinburg\, Venäjä
DESCRIPTION:Kisakutsut & lisätiedot EPF:n sivuilla
URL:https://www.suomenvoimanostoliitto.fi/tapahtuma/em-kilpailut-klassinen-ja-varustepenkkipunnerrus-kaikki-ikaluokat-jekaterinburg-venaja/
LOCATION:Jekaterinburg\, Jekaterinburg\, Venäjä
CATEGORIES:EM-kilpailu
END:VEVENT
END:VCALENDAR