BEGIN:VCALENDAR
VERSION:2.0
PRODID:-//Suomen Voimanostoliitto ry - ECPv6.9.0//NONSGML v1.0//EN
CALSCALE:GREGORIAN
METHOD:PUBLISH
X-ORIGINAL-URL:https://www.suomenvoimanostoliitto.fi
X-WR-CALDESC:Events for Suomen Voimanostoliitto ry
REFRESH-INTERVAL;VALUE=DURATION:PT1H
X-Robots-Tag:noindex
X-PUBLISHED-TTL:PT1H
BEGIN:VTIMEZONE
TZID:Europe/Helsinki
BEGIN:DAYLIGHT
TZOFFSETFROM:+0200
TZOFFSETTO:+0300
TZNAME:EEST
DTSTART:20250330T010000
END:DAYLIGHT
BEGIN:STANDARD
TZOFFSETFROM:+0300
TZOFFSETTO:+0200
TZNAME:EET
DTSTART:20251026T010000
END:STANDARD
END:VTIMEZONE
BEGIN:VEVENT
DTSTART;TZID=Europe/Helsinki:20251220T120000
DTEND;TZID=Europe/Helsinki:20251220T170000
DTSTAMP:20260421T155536
CREATED:20251015T174236Z
LAST-MODIFIED:20251023T050503Z
UID:23198-1766232000-1766250000@www.suomenvoimanostoliitto.fi
SUMMARY:Jäsentenvälinen voimanostokilpailu (HAK)
DESCRIPTION:Kilpailujen järjestäjä: Helsingin Atleettiklubi \nKilpailupäivä: 2025-12-20 \nKilpailun tyyppi: Jäsentenvälinen \nMikä kilpailu on kyseessä: Voimanosto \nKilpailupaikka osoitteineen: Kaapelitehdas\, Tallberginkatu 1D\, 00180 HELSINKI \nPunnitusaikataulu: 10.00-11.30 \nKilpailujen alkamisaika: 12.00 \nSarjat ja ikäluokat: Miehet ja naiset avoin 1. luokan tuomarit: Ei \nOsanottomaksu: Ei maksua \nOsanottomäärä: Korkeintaan kaksi ryhmää \nMilloin ilmoittauduttava: 10.12.2025 \nKenelle ilmoittauduttava: Katja Lariola katja.lariola@gmail.com \nMuut huomiot: Vain jäsenille! \nLisätietoja: katja.lariola@gmail.com
URL:https://www.suomenvoimanostoliitto.fi/tapahtuma/jasentenvalinen-voimanostokilpailu-hak-7/
LOCATION:Kaapelitehdas\, Tallberginkatu 1D\, Helsinki
CATEGORIES:Jäsentenvälinen
END:VEVENT
BEGIN:VEVENT
DTSTART;TZID=Europe/Helsinki:20251220T120000
DTEND;TZID=Europe/Helsinki:20251220T170000
DTSTAMP:20260421T155536
CREATED:20251102T170409Z
LAST-MODIFIED:20251102T170409Z
UID:23393-1766232000-1766250000@www.suomenvoimanostoliitto.fi
SUMMARY:Jäsentenvälinen voimanostokilpailu\, Hanko (HPT)
DESCRIPTION:Kilpailujen järjestäjä: Hangö Power Team rf \nKilpailupäivä: 2025-12-20 \nKilpailun tyyppi: Jäsentenvälinen \nMikä kilpailu on kyseessä: Voimanosto \nKilpailupaikka osoitteineen: HPT Gym\, Ahjokuja 1\, 10900 Hanko (Huom! Uusi osoite) \nPunnitusaikataulu: 10:30-11:30\, lyhyt punnitus Kilpailujen alkamisaika: 12:00 Sarjat ja ikäluokat: Kaikki 1. luokan tuomarit: Ei \nOsanottomaksu: 5€  FI48 5549 8320 0819 87 \nOsanottomäärä: Max 12 \nMilloin ilmoittauduttava: 13.12.2025 \nKenelle ilmoittauduttava: Johan Henriksson 0407085736/hangopowerteam@outlook.com \nMuut huomiot: Rajattu vain HPT/KK Ekenin jäsenille \nLisätietoja: Johan Henriksson 0407085736/hangopowerteam@outlook.com
URL:https://www.suomenvoimanostoliitto.fi/tapahtuma/jasentenvalinen-voimanostokilpailu-hanko-hpt/
LOCATION:HPT Gym\, Ahjokuja 1\, Hanko\, 10900\, Finland
CATEGORIES:Jäsentenvälinen
END:VEVENT
BEGIN:VEVENT
DTSTART;TZID=Europe/Helsinki:20251220T140000
DTEND;TZID=Europe/Helsinki:20251220T170000
DTSTAMP:20260421T155536
CREATED:20251127T080646Z
LAST-MODIFIED:20251127T080646Z
UID:23807-1766239200-1766250000@www.suomenvoimanostoliitto.fi
SUMMARY:Jäsentenvälinen voimanostokilpailu\, Turenki\, TurSa
DESCRIPTION:Kilpailujen järjestäjä: Turengin Sarastus ry \nKilpailupäivä: 2025-12-20 \nKilpailun tyyppi: Jäsentenvälinen \nMikä kilpailu on kyseessä: Voimanosto \nKilpailupaikka osoitteineen: Taimistotie 4 14200 Turenki \nPunnitusaikataulu: 12:00 \nKilpailujen alkamisaika: 14:00 \nSarjat ja ikäluokat: Kaikki \n\nluokan tuomarit: Kyllä\n\nOsanottomaksu: 30 \nOsanottomäärä: 8 \nMilloin ilmoittauduttava: 15.12 \nKenelle ilmoittauduttava: Seppo Sohlman 0400736340 Muut huomiot: \nLisätietoja: Seppo Sohlman
URL:https://www.suomenvoimanostoliitto.fi/tapahtuma/jasentenvalinen-voimanostokilpailu-turenki-tursa/
LOCATION:Turengin Sarastus\, Taimistotie 4\, TURENKI\, 14200\, Finland
CATEGORIES:Jäsentenvälinen
ORGANIZER;CN="Turengin Sarastus":MAILTO:seppo.sohlman@svnl.fi
END:VEVENT
END:VCALENDAR