BEGIN:VCALENDAR
VERSION:2.0
PRODID:-//Suomen Voimanostoliitto ry - ECPv6.9.0//NONSGML v1.0//EN
CALSCALE:GREGORIAN
METHOD:PUBLISH
X-WR-CALNAME:Suomen Voimanostoliitto ry
X-ORIGINAL-URL:https://www.suomenvoimanostoliitto.fi
X-WR-CALDESC:Events for Suomen Voimanostoliitto ry
REFRESH-INTERVAL;VALUE=DURATION:PT1H
X-Robots-Tag:noindex
X-PUBLISHED-TTL:PT1H
BEGIN:VTIMEZONE
TZID:Europe/Helsinki
BEGIN:DAYLIGHT
TZOFFSETFROM:+0200
TZOFFSETTO:+0300
TZNAME:EEST
DTSTART:20250330T010000
END:DAYLIGHT
BEGIN:STANDARD
TZOFFSETFROM:+0300
TZOFFSETTO:+0200
TZNAME:EET
DTSTART:20251026T010000
END:STANDARD
END:VTIMEZONE
BEGIN:VEVENT
DTSTART;VALUE=DATE:20251025
DTEND;VALUE=DATE:20251026
DTSTAMP:20260419T160740
CREATED:20251001T061429Z
LAST-MODIFIED:20251001T061429Z
UID:23054-1761350400-1761436799@www.suomenvoimanostoliitto.fi
SUMMARY:Suomen Voimanostoliiton syyskokous
DESCRIPTION:Kokous järjestetään Teams etäkokouksena 25.10.2025 klo 12:00 alkaen. Kokouksen äänestykset tehdään Hejmo.fi järjestelmällä. \nLiiton jäsenseurojen tulee nimetä ehdokkaat liiton puheenjohtajaksi\, hallituksen jäseniksi (3) sekä hallituksen varajäseneksi (2) kirjallisesti vähintään 30 päivää ennen liiton syyskokousta eli 25.9.2025 mennessä. Ehdokkaat lähetetään liitolle sähköpostitse osoitteeseen info@svnl.fi. \nHallituksen jäsenvaalissa kolme eniten ääniä saanut valitaan kahdenvuoden mittaiselle toimikaudelle. Varajäsenen vaalissa eninten ääniä saanut valitaan 1. varajäseneksi ja toiseksi eniten ääniä saanut 2. varajäseneksi. Kts. liiton toimintasääntöjen kohta 6.f.2. \nLiiton jäsenseurat voivat tehdä aloitteita liiton varsinaisessa kokouksessa käsiteltävistä   asioista liiton hallitukselle viimeistään viisi (5) viikkoa ennen kokousta eli 20.9.2025 mennessä. Aloitteet toimitetaan sähköpostitse osoitteeseen info@svnl.fi. \nErovuorossa ovat puheenjohtaja Tero Hyttinen\, hallituksen jäsenet Kaj Mattila\, Tomi Määttä ja Sami Siltala sekä varajäsen Kirsti Paloniemi. \nKokousmateriaalit
URL:https://www.suomenvoimanostoliitto.fi/tapahtuma/suomen-voimanostoliiton-syyskokous-2025/
CATEGORIES:Kokoukset
ATTACH;FMTTYPE=image/jpeg:https://www.suomenvoimanostoliitto.fi/wp-content/uploads/syyskokous_2025.jpg
END:VEVENT
END:VCALENDAR