BEGIN:VCALENDAR
VERSION:2.0
PRODID:-//Suomen Voimanostoliitto ry - ECPv6.9.0//NONSGML v1.0//EN
CALSCALE:GREGORIAN
METHOD:PUBLISH
X-WR-CALNAME:Suomen Voimanostoliitto ry
X-ORIGINAL-URL:https://www.suomenvoimanostoliitto.fi
X-WR-CALDESC:Events for Suomen Voimanostoliitto ry
REFRESH-INTERVAL;VALUE=DURATION:PT1H
X-Robots-Tag:noindex
X-PUBLISHED-TTL:PT1H
BEGIN:VTIMEZONE
TZID:Europe/Helsinki
BEGIN:DAYLIGHT
TZOFFSETFROM:+0200
TZOFFSETTO:+0300
TZNAME:EEST
DTSTART:20250330T010000
END:DAYLIGHT
BEGIN:STANDARD
TZOFFSETFROM:+0300
TZOFFSETTO:+0200
TZNAME:EET
DTSTART:20251026T010000
END:STANDARD
END:VTIMEZONE
BEGIN:VEVENT
DTSTART;TZID=Europe/Helsinki:20250920T090000
DTEND;TZID=Europe/Helsinki:20250920T170000
DTSTAMP:20260419T172037
CREATED:20250604T161122Z
LAST-MODIFIED:20250604T161122Z
UID:21926-1758358800-1758387600@www.suomenvoimanostoliitto.fi
SUMMARY:Kansallinen penkkipunnerruskilpailu (LVK team)
DESCRIPTION:Kilpailujen järjestäjä: Lopen Voima ja Kuntoteam \nKilpailupäivä: 2025-09-20 \nKilpailun tyyppi: Kansallinen \nMikä kilpailu on kyseessä: Penkkipunnerrus \nKilpailupaikka osoitteineen: LVK Gym Viertotie 1  12700 Loppi \nPunnitusaikataulu: 9.00-10.30  ja 13.00-14.30 \nKilpailujen alkamisaika: 11.00 ja 15.00 \nSarjat ja ikäluokat: Kaikki sarjat ja ikäluokat 1. luokan tuomarit: Kyllä \nOsanottomaksu: 35 €  ja seuran jäsenille 10 €  suoritettava tilille FI61 1264 3000 1093 41    13.9.2025 mennessä \nOsanottomäärä: Max 70 \nMilloin ilmoittauduttava: La 13.9.2025 klo 24.00 mennessä \nKenelle ilmoittauduttava: S-posti :  lopenvoimajakunto@gmail.com \nMuut huomiot: Ilmoittautuessa ilmoita osallistutko klassiseen vai varustenostomuotoon. Jos osallistut kumpaankin maksu 2×35 € . Ilmoita ikäluokka\,seura\,painoluokka sekä syntymävuosi.Kilpailtava sarjassa\,johon on ilmoittautunut. SE:t mahdollisia.Kisassa on puffetti ja osallistumispalkinnot kaikille.Seuraa LVK teamin nettisivuja (lvkteam.fi) mahdollisista aikataulumuutoksista ja muista kisaan liittyvistä asioista. \nLämpimästi tervetuloa ! LVK team ry \nLisätietoja: Puh: 04573379690  (LVK team)
URL:https://www.suomenvoimanostoliitto.fi/tapahtuma/kansallinen-penkkipunnerruskilpailu-lvk-team/
LOCATION:LVK Gym\, Viertotie 1 \, Loppi\, 12700
CATEGORIES:Kansallinen kilpailu
END:VEVENT
END:VCALENDAR