BEGIN:VCALENDAR
VERSION:2.0
PRODID:-//Suomen Voimanostoliitto ry - ECPv6.9.0//NONSGML v1.0//EN
CALSCALE:GREGORIAN
METHOD:PUBLISH
X-WR-CALNAME:Suomen Voimanostoliitto ry
X-ORIGINAL-URL:https://www.suomenvoimanostoliitto.fi
X-WR-CALDESC:Events for Suomen Voimanostoliitto ry
REFRESH-INTERVAL;VALUE=DURATION:PT1H
X-Robots-Tag:noindex
X-PUBLISHED-TTL:PT1H
BEGIN:VTIMEZONE
TZID:Europe/Helsinki
BEGIN:DAYLIGHT
TZOFFSETFROM:+0200
TZOFFSETTO:+0300
TZNAME:EEST
DTSTART:20250330T010000
END:DAYLIGHT
BEGIN:STANDARD
TZOFFSETFROM:+0300
TZOFFSETTO:+0200
TZNAME:EET
DTSTART:20251026T010000
END:STANDARD
END:VTIMEZONE
BEGIN:VEVENT
DTSTART;VALUE=DATE:20250825
DTEND;VALUE=DATE:20250906
DTSTAMP:20260419T172040
CREATED:20250425T071506Z
LAST-MODIFIED:20250902T074937Z
UID:21467-1756080000-1757116799@www.suomenvoimanostoliitto.fi
SUMMARY:Voimanoston nuorten MM-kilpailut\, San Jose\, Costa Rica
DESCRIPTION:Kilpailun tiedot IPF:n sivuilla \nMaajoukkue \nIlmoittautuneet\, varuste: Miehet  |  Naiset \nIlmoittautuneet\, klassinen: Miehet  |  Naiset \nLivestriimi \nLivetulokset \nTulokset\, varuste: Miehet  |  Naiset \nTulokset\, klassinen: Miehet  |  Naiset \nAikataulut Suomen aikaa \nVarustevoimanosto \n\n\n\nMaanantai 25.8.2025\n\n\n\n\nM18/M23 53 – 66 kg\n\n18:00\n\n\nN18/N23 43 – 57 kg\n\n23:00\n\n\nTiistai 26.8.2025\n\n\n\n\nN18/N23 63 – 76 kg\nN18 63kg: Ninni Kopola\, SiSi\n18:00\n\n\nN18 69kg: Essi Närvä\, PomPy\n\n\nN23 63kg: Emma Honkonen\, JVK\n\n\nM18/M23 74 – 83 kg\n\n23:00\n\n\nKeskiviikko 27.8.2025\n\n\n\n\nM18/M23 93 – 105 kg\n\n17:00\n\n\nN18/N23 84 – 84+ kg\n\n22:00\n\n\nTorstai 28.8.2025\n\n\n\n\nM18/M23 120 – 120+ kg\n\n1:00\n\n\n\nKlassinen voimanosto \n\n\n\nTorstai 28.8.2025\n\n\n\n\nM18/M23 53 kg\n\n18:00\n\n\nN18/N23 43 – 47 kg\n\n22:00\n\n\nPerjantai 29.8.2025\n\n\n\n\nM18/M23 59 kg\n\n2:00\n\n\nN18 52 – 57 kg\n\n18:00\n\n\nM18 66 kg\n\n23:00\n\n\nLauantai 30.8.2025\n\n\n\n\nM23 66 kg\n\n3:00\n\n\nN23 52 – 57 kg\n\n18:00\n\n\nN18 63 kg\n\n23:00\n\n\nSunnuntai 31.8.2025\n\n\n\n\nN23 63 kg\n\n2:00\n\n\nM18 74 kg\nMiska Haukka\, OpLi (B)\n18:00\n\n\nM23 74 kg\n\n22:00\n\n\nMaanantai 1.9.2025\n\n\n\n\nN18 69 kg\nEssi Närvä\, PomPy\n3:00\n\n\nN23 69 kg\nOona Kujala\, OPT (A)\n18:00\n\n\nN18/N23 76 kg\n\n22:00\n\n\nTiistai 2.9.2025\n\n\n\n\nM18 83 kg\nFilip Strand\, ÅKK (A)\n18:00\n\n\nAlvar Korsu\, HPT (B)\n\n\nM23 83 kg\n\n23:00\n\n\nKeskiviikko 3.9.2025\n\n\n\n\nM18 93 – 105 kg\n\n18:00\n\n\nM23 93 kg\n\n23:00\n\n\nTorstai 4.9.2025\n\n\n\n\nM23 105 kg\n\n18:00\n\n\nPerjantai 5.9.2025\n\n\n\n\nN18 84 – 84+ kg\n\n0:00\n\n\nN23 84 – 84+ kg\n84kg: Laura Sorsa\, E-IT (B)\n3:00\n\n\nM23 120 kg\n\n18:00\n\n\nM18 120 kg – 120+ kg\n\n22:00\n\n\nM23 120+ kg
URL:https://www.suomenvoimanostoliitto.fi/tapahtuma/voimanoston-nuorten-mm-kilpailut-san-jose-costa-rica/
CATEGORIES:MM-kilpailu
END:VEVENT
END:VCALENDAR