BEGIN:VCALENDAR
VERSION:2.0
PRODID:-//Suomen Voimanostoliitto ry - ECPv6.9.0//NONSGML v1.0//EN
CALSCALE:GREGORIAN
METHOD:PUBLISH
X-WR-CALNAME:Suomen Voimanostoliitto ry
X-ORIGINAL-URL:https://www.suomenvoimanostoliitto.fi
X-WR-CALDESC:Events for Suomen Voimanostoliitto ry
REFRESH-INTERVAL;VALUE=DURATION:PT1H
X-Robots-Tag:noindex
X-PUBLISHED-TTL:PT1H
BEGIN:VTIMEZONE
TZID:Europe/Helsinki
BEGIN:DAYLIGHT
TZOFFSETFROM:+0200
TZOFFSETTO:+0300
TZNAME:EEST
DTSTART:20250330T010000
END:DAYLIGHT
BEGIN:STANDARD
TZOFFSETFROM:+0300
TZOFFSETTO:+0200
TZNAME:EET
DTSTART:20251026T010000
END:STANDARD
END:VTIMEZONE
BEGIN:VEVENT
DTSTART;VALUE=DATE:20250716
DTEND;VALUE=DATE:20250721
DTSTAMP:20260419T201354
CREATED:20250424T110843Z
LAST-MODIFIED:20250625T072732Z
UID:21452-1752624000-1753055999@www.suomenvoimanostoliitto.fi
SUMMARY:Klassisen voimanoston maailman yliopisto-cup\, Istanbul\, Turkki
DESCRIPTION:Kilpailun tiedot IPF:n sivuilla \nIlmoittautuneet: Miehet  |  Naiset \nSuomesta ei lähde kisoihin nostajia.
URL:https://www.suomenvoimanostoliitto.fi/tapahtuma/klassisen-voimanoston-maailman-yliopisto-cup-istanbul-turkki/
CATEGORIES:MM-kilpailu
END:VEVENT
BEGIN:VEVENT
DTSTART;TZID=Europe/Helsinki:20250719T090000
DTEND;TZID=Europe/Helsinki:20250719T170000
DTSTAMP:20260419T201354
CREATED:20250331T062539Z
LAST-MODIFIED:20250331T062944Z
UID:21107-1752915600-1752944400@www.suomenvoimanostoliitto.fi
SUMMARY:Kansallinen voimanosto (KaVo)
DESCRIPTION:Kilpailujen järjestäjä: Kankaanpään Voimailijat \nKilpailupäivä: 2025-07-19 \nKilpailun tyyppi: Kansallinen \nMikä kilpailu on kyseessä: Voimanosto \nKilpailupaikka osoitteineen: Rautatienkatu 3\, Kankaanpää \nPunnitusaikataulu: 9.00 \nKilpailujen alkamisaika: 11.00 \nSarjat ja ikäluokat: Kaikki sarjat ja ikäluokat \n1. luokan tuomarit: Ei \nOsanottomaksu: 40 € \nOsanottomäärä: 28 \nMilloin ilmoittauduttava: 13.7.2025 \nKenelle ilmoittauduttava: Janne Marttila\, kankaanpaan.voimailijat@gmail.com \nMuut huomiot: Maksa osallistumismaksu 13.7.2025 mennessä tilille FI48 4473 2020 0032 38 \nLisätietoja: Janne Marttila\, 0445781300\, kankaanpaan.voimailijat@gmail.com
URL:https://www.suomenvoimanostoliitto.fi/tapahtuma/kansallinen-voimanosto-kavo/
LOCATION:rautatienkatu 3\, Rautatienkatu 3\, Kankaanpää\, Suomi
CATEGORIES:Kansallinen kilpailu
ORGANIZER;CN="Kankaanp%C3%A4%C3%A4n Voimailijat ry":MAILTO:kankaanpaan.voimailijat@gmail.com
END:VEVENT
END:VCALENDAR