BEGIN:VCALENDAR
VERSION:2.0
PRODID:-//Suomen Voimanostoliitto ry - ECPv6.9.0//NONSGML v1.0//EN
CALSCALE:GREGORIAN
METHOD:PUBLISH
X-ORIGINAL-URL:https://www.suomenvoimanostoliitto.fi
X-WR-CALDESC:Events for Suomen Voimanostoliitto ry
REFRESH-INTERVAL;VALUE=DURATION:PT1H
X-Robots-Tag:noindex
X-PUBLISHED-TTL:PT1H
BEGIN:VTIMEZONE
TZID:Europe/Helsinki
BEGIN:DAYLIGHT
TZOFFSETFROM:+0200
TZOFFSETTO:+0300
TZNAME:EEST
DTSTART:20250330T010000
END:DAYLIGHT
BEGIN:STANDARD
TZOFFSETFROM:+0300
TZOFFSETTO:+0200
TZNAME:EET
DTSTART:20251026T010000
END:STANDARD
END:VTIMEZONE
BEGIN:VEVENT
DTSTART;TZID=Europe/Helsinki:20250426T083000
DTEND;TZID=Europe/Helsinki:20250426T170000
DTSTAMP:20260421T063626
CREATED:20250103T111503Z
LAST-MODIFIED:20250103T111535Z
UID:19700-1745656200-1745686800@www.suomenvoimanostoliitto.fi
SUMMARY:Kansallinen penkkipunnerruskilpailu (PV)
DESCRIPTION:Kilpailujen järjestäjä: Pietarsaaren Voimailijat \nKilpailupäivä: 2025-04-26 \nKilpailun tyyppi: Kansallinen \nMikä kilpailu on kyseessä: Penkkipunnerrus \nKilpailupaikka osoitteineen: Jeppis Gym koulukatu 25 68600 Pietarsaari \nPunnitusaikataulu: 8.30-9.30 \nKilpailujen alkamisaika: 10.00 \nSarjat ja ikäluokat: kaikki sarjat ja ikäluokat \nOsanottomaksu: 25€  maksetaan tilille  FI08 5567 0720 1183 42 \nOsanottomäärä: Ei rajattu. \nMilloin ilmoittauduttava: 17.4 mennessä. \nKenelle ilmoittauduttava: Juhani Salo 045-6952959 tekstiviesti / whatsapp \nMuut huomiot: Huom. lyhyt punnitus. \nLisätietoja: salojuh@hotmail.com
URL:https://www.suomenvoimanostoliitto.fi/tapahtuma/kansallinen-penkkipunnerruskilpailu-pv-2/
LOCATION:Jeppis Gym\, Koulukatu 25\, Pietarsaari\, 68600\, Suomi
CATEGORIES:Kansallinen kilpailu
ORGANIZER;CN="Pietarsaaren Voimailijat":MAILTO:salojuh@hotmail.com
END:VEVENT
BEGIN:VEVENT
DTSTART;TZID=Europe/Helsinki:20250426T090000
DTEND;TZID=Europe/Helsinki:20250426T170000
DTSTAMP:20260421T063626
CREATED:20250212T100839Z
LAST-MODIFIED:20250212T100839Z
UID:20233-1745658000-1745686800@www.suomenvoimanostoliitto.fi
SUMMARY:Kansallinen voimanostokilpailu (EV)
DESCRIPTION:Kilpailujen järjestäjä: Elimäen Vauhti \nKilpailupäivä: 2025-04-26 \nKilpailun tyyppi: Kansallinen \nMikä kilpailu on kyseessä: Voimanosto \nKilpailupaikka osoitteineen: Power Gym Kouvola\, Tommolankatu 18 \nPunnitusaikataulu: 9-10.30 \nKilpailujen alkamisaika: 11.00 \nSarjat ja ikäluokat: kaikki sarjat ja ikäluokat \n1. luokan tuomarit: Kyllä \nOsanottomaksu: 35 euroa\, tilille FI0950161060906129 \nOsanottomäärä: max 2 ryhmää eli 28 nostajaa \nMilloin ilmoittauduttava: 18.4.2025 mennessä \nKenelle ilmoittauduttava: Janne Göös\, janne.goos1@gmail.com \nMuut huomiot: Osallistumismaksu maksettava ilmoittautumisen yhteydessä. Nostaja ilmoittaa nostaako varustesarjassa vai klassisessa sarjassa.Kuitti osallistumismaksusta ja voimassaoleva lisenssi esitettävä punnituksen yhteydessä. \nLisätietoja: Janne Göös\, janne.goos1@gmail.com p.0443284491
URL:https://www.suomenvoimanostoliitto.fi/tapahtuma/kansallinen-voimanostokilpailu-ev/
LOCATION:Power Gym Kouvola\, Tommolankatu 18\, Kouvola\, Suomi
CATEGORIES:Kansallinen kilpailu
ORGANIZER;CN="Elim%C3%A4en Vauhti":MAILTO:anu.goos2@gmail.com
END:VEVENT
BEGIN:VEVENT
DTSTART;TZID=Europe/Helsinki:20250426T090000
DTEND;TZID=Europe/Helsinki:20250426T170000
DTSTAMP:20260421T063626
CREATED:20250224T085556Z
LAST-MODIFIED:20250415T115736Z
UID:20410-1745658000-1745686800@www.suomenvoimanostoliitto.fi
SUMMARY:Jäsentenvälinen penkkipunnerruskilpailu (TVN)
DESCRIPTION:Kilpailujen järjestäjä: Tampereen Voimanostajat \nKilpailupäivä: 2025-04-26 \nKilpailun tyyppi: Jäsentenvälinen \nMikä kilpailu on kyseessä: Penkkipunnerrus \nKilpailupaikka osoitteineen: Nääshallin toiminnallinen sali. Näsijärvenkatu 8\, 33210 Tampere. \nPunnitusaikataulu: 09:00-10:00 (huom. lyhyt punnitus) \nKilpailujen alkamisaika: 10:30 \nSarjat ja ikäluokat: Kaikki sarjat ja ikäluokat \n1. luokan tuomarit: Kyllä \nOsanottomaksu: Ei osanottomaksua \nOsanottomäärä: Ei rajattu mutta vain TVN:n jäsenille \nMilloin ilmoittauduttava: 26.4.2025 \nKenelle ilmoittauduttava: matti.rajaniemi2@gmail.com \nMuut huomiot: \nLisätietoja: matti.rajaniemi2@gmail.com
URL:https://www.suomenvoimanostoliitto.fi/tapahtuma/jasentenvalinen-penkkipunnerrus-tvn/
LOCATION:Nääshallin toiminnallinen liikuntasali\, Näsijärvenkatu 8\, Tampere\, 33210\, Suomi
CATEGORIES:Jäsentenvälinen
ORGANIZER;CN="Tampereen Voimanostajat ry":MAILTO:mankku68@gmail.com
END:VEVENT
BEGIN:VEVENT
DTSTART;TZID=Europe/Helsinki:20250426T093000
DTEND;TZID=Europe/Helsinki:20250426T170000
DTSTAMP:20260421T063626
CREATED:20250127T152545Z
LAST-MODIFIED:20250128T045626Z
UID:19991-1745659800-1745686800@www.suomenvoimanostoliitto.fi
SUMMARY:Kansallinen penkkipunnerruskilpailu (OPT)
DESCRIPTION:Kilpailujen järjestäjä: Oulun Power Team ry \nKilpailupäivä: 2025-04-26 \nKilpailun tyyppi: Kansallinen \nMikä kilpailu on kyseessä: Penkkipunnerrus \nKilpailupaikka osoitteineen: Kuntosali Classic Gym\, Sotilaankuja 1\, 90130 Oulu \nPunnitusaikataulu: 9:30 \nKilpailujen alkamisaika: 11:00 \nSarjat ja ikäluokat: Kaikki sarjat ja ikäluokat \nOsanottomaksu: 30 EUR\, maksetaan 20.4.2025 mennessä Oulun Power Team ry:n tilille FI34 5741 3620 2432 84. \nOsanottomäärä: Yksi ryhmä \nMilloin ilmoittauduttava: 20.4.2025 \nKenelle ilmoittauduttava: sami.a.siltala@gmail.com \nMuut huomiot: Lyhyt punnitus \nLisätietoja: Sami Siltala\, sami.a.siltala@gmail.com
URL:https://www.suomenvoimanostoliitto.fi/tapahtuma/kansallinen-penkkipunnerruskilpailu-opt-3/
LOCATION:Kuntosali Classic Gym\, Sotilaankuja 1\, Oulu\, 90130\, Suomi
CATEGORIES:Kansallinen kilpailu
ORGANIZER;CN="Oulun Power Team ry":MAILTO:sami.a.siltala@gmail.com
END:VEVENT
BEGIN:VEVENT
DTSTART;TZID=Europe/Helsinki:20250426T093000
DTEND;TZID=Europe/Helsinki:20250426T170000
DTSTAMP:20260421T063626
CREATED:20250224T085755Z
LAST-MODIFIED:20250415T115903Z
UID:20414-1745659800-1745686800@www.suomenvoimanostoliitto.fi
SUMMARY:Jäsentenvälinen voimanostokilpailu (TVN)
DESCRIPTION:Kilpailujen järjestäjä: Tampereen Voimanostajat \nKilpailupäivä: 2025-04-26 \nKilpailun tyyppi: Jäsentenvälinen \nMikä kilpailu on kyseessä: Voimanosto \nKilpailupaikka osoitteineen: Nääshallin toiminnallinen sali. Näsijärvenkatu 8\, 33210 Tampere. \nPunnitusaikataulu: 09:30-10:30 \nKilpailujen alkamisaika: 11:00 \nSarjat ja ikäluokat: Kaikki sarjat ja ikäluokat \n. luokan tuomarit: Kyllä \nOsanottomaksu: Ei osanottomaksua \nOsanottomäärä: Määrää ei ole rajoitettu mutta vain TVN:n jäsenille. \nMilloin ilmoittauduttava: 26.4.2025 \nKenelle ilmoittauduttava: matti.rajaniemi2@gmail.com \nMuut huomiot: \nLisätietoja: matti.rajaniemi2@gmail.com
URL:https://www.suomenvoimanostoliitto.fi/tapahtuma/jasentenvalinen-voimanostokilpailu-tvn-7/
LOCATION:Nääshallin toiminnallinen liikuntasali\, Näsijärvenkatu 8\, Tampere\, 33210\, Suomi
CATEGORIES:Jäsentenvälinen
ORGANIZER;CN="Tampereen Voimanostajat ry":MAILTO:mankku68@gmail.com
END:VEVENT
BEGIN:VEVENT
DTSTART;TZID=Europe/Helsinki:20250426T100000
DTEND;TZID=Europe/Helsinki:20250426T170000
DTSTAMP:20260421T063626
CREATED:20250127T152258Z
LAST-MODIFIED:20250128T045542Z
UID:19989-1745661600-1745686800@www.suomenvoimanostoliitto.fi
SUMMARY:Kansallinen voimanostokilpailu (OPT)
DESCRIPTION:Kilpailujen järjestäjä: Oulun Power Team ry \nKilpailupäivä: 2025-04-26 \nKilpailun tyyppi: Kansallinen \nMikä kilpailu on kyseessä: Voimanosto \nKilpailupaikka osoitteineen: Kuntosali Classic Gym\, Sotilaankuja 1\, 90130 Oulu \nPunnitusaikataulu: 10:00 \nKilpailujen alkamisaika: 11:30 Heti penkkipunnerruskilpailun ja sen palkintojenjaon jälkeen \nSarjat ja ikäluokat: Kaikki sarjat ja ikäluokat \nOsanottomaksu: 30 EUR\, maksetaan 20.4.2025 mennessä Oulun Power Team ry:n tilille FI34 5741 3620 2432 84. \nOsanottomäärä: 2 ryhmää \nMilloin ilmoittauduttava: 20.4.2025 \nKenelle ilmoittauduttava: sami.a.siltala@gmail.com \nMuut huomiot: Lyhyt punnitus \nLisätietoja: Sami Siltala\, sami.a.siltala@gmail.com
URL:https://www.suomenvoimanostoliitto.fi/tapahtuma/kansallinen-voimanostokilpailu-opt-3/
LOCATION:Kuntosali Classic Gym\, Sotilaankuja 1\, Oulu\, 90130\, Suomi
CATEGORIES:Kansallinen kilpailu
ORGANIZER;CN="Oulun Power Team ry":MAILTO:sami.a.siltala@gmail.com
END:VEVENT
BEGIN:VEVENT
DTSTART;TZID=Europe/Helsinki:20250426T100000
DTEND;TZID=Europe/Helsinki:20250426T170000
DTSTAMP:20260421T063626
CREATED:20250310T072309Z
LAST-MODIFIED:20250310T094218Z
UID:20674-1745661600-1745686800@www.suomenvoimanostoliitto.fi
SUMMARY:Kansallinen voimanostokilpailu (SaJy)
DESCRIPTION:Kilpailujen järjestäjä: Savonlinnan Jyry \nKilpailupäivä: 2025-04-26 \nKilpailun tyyppi: Kansallinen \nMikä kilpailu on kyseessä: Voimanosto \nKilpailupaikka osoitteineen: Olavinkatu 13    Savonlinna \nPunnitusaikataulu: 10:00- 11:30 \nKilpailujen alkamisaika: 12:00 \nSarjat ja ikäluokat: M/N Yleinen \n\nluokan tuomarit: Ei\n\nOsanottomaksu: 30€ (seuran omat jäsenet 25€) tilille FI2856511320187973 \nOsanottomäärä: Max 16 nostajaa. \nMilloin ilmoittauduttava: 20.4.2025 mennessä \nKenelle ilmoittauduttava: Joonas Mikkonen \nMuut huomiot: Järjestämme klassisen voimanoston kilpailut Savonlinnassa. \nKilpailuhin ilmoittatuminen sähköpostilla\, puhelimitse. Tervetuloa kilpailemaan Savoon. \nLisätietoja: jomi88.jm@gmail.com            0503478187
URL:https://www.suomenvoimanostoliitto.fi/tapahtuma/kansallinen-voimanostokilpailu-sajy-2/
LOCATION:Olavinkatu 13\, Olavinkatu 13\, Savonlinna\, Suomi
CATEGORIES:Kansallinen kilpailu
ORGANIZER;CN="Savonlinnan Jyry":MAILTO:jomi88.jm@gmail.com
END:VEVENT
END:VCALENDAR