BEGIN:VCALENDAR
VERSION:2.0
PRODID:-//Suomen Voimanostoliitto ry - ECPv6.9.0//NONSGML v1.0//EN
CALSCALE:GREGORIAN
METHOD:PUBLISH
X-WR-CALNAME:Suomen Voimanostoliitto ry
X-ORIGINAL-URL:https://www.suomenvoimanostoliitto.fi
X-WR-CALDESC:Events for Suomen Voimanostoliitto ry
REFRESH-INTERVAL;VALUE=DURATION:PT1H
X-Robots-Tag:noindex
X-PUBLISHED-TTL:PT1H
BEGIN:VTIMEZONE
TZID:Europe/Helsinki
BEGIN:DAYLIGHT
TZOFFSETFROM:+0200
TZOFFSETTO:+0300
TZNAME:EEST
DTSTART:20250330T010000
END:DAYLIGHT
BEGIN:STANDARD
TZOFFSETFROM:+0300
TZOFFSETTO:+0200
TZNAME:EET
DTSTART:20251026T010000
END:STANDARD
END:VTIMEZONE
BEGIN:VEVENT
DTSTART;TZID=Europe/Helsinki:20250409T180000
DTEND;TZID=Europe/Helsinki:20250409T193000
DTSTAMP:20260420T235100
CREATED:20250228T135706Z
LAST-MODIFIED:20250321T111904Z
UID:20493-1744221600-1744227000@www.suomenvoimanostoliitto.fi
SUMMARY:SVNL kouluttaa- ajankohtaiset AD-asiat\, Jukka Sirviö/SUEK
DESCRIPTION:Ajankohtaiset AD- ja kilpailumanipulaatioasiat\, Jukka Sirviö/SUEK \nLinkkiä voi jakaa. Tilaisuus on kaikille\, mutta varsinkin arvokisoihin 2025 ilmoittautuneet\, MUST! Sekä ohjaajakoulutusryhmät. \n________________________________________________________________________________ \nMicrosoft Teams Tarvitsetko apua? \nLiity kokoukseen nyt \nKokoustunnus: 391 053 274 067 \nTunnuskoodi: Wi3fs92C
URL:https://www.suomenvoimanostoliitto.fi/tapahtuma/svnl-kouluttaa-ajankohtaiset-ad-asiat-jukka-sirvio-suek/
LOCATION:Teams
CATEGORIES:Koulutus
ATTACH;FMTTYPE=image/png:https://www.suomenvoimanostoliitto.fi/wp-content/uploads/fav-suomenvoimannostoliitto.png
ORGANIZER;CN="Suomen Voimanostoliitto ry":MAILTO:info@svnl.fi
END:VEVENT
END:VCALENDAR