BEGIN:VCALENDAR
VERSION:2.0
PRODID:-//Suomen Voimanostoliitto ry - ECPv6.9.0//NONSGML v1.0//EN
CALSCALE:GREGORIAN
METHOD:PUBLISH
X-WR-CALNAME:Suomen Voimanostoliitto ry
X-ORIGINAL-URL:https://www.suomenvoimanostoliitto.fi
X-WR-CALDESC:Events for Suomen Voimanostoliitto ry
REFRESH-INTERVAL;VALUE=DURATION:PT1H
X-Robots-Tag:noindex
X-PUBLISHED-TTL:PT1H
BEGIN:VTIMEZONE
TZID:Europe/Helsinki
BEGIN:DAYLIGHT
TZOFFSETFROM:+0200
TZOFFSETTO:+0300
TZNAME:EEST
DTSTART:20250330T010000
END:DAYLIGHT
BEGIN:STANDARD
TZOFFSETFROM:+0300
TZOFFSETTO:+0200
TZNAME:EET
DTSTART:20251026T010000
END:STANDARD
END:VTIMEZONE
BEGIN:VEVENT
DTSTART;TZID=Europe/Helsinki:20250329T083000
DTEND;TZID=Europe/Helsinki:20250329T170000
DTSTAMP:20260420T205734
CREATED:20250103T111312Z
LAST-MODIFIED:20250103T111312Z
UID:19698-1743237000-1743267600@www.suomenvoimanostoliitto.fi
SUMMARY:Kansallinen voimanostokilpailu (PV)
DESCRIPTION:Kilpailujen järjestäjä: Pietarsaaren Voimailijat \nKilpailupäivä: 2025-03-29 \nKilpailun tyyppi: Kansallinen \nMikä kilpailu on kyseessä: Voimanosto \nKilpailupaikka osoitteineen: Jeppis Gym koulukatu 25 68600 Pietarsaari \nPunnitusaikataulu: 8.30-9.30 \nKilpailujen alkamisaika: 10.00 \nSarjat ja ikäluokat: kaikki sarjat ja ikäluokat \nOsanottomaksu: 30€  maksetaan tilille  FI08 5567 0720 1183 42 \nOsanottomäärä: ei rajattu \nMilloin ilmoittauduttava: 20.3 mennessä. \nKenelle ilmoittauduttava: Juhani Salo 045-6952959 tekstiviesti / whatsapp Muut huomiot: Huom. lyhyt punnitus \nLisätietoja: salojuh@hotmail.com
URL:https://www.suomenvoimanostoliitto.fi/tapahtuma/kansallinen-voimanostokilpailu-pv-2/
LOCATION:Jeppis Gym\, Koulukatu 25\, Pietarsaari\, 68600\, Suomi
CATEGORIES:Kansallinen kilpailu
ORGANIZER;CN="Pietarsaaren Voimailijat":MAILTO:salojuh@hotmail.com
END:VEVENT
END:VCALENDAR