BEGIN:VCALENDAR
VERSION:2.0
PRODID:-//Suomen Voimanostoliitto ry - ECPv6.9.0//NONSGML v1.0//EN
CALSCALE:GREGORIAN
METHOD:PUBLISH
X-WR-CALNAME:Suomen Voimanostoliitto ry
X-ORIGINAL-URL:https://www.suomenvoimanostoliitto.fi
X-WR-CALDESC:Events for Suomen Voimanostoliitto ry
REFRESH-INTERVAL;VALUE=DURATION:PT1H
X-Robots-Tag:noindex
X-PUBLISHED-TTL:PT1H
BEGIN:VTIMEZONE
TZID:Europe/Helsinki
BEGIN:DAYLIGHT
TZOFFSETFROM:+0200
TZOFFSETTO:+0300
TZNAME:EEST
DTSTART:20250330T010000
END:DAYLIGHT
BEGIN:STANDARD
TZOFFSETFROM:+0300
TZOFFSETTO:+0200
TZNAME:EET
DTSTART:20251026T010000
END:STANDARD
END:VTIMEZONE
BEGIN:VEVENT
DTSTART;TZID=Europe/Helsinki:20250308T090000
DTEND;TZID=Europe/Helsinki:20250308T170000
DTSTAMP:20260420T205712
CREATED:20250107T094041Z
LAST-MODIFIED:20250212T061019Z
UID:19747-1741424400-1741453200@www.suomenvoimanostoliitto.fi
SUMMARY:Kansallinen voimanostokilpailu (LVK team)
DESCRIPTION:HUOMIO! Kilpailu on saavuttanut osallistujamääränsä. \n  \nKilpailujen järjestäjä: Lopen Voima ja Kuntoteam \nKilpailupäivä: 2025-03-08 \nKilpailun tyyppi: Kansallinen \nMikä kilpailu on kyseessä: Voimanosto \nKilpailupaikka osoitteineen: Liikuntasali Elmola   Opintie 4    12700 Loppi \nPunnitusaikataulu: 9.00 \nKilpailujen alkamisaika: 11.00 \nSarjat ja ikäluokat: Kaikki sarjat ja ikäluokat \nOsanottomaksu: 40 €  ja 20 € jäsenille \nOsanottomäärä: Max 28 nostajaa \nMilloin ilmoittauduttava: 2.3.2025 klo 24.00 mennessä Kenelle ilmoittauduttava: www.lvkteam.fi/naisten-voimanostokilpailu \nMuut huomiot: Kyseessä naisten voimanostokilpailu. Kilpailtava siinä sarjassa\, johon on ilmoittaunut. Kisassa puffetti ja ykkösen tuomarit. Osanottomaksu tililille FI61 1264 3000 1093 41  Saaja: Lopen Voima ja kuntoteam ry. Os.maksu vahvistaa ilmoittautumisen. Os.maksua ei palauteta. \nLisätietoja: lopenvoimajakunto@gmail.com
URL:https://www.suomenvoimanostoliitto.fi/tapahtuma/kansallinen-voimanostokilpailu-lvk-team/
LOCATION:Elmolan Kuntosali\, Opintie 2-4\, Loppi\, 12700
CATEGORIES:Kansallinen kilpailu
END:VEVENT
END:VCALENDAR