BEGIN:VCALENDAR
VERSION:2.0
PRODID:-//Suomen Voimanostoliitto ry - ECPv6.9.0//NONSGML v1.0//EN
CALSCALE:GREGORIAN
METHOD:PUBLISH
X-WR-CALNAME:Suomen Voimanostoliitto ry
X-ORIGINAL-URL:https://www.suomenvoimanostoliitto.fi
X-WR-CALDESC:Events for Suomen Voimanostoliitto ry
REFRESH-INTERVAL;VALUE=DURATION:PT1H
X-Robots-Tag:noindex
X-PUBLISHED-TTL:PT1H
BEGIN:VTIMEZONE
TZID:Europe/Helsinki
BEGIN:DAYLIGHT
TZOFFSETFROM:+0200
TZOFFSETTO:+0300
TZNAME:EEST
DTSTART:20250330T010000
END:DAYLIGHT
BEGIN:STANDARD
TZOFFSETFROM:+0300
TZOFFSETTO:+0200
TZNAME:EET
DTSTART:20251026T010000
END:STANDARD
END:VTIMEZONE
BEGIN:VEVENT
DTSTART;TZID=Europe/Helsinki:20250301T100000
DTEND;TZID=Europe/Helsinki:20250301T170000
DTSTAMP:20260420T193702
CREATED:20250122T172325Z
LAST-MODIFIED:20250122T172325Z
UID:19963-1740823200-1740848400@www.suomenvoimanostoliitto.fi
SUMMARY:Jäsentenvälinen voimanostokilpailu (HKääntö)
DESCRIPTION:Kilpailujen järjestäjä: Herwannan Hauiskääntö \nKilpailupäivä: 2025-03-01 \nKilpailun tyyppi: Jäsentenvälinen \nMikä kilpailu on kyseessä: Voimanosto \nKilpailupaikka osoitteineen: Korkeakoulunkatu 12\, 33720 Tampere \nPunnitusaikataulu: 10:00-11:30 \nKilpailujen alkamisaika: 12:00 \nSarjat ja ikäluokat: kaikki \nOsanottomaksu: Jäsenille ilmainen \nOsanottomäärä: max 2 ryhmää (28 henkilöä) \nMilloin ilmoittauduttava: 22.02.2025 Kenelle ilmoittauduttava: hkaanto@lists.tuni.fi \nMuut huomiot: Ilmoittautumiseen seura\, ikä- ja painoluokka\, syntymäaika\, kuva suomisportin voimassaolevasta lisenssistä ja sähköposti lisätiedoille. \nLisätietoja: hkaanto@lists.tuni.fi
URL:https://www.suomenvoimanostoliitto.fi/tapahtuma/jasentenvalinen-voimanostokilpailu-hkaanto-2/
LOCATION:Korkeakoulunkatu 12\, Korkeakoulunkatu 12\, Tampere\, 33720\, Finland
CATEGORIES:Jäsentenvälinen
ORGANIZER;CN="Herwannan Hauisk%C3%A4%C3%A4nt%C3%B6":MAILTO:hkaanto@lists.tuni.fi
END:VEVENT
BEGIN:VEVENT
DTSTART;TZID=Europe/Helsinki:20250301T110000
DTEND;TZID=Europe/Helsinki:20250301T140000
DTSTAMP:20260420T193702
CREATED:20250203T110513Z
LAST-MODIFIED:20250203T110513Z
UID:20122-1740826800-1740837600@www.suomenvoimanostoliitto.fi
SUMMARY:Tuomarikoulutus ja koe Mikkelissä 1.3.2025
DESCRIPTION:Savon Voima Veikot järjestää tuomarikoulutuksen ja -kokeen Mikkelissä 1.3.2025 klo 11.00 – 14.00 \nLisätietoja ja ilmoittautumiset: Iiro Riekkinen p. 044 2124672
URL:https://www.suomenvoimanostoliitto.fi/tapahtuma/tuomarikoulutus-ja-koe-mikkelissa-1-3-2025/
END:VEVENT
END:VCALENDAR