BEGIN:VCALENDAR
VERSION:2.0
PRODID:-//Suomen Voimanostoliitto ry - ECPv6.9.0//NONSGML v1.0//EN
CALSCALE:GREGORIAN
METHOD:PUBLISH
X-ORIGINAL-URL:https://www.suomenvoimanostoliitto.fi
X-WR-CALDESC:Events for Suomen Voimanostoliitto ry
REFRESH-INTERVAL;VALUE=DURATION:PT1H
X-Robots-Tag:noindex
X-PUBLISHED-TTL:PT1H
BEGIN:VTIMEZONE
TZID:Europe/Helsinki
BEGIN:DAYLIGHT
TZOFFSETFROM:+0200
TZOFFSETTO:+0300
TZNAME:EEST
DTSTART:20250330T010000
END:DAYLIGHT
BEGIN:STANDARD
TZOFFSETFROM:+0300
TZOFFSETTO:+0200
TZNAME:EET
DTSTART:20251026T010000
END:STANDARD
END:VTIMEZONE
BEGIN:VEVENT
DTSTART;TZID=Europe/Helsinki:20250110T160000
DTEND;TZID=Europe/Helsinki:20250110T213000
DTSTAMP:20260424T124914
CREATED:20241220T151648Z
LAST-MODIFIED:20241220T151648Z
UID:19434-1736524800-1736544600@www.suomenvoimanostoliitto.fi
SUMMARY:Kansallinen voimanostokilpailu\, PomPy
DESCRIPTION:Kilpailujen järjestäjä: Pomarkun Pyry voimailu \nKilpailupäivä: 2025-01-10 \nKilpailun tyyppi: Kansallinen \nMikä kilpailu on kyseessä: Voimanosto \nKilpailupaikka osoitteineen: Pomarkun Monitoimihalli\, Harjantie 1\, 29630 Pomarkku \nPunnitusaikataulu: 16:00-17:30 \nKilpailujen alkamisaika: 18:00 \nSarjat ja ikäluokat: Kaikki sarjat ja ikäluokat \nOsanottomaksu: 30 € maksetaan PomPyn tilille FI83 5106 0120 1632 50 ilmoittautumisajan loppuun\, 2.1 mennessä \nOsanottomäärä: 10 \nMilloin ilmoittauduttava: 2.1.mennessä \nKenelle ilmoittauduttava: pomarkunpyry.voimailu@gmail.com (viestiin nimi\, syntymävuosi\, seura\, sarja\, klassinen vai varuste) Muut huomiot: Ilmoittautuessa on oltava Suomen Voimanostoliiton lisenssi maksettuna ja sopimus voimassa. Nämä tarkastetaan ennen kilpailua punnituksessa. \nLisätietoja: Jouni Vähäsantanen 045-1105959 tai pomarkun.pyry@gmail.com
URL:https://www.suomenvoimanostoliitto.fi/tapahtuma/kansallinen-voimanostokilpailu-pompy/
LOCATION:Pomarkun Monitoimihalli\, Harjantie 1\, Pomarkku\, 29630\, Suomi
CATEGORIES:Kansallinen kilpailu
END:VEVENT
END:VCALENDAR