BEGIN:VCALENDAR
VERSION:2.0
PRODID:-//Suomen Voimanostoliitto ry - ECPv6.9.0//NONSGML v1.0//EN
CALSCALE:GREGORIAN
METHOD:PUBLISH
X-ORIGINAL-URL:https://www.suomenvoimanostoliitto.fi
X-WR-CALDESC:Events for Suomen Voimanostoliitto ry
REFRESH-INTERVAL;VALUE=DURATION:PT1H
X-Robots-Tag:noindex
X-PUBLISHED-TTL:PT1H
BEGIN:VTIMEZONE
TZID:Europe/Helsinki
BEGIN:DAYLIGHT
TZOFFSETFROM:+0200
TZOFFSETTO:+0300
TZNAME:EEST
DTSTART:20250330T010000
END:DAYLIGHT
BEGIN:STANDARD
TZOFFSETFROM:+0300
TZOFFSETTO:+0200
TZNAME:EET
DTSTART:20251026T010000
END:STANDARD
END:VTIMEZONE
BEGIN:VEVENT
DTSTART;TZID=Europe/Helsinki:20250103T100000
DTEND;TZID=Europe/Helsinki:20250105T170000
DTSTAMP:20260419T202400
CREATED:20240705T065255Z
LAST-MODIFIED:20241206T085223Z
UID:17696-1735898400-1736096400@www.suomenvoimanostoliitto.fi
SUMMARY:Varustevoimanoston ja penkkipunnerruksen SM-kisat\, kaikki 3. - 5.1.2025\, LIKE\, Hämeenlinna
DESCRIPTION:Team LIKE ry. sekä Suomen Voimanostoliitto ry. järjestävät \nKilpailupaikka: TEHO-areena\, Parolantie 106\, 13130 Hämeenlinna \nAlustava aikataulu: \nperjantai 3.1 \nPenkkipunnerrus                                   kaikki sarjat \nlauantai 4.1 \nVoimanosto                                            M18\, M23\, M40\, M50\, M60\, M70 \nN18\, N23\, N40\, N50\, N60\, N70 \nsunnuntai 5.1 \nVoimanosto                                            Naiset avoin \nMiehet avoin \nLopullinen aikataulu tehdään ilmoittautumisajan päättymisen jälkeen riippuen nostajien määrästä \nIlmoittautumiset: Seurojen yhteyshenkilöt ilmoittavat SM-kilpailuihin tarkoitetut urheilijat sähköisesti Suomisportin kautta 13.12.2024 klo 24.00 mennessä. Ilmoittautumisten tekeminen ajoissa on seurojen vastuulla.\nOsallistumismaksu: Seuran tulee maksaa ilmoittamansa urheilijat ilmoittamisen yhteydessä Suomisportin kautta. Osallistumismaksu on varustevoimanostossa 90€/kilpailija ja M18 ja N18-ikäluokissa 60€/kilpailija. Varustepenkkipunnerruksen osallistumismaksut ovat 80e/kilpailija\, M18- ja N18-ikäluokissa 50 e. \nLisenssi: Nostajien kilpailulisenssi vuodelle 2025 tarkistetaan punnituksen yhteydessä. Se tulee esittää joko SuomiSportin appilla tai SuomiSportista tulostetulla paperilla. \nTuloksen tekoaika: 8.1.2024-13.12.2024 \nTulosrajat: Kilpailuun ei ole tulosrajoja\, mutta kilpailijalla on oltava tulos tehtynä tulos tuloksentekoaikana\, joka ilmoitetaan ilmoittautumisen yhteydessä. Tulokseksi lasketaan joko klassinen tai varustetulos penkkipunnerrus- ja/tai voimanostokilpailuissa. \nTulosraja\, joista on säädetty liiton toimintasuunnitelmasta\, on voitu tehdä muuhun painoluokkaan kuin mihin ilmoittaudutaan. Tällöin tuloksen tulee aina olla vähintään sen painoluokan tulosrajan suuruinen\, mihin ilmoittaudutaan kilpailemaan. \nPainoluokan jakaminen A- ja B-ryhmiin jne. \nSM-kisoissa painoluokka jaetaan A- ja B-ryhmiin sen tilastotuloksen perusteella\, joka on tehty 12 ilmoittamista edeltävän kuukauden ajanjakson aikana painoluokkaan\, mihin nostaja ilmoitetaan kilpailemaan SM-kisaan. Ylempään painoluokkaan tehtyä tulosta ei voida hyväksyä osallistuttaessa alempaan painoluokkaan ryhmäjaossa käytettävänä tuloksena voimanoston teknisten sääntöjen mukaisesti. Alempaan painoluokkaan tehty tulos voidaan hyväksyä. \nKilpailuhotelli:  \nScandic Hämeenlinna City\, Raatihuoneenkatu 16\, 13100 Hämeenlinna \nScandic Aulanko\, Aulangontie 93\, 13220 Hämeenlinna \nKisahotelleissa majoittujille alennusta varauskoodilla EVNT . Varaukset tehdään osoitteessa scandichotels.fi. \nMajoittujat voivat valita mieleisensä huonetyypin sekä saada lisäalennusta maksaessaan varauksen heti varauksen yhteydessä. Yksittäisen majoitusvarauksen peruutusehto riippuu majoittujan valitsemasta varaustyypistä. Varauksen vahvistamiseksi majoittujan tulee antaa hotellille voimassa olevat luottokorttitiedot. \nHuoneet ovat varattavissa hotellin varaustilanteen mukaan viimeistään 10 päivää ennen saapumista. \nScandic Friends-jäsenten kannattaa tarkistaa myös saatavilla olevat kanta-asiakastarjoukset. \nVaaka: Vaaka löytyy kisahotellista sekä kilpailupaikalta. \nMuuta huomioitavaa: \nLopullinen aikataulu tehdään ilmoittautumisajan päättymisen jälkeen ryhmien kokojen varmistuttua. \nKisapaikalla on runsaasti parkkitilaa. \nPaikallisliikenteenaikatauluja voi tarkistaa osoitteesta \nhttps://reittiopas.hameenlinna.fi/ \nLinjatunnus 17 tulee 250m päähän kohteesta. \nLisätietoja:\nLIKE Hanna Ahola\, like.hameenlinna@gmail.com\, 0400 716472 \nSVNL info@svnl.fi\, 010 309 4270 \n 
URL:https://www.suomenvoimanostoliitto.fi/tapahtuma/varustevoimanoston-ja-penkkipunnerruksen-sm-kisat-kaikki-3-5-1-2025-like-hameenlinna/
LOCATION:Hämeenlinna
CATEGORIES:SM-kilpailu
ORGANIZER;CN="Team LIKE ry":MAILTO:hrantala82@gmail.com
END:VEVENT
END:VCALENDAR