BEGIN:VCALENDAR
VERSION:2.0
PRODID:-//Suomen Voimanostoliitto ry - ECPv6.9.0//NONSGML v1.0//EN
CALSCALE:GREGORIAN
METHOD:PUBLISH
X-WR-CALNAME:Suomen Voimanostoliitto ry
X-ORIGINAL-URL:https://www.suomenvoimanostoliitto.fi
X-WR-CALDESC:Events for Suomen Voimanostoliitto ry
REFRESH-INTERVAL;VALUE=DURATION:PT1H
X-Robots-Tag:noindex
X-PUBLISHED-TTL:PT1H
BEGIN:VTIMEZONE
TZID:Europe/Helsinki
BEGIN:DAYLIGHT
TZOFFSETFROM:+0200
TZOFFSETTO:+0300
TZNAME:EEST
DTSTART:20240331T010000
END:DAYLIGHT
BEGIN:STANDARD
TZOFFSETFROM:+0300
TZOFFSETTO:+0200
TZNAME:EET
DTSTART:20241027T010000
END:STANDARD
END:VTIMEZONE
BEGIN:VEVENT
DTSTART;TZID=Europe/Helsinki:20241214T080000
DTEND;TZID=Europe/Helsinki:20241214T170000
DTSTAMP:20260419T202339
CREATED:20241028T172457Z
LAST-MODIFIED:20241028T172756Z
UID:18612-1734163200-1734195600@www.suomenvoimanostoliitto.fi
SUMMARY:Kansallinen penkkipunnerruskilpailu\, Hyvinkää\, 14.12.2024\, HV-V
DESCRIPTION:Kilpailujen järjestäjä: Hyvinkään Voima-Veikot ry \nKilpailupäivä: 2024-12-14 \nKilpailun tyyppi: Kansallinen \nMikä kilpailu on kyseessä: Penkkipunnerrus Kilpailupaikka osoitteineen: Sporttimekka Vanajantie 3 13110 Hämeenlinna \nPunnitusaikataulu: punnitus klo 9-10.30 \nKilpailujen alkamisaika: kisa klo 11.00 \nSarjat ja ikäluokat: kaikki sarjat ja ikäluokat \nOsanottomaksu: osallistumismaksu 30€ maksetaan tilille: Hyvinkään Voima-Veikot ry BE79 9050 4702 8233\, HVV jäsenille ilmainen \nOsanottomäärä: Osallistumismäärä max 2 ryhmää 28 nostajaa Milloin ilmoittauduttava: 11.12 mennessä Kenelle ilmoittauduttava: Jukka Lahikainen sähköposti: lahikainenjukka@gmail.com Muut huomiot: \nLisätietoja: Jukka Lahikainen 050-5150009 lahikainenjukka@gmail.com
URL:https://www.suomenvoimanostoliitto.fi/tapahtuma/kansallinen-penkkipunnerruskilpailu-hyvinkaa-14-12-2024-hv-v/
CATEGORIES:Kansallinen kilpailu
END:VEVENT
BEGIN:VEVENT
DTSTART;TZID=Europe/Helsinki:20241214T103000
DTEND;TZID=Europe/Helsinki:20241214T170000
DTSTAMP:20260419T202339
CREATED:20240916T173444Z
LAST-MODIFIED:20241014T044639Z
UID:18225-1734172200-1734195600@www.suomenvoimanostoliitto.fi
SUMMARY:Jäsentenvälinen voimanostokilpailu (Akaan Voima)
DESCRIPTION:Kilpailujen järjestäjä: Akaan Voima ry \nKilpailupäivä: 2024-12-14 \nKilpailun tyyppi: Jäsentenvälinen \nMikä kilpailu on kyseessä: Voimanosto \nKilpailupaikka osoitteineen: Rasin voimailutila\, Urheilukuja 1\, 37830 Akaa \nPunnitusaikataulu: 10.30-11.30 \nKilpailujen alkamisaika: 12.00 \nSarjat ja ikäluokat: Kaikki sarjat ja ikäluokat \nOsanottomaksu: 0 \nOsanottomäärä: Maks. 14 hlöä \nMilloin ilmoittauduttava: 4.12.2024 mennessä \nKenelle ilmoittauduttava: jari.mutanen@tuoretuote.com tai seuran WhatsApp ryhmä \nMuut huomiot: Voit osallistua myös ilman lisenssiä\, mutta adt sopimus oltava voimassa. \nLisätietoja: 050-402 9554 Jari
URL:https://www.suomenvoimanostoliitto.fi/tapahtuma/jasentenvalinen-voimanostokilpailu-akaan-voima-2/
LOCATION:Rasin Voimailutila\, Urheilukuja 1\, Akaa\, 37830\, Suomi
CATEGORIES:Jäsentenvälinen
END:VEVENT
BEGIN:VEVENT
DTSTART;TZID=Europe/Helsinki:20241214T140000
DTEND;TZID=Europe/Helsinki:20241214T170000
DTSTAMP:20260419T202339
CREATED:20241109T154924Z
LAST-MODIFIED:20241109T154924Z
UID:18701-1734184800-1734195600@www.suomenvoimanostoliitto.fi
SUMMARY:Kansallinen penkkipunnerruskilpailu\, Pietarsaari\, PV
DESCRIPTION:Kilpailujen järjestäjä: Pietarsaaren Voimailijat \nKilpailupäivä: 2024-12-14 \nKilpailun tyyppi: Kansallinen \nMikä kilpailu on kyseessä: Penkkipunnerrus Kilpailupaikka osoitteineen: Jeppis Gym Koulukatu 25\, 68600 Pietarsaari \nPunnitusaikataulu: 12.30-13.30 \nKilpailujen alkamisaika: 14.00 \nSarjat ja ikäluokat: kaikki sarjat \nOsanottomaksu: 25€  maksetaan tilille  FI08 5567 0720 1183 42 \nOsanottomäärä: Ei rajattu. \nMilloin ilmoittauduttava: 5.12 mennessä. \nKenelle ilmoittauduttava: Juhani Salo 045-6952959  tekstiviesti / whatsapp Muut huomiot: Lyhyt punnitus. \nLisätietoja: salojuh@hotmail.com
URL:https://www.suomenvoimanostoliitto.fi/tapahtuma/kansallinen-penkkipunnerruskilpailu-pietarsaari-pv/
LOCATION:Jeppis Gym\, Koulukatu 25\, Pietarsaari\, 68600\, Suomi
CATEGORIES:Kansallinen kilpailu
ORGANIZER;CN="Pietarsaaren Voimailijat":MAILTO:salojuh@hotmail.com
END:VEVENT
END:VCALENDAR