BEGIN:VCALENDAR
VERSION:2.0
PRODID:-//Suomen Voimanostoliitto ry - ECPv6.9.0//NONSGML v1.0//EN
CALSCALE:GREGORIAN
METHOD:PUBLISH
X-ORIGINAL-URL:https://www.suomenvoimanostoliitto.fi
X-WR-CALDESC:Events for Suomen Voimanostoliitto ry
REFRESH-INTERVAL;VALUE=DURATION:PT1H
X-Robots-Tag:noindex
X-PUBLISHED-TTL:PT1H
BEGIN:VTIMEZONE
TZID:Europe/Helsinki
BEGIN:DAYLIGHT
TZOFFSETFROM:+0200
TZOFFSETTO:+0300
TZNAME:EEST
DTSTART:20240331T010000
END:DAYLIGHT
BEGIN:STANDARD
TZOFFSETFROM:+0300
TZOFFSETTO:+0200
TZNAME:EET
DTSTART:20241027T010000
END:STANDARD
END:VTIMEZONE
BEGIN:VEVENT
DTSTART;TZID=Europe/Helsinki:20241212T180000
DTEND;TZID=Europe/Helsinki:20241212T193000
DTSTAMP:20260419T202419
CREATED:20241017T152049Z
LAST-MODIFIED:20241211T174831Z
UID:18504-1734026400-1734031800@www.suomenvoimanostoliitto.fi
SUMMARY:SVNL-teams: syksyn maajoukkueilta\, osa 4- Loukkaantumisherkkyyden madaltaminen
DESCRIPTION:Kaikillle avoin Teams-koulutus. \nTilaisuudesta tulee tallenne. \nLisätietoja juho.kuusisaari@svnl.fi \nMicrosoft Teams -kokous Tarvitsetko apua? \nLiity: https://teams.microsoft.com/meet/344171847763?p=3mcl1no47kqmrwVNHw \nKokoustunnus: 344 171 847 763 \nTunnuskoodi: Mc28RC7L
URL:https://www.suomenvoimanostoliitto.fi/tapahtuma/svnl-syksyn-maajoukkueilta-osa-4-vuoden-2025-tarkeita-huomioita/
CATEGORIES:Koulutus
ORGANIZER;CN="Suomen Voimanostoliitto ry":MAILTO:info@svnl.fi
END:VEVENT
END:VCALENDAR