BEGIN:VCALENDAR
VERSION:2.0
PRODID:-//Suomen Voimanostoliitto ry - ECPv6.9.0//NONSGML v1.0//EN
CALSCALE:GREGORIAN
METHOD:PUBLISH
X-ORIGINAL-URL:https://www.suomenvoimanostoliitto.fi
X-WR-CALDESC:Events for Suomen Voimanostoliitto ry
REFRESH-INTERVAL;VALUE=DURATION:PT1H
X-Robots-Tag:noindex
X-PUBLISHED-TTL:PT1H
BEGIN:VTIMEZONE
TZID:Europe/Helsinki
BEGIN:DAYLIGHT
TZOFFSETFROM:+0200
TZOFFSETTO:+0300
TZNAME:EEST
DTSTART:20240331T010000
END:DAYLIGHT
BEGIN:STANDARD
TZOFFSETFROM:+0300
TZOFFSETTO:+0200
TZNAME:EET
DTSTART:20241027T010000
END:STANDARD
END:VTIMEZONE
BEGIN:VEVENT
DTSTART;TZID=Europe/Helsinki:20241130T093000
DTEND;TZID=Europe/Helsinki:20241130T170000
DTSTAMP:20260419T184458
CREATED:20241104T145831Z
LAST-MODIFIED:20241104T145831Z
UID:18681-1732959000-1732986000@www.suomenvoimanostoliitto.fi
SUMMARY:Jäsentenvälinen penkkipunnerruskilpailu (OPT)
DESCRIPTION:Kilpailujen järjestäjä: Oulun Power Team ry \nKilpailupäivä: 2024-11-30 \nKilpailun tyyppi: Jäsentenvälinen \nMikä kilpailu on kyseessä: Penkkipunnerrus \nKilpailupaikka osoitteineen: Kuntosali Kuntomo\, Kauppakeskus Zeppelin\, Zeppeliinintie 1\, 90450 Kempele \nPunnitusaikataulu: 9:30 \nKilpailujen alkamisaika: 11:00 \nSarjat ja ikäluokat: Kaikki sarjat ja ikäluokat \nOsanottomaksu: Ei maksua \nOsanottomäärä: Max 20 \nMilloin ilmoittauduttava: 28.11.2024 \nKenelle ilmoittauduttava: sami.a.siltala@gmail.com \nMuut huomiot: Lyhyt punnitus \nLisätietoja: Sami Siltala\, sami.a.siltala@gmail.com
URL:https://www.suomenvoimanostoliitto.fi/tapahtuma/jasentenvalinen-penkkipunnerruskilpailu-opt-2/
LOCATION:Kuntomo Zeppelin\, Zeppeliinintie 1\, Kempele\, 90450\, Suomi
CATEGORIES:Jäsentenvälinen
ORGANIZER;CN="Oulun Power Team ry":MAILTO:sami.a.siltala@gmail.com
END:VEVENT
BEGIN:VEVENT
DTSTART;TZID=Europe/Helsinki:20241130T113000
DTEND;TZID=Europe/Helsinki:20241130T170000
DTSTAMP:20260419T184458
CREATED:20240829T154336Z
LAST-MODIFIED:20241101T162716Z
UID:18107-1732966200-1732986000@www.suomenvoimanostoliitto.fi
SUMMARY:Kansallinen penkkipunnerruskilpailu (SoVi)
DESCRIPTION:Kilpailujen järjestäjä: Sotkamon Visa ry \nKilpailupäivä: 2024-11-30 \nKilpailun tyyppi: Kansallinen \nMikä kilpailu on kyseessä: Penkkipunnerrus \nKilpailupaikka osoitteineen: Terveyskeskuksen voimailutila\, Keskuskatu 9\, 88600 Sotkamo \nPunnitusaikataulu: 11:30-12:30 \nKilpailujen alkamisaika: 13:00 \nSarjat ja ikäluokat: Kaikki \nOsanottomaksu: 20 € \nOsanottomäärä: ei rajattu \nMilloin ilmoittauduttava: 24.11. mennessä \nKenelle ilmoittauduttava: info@sotkamonvisa.fi \nMuut huomiot: Lyhyt punnitus. Osanottomaksu etukäteen Visan tilille FI12 5436 0940 0035 13\, viestiksi oma nimi / Pikkujoulupenkkarit \n\nluokan tuomarit!\n\nLisätietoja: info@sotkamonvisa.fi
URL:https://www.suomenvoimanostoliitto.fi/tapahtuma/kansallinen-penkkipunnerruskilpailu-sovi-2/
LOCATION:Sotkamon terveyskeskuksen voimailutila\, Keskuskatu 9\, Sotkamo\, 88600
CATEGORIES:Kansallinen kilpailu
ORGANIZER;CN="Sotkamon Visa ry":MAILTO:villenisk@gmail.com
END:VEVENT
END:VCALENDAR