BEGIN:VCALENDAR
VERSION:2.0
PRODID:-//Suomen Voimanostoliitto ry - ECPv6.9.0//NONSGML v1.0//EN
CALSCALE:GREGORIAN
METHOD:PUBLISH
X-ORIGINAL-URL:https://www.suomenvoimanostoliitto.fi
X-WR-CALDESC:Events for Suomen Voimanostoliitto ry
REFRESH-INTERVAL;VALUE=DURATION:PT1H
X-Robots-Tag:noindex
X-PUBLISHED-TTL:PT1H
BEGIN:VTIMEZONE
TZID:Europe/Helsinki
BEGIN:DAYLIGHT
TZOFFSETFROM:+0200
TZOFFSETTO:+0300
TZNAME:EEST
DTSTART:20240331T010000
END:DAYLIGHT
BEGIN:STANDARD
TZOFFSETFROM:+0300
TZOFFSETTO:+0200
TZNAME:EET
DTSTART:20241027T010000
END:STANDARD
END:VTIMEZONE
BEGIN:VEVENT
DTSTART;TZID=Europe/Helsinki:20241123T100000
DTEND;TZID=Europe/Helsinki:20241123T170000
DTSTAMP:20260419T184526
CREATED:20240921T084741Z
LAST-MODIFIED:20240921T084741Z
UID:18250-1732356000-1732381200@www.suomenvoimanostoliitto.fi
SUMMARY:Kansallinen voimanostokilpailu (ÅKK)
DESCRIPTION:Kilpailujen järjestäjä: Ålands Kraftsportklubb r.f. (ÅKK) \nKilpailupäivä: 2024-11-23 \nKilpailun tyyppi: Kansallinen \nMikä kilpailu on kyseessä: Voimanosto \nKilpailupaikka osoitteineen: Neptunigatan 23\, 22100 Mariehamn \nPunnitusaikataulu: 10.00-11.30 \nKilpailujen alkamisaika: 12.00 \nSarjat ja ikäluokat: Alla viktklasser\, alla åldersklasser \nOsanottomaksu: 30 € för utomstående tävlande \nOsanottomäärä: – \nMilloin ilmoittauduttava: 16.11.2024 \nKenelle ilmoittauduttava: info@kraftsport.nu \nMuut huomiot: ÅKKs konto IBAN FI0255780440014794 \nLisätietoja: info@kraftsport.nu
URL:https://www.suomenvoimanostoliitto.fi/tapahtuma/kansallinen-voimanostokilpailu-akk-4/
LOCATION:Neptunigatan 23\, Maarianhamina\, 22100\, Suomi
ORGANIZER;CN="%C3%85lands Kraftsportklubb":MAILTO:info@kraftsport.nu
END:VEVENT
END:VCALENDAR