BEGIN:VCALENDAR
VERSION:2.0
PRODID:-//Suomen Voimanostoliitto ry - ECPv6.9.0//NONSGML v1.0//EN
CALSCALE:GREGORIAN
METHOD:PUBLISH
X-WR-CALNAME:Suomen Voimanostoliitto ry
X-ORIGINAL-URL:https://www.suomenvoimanostoliitto.fi
X-WR-CALDESC:Events for Suomen Voimanostoliitto ry
REFRESH-INTERVAL;VALUE=DURATION:PT1H
X-Robots-Tag:noindex
X-PUBLISHED-TTL:PT1H
BEGIN:VTIMEZONE
TZID:Europe/Helsinki
BEGIN:DAYLIGHT
TZOFFSETFROM:+0200
TZOFFSETTO:+0300
TZNAME:EEST
DTSTART:20240331T010000
END:DAYLIGHT
BEGIN:STANDARD
TZOFFSETFROM:+0300
TZOFFSETTO:+0200
TZNAME:EET
DTSTART:20241027T010000
END:STANDARD
END:VTIMEZONE
BEGIN:VEVENT
DTSTART;TZID=Europe/Helsinki:20241121T180000
DTEND;TZID=Europe/Helsinki:20241121T193000
DTSTAMP:20260419T184431
CREATED:20241017T151853Z
LAST-MODIFIED:20241017T151853Z
UID:18502-1732212000-1732217400@www.suomenvoimanostoliitto.fi
SUMMARY:SVNL-teams: syksyn maajoukkueilta\, osa 3 (kipu ja harjoittelu)
DESCRIPTION:Kaikille avoin koulutusteams\, Juho Kuusisaari. \nEsityksestä tulee tallenne liiton sivuille. \n  \nMicrosoft Teams -kokous Tarvitsetko apua? \nLiity: https://teams.microsoft.com/meet/345932780920?p=pDefps2Iydlp70jWU3 \nKokoustunnus: 345 932 780 920 \nTunnuskoodi: rX3P7G7d
URL:https://www.suomenvoimanostoliitto.fi/tapahtuma/svnl-teams-syksyn-maajoukkueilta-osa-3-kipu-ja-harjoittelu/
CATEGORIES:Koulutus
ORGANIZER;CN="Suomen Voimanostoliitto ry":MAILTO:info@svnl.fi
END:VEVENT
END:VCALENDAR