BEGIN:VCALENDAR
VERSION:2.0
PRODID:-//Suomen Voimanostoliitto ry - ECPv6.9.0//NONSGML v1.0//EN
CALSCALE:GREGORIAN
METHOD:PUBLISH
X-ORIGINAL-URL:https://www.suomenvoimanostoliitto.fi
X-WR-CALDESC:Events for Suomen Voimanostoliitto ry
REFRESH-INTERVAL;VALUE=DURATION:PT1H
X-Robots-Tag:noindex
X-PUBLISHED-TTL:PT1H
BEGIN:VTIMEZONE
TZID:Europe/Helsinki
BEGIN:DAYLIGHT
TZOFFSETFROM:+0200
TZOFFSETTO:+0300
TZNAME:EEST
DTSTART:20240331T010000
END:DAYLIGHT
BEGIN:STANDARD
TZOFFSETFROM:+0300
TZOFFSETTO:+0200
TZNAME:EET
DTSTART:20241027T010000
END:STANDARD
END:VTIMEZONE
BEGIN:VEVENT
DTSTART;TZID=Europe/Helsinki:20241115T080000
DTEND;TZID=Europe/Helsinki:20241117T170000
DTSTAMP:20260419T184524
CREATED:20230726T111715Z
LAST-MODIFIED:20241031T191105Z
UID:13708-1731657600-1731862800@www.suomenvoimanostoliitto.fi
SUMMARY:Klassisen voimanoston SM-kilpailut\, masters\, 15. - 17.11.2024\, Hämeenlinna\, LIKE
DESCRIPTION:Team LIKE ry. sekä Suomen Voimanostoliitto ry. järjestävät \nKlassisen Voimanoston Master SM-KILPAILUT 15-17.11.2024 \nKilpailupaikka: liikuntakeskus LIKE\, Parolantie 106\, 13130 Hämeenlinna \nLopullinen aikataulu: \n\n\n\nPerjantai 15.11.2024\nPunnitus\nKilpailu\n\n\n\n\n\n\n\nAvajaiset\n\n9:30\n\n\nN50 52 – 57 kg\, N60\, N70\n08:00 – 09:30\n10:00\n\n\nN50 63 – 84+ kg\n11:30 – 13:00\n13:30\n\n\nN40 52 – 76 kg\n15:30 – 17:00\n17:30\n\n\n\n\n\n\n\n\n\nLauantai 16.11.2024\nPunnitus\nKilpailu\n\n\n\n\n\n\n\nM40 66 – 93 kg\n07:00 – 08:30\n9:00\n\n\nM40 105 kg\, N40 84 – 84+ kg\n11:30 – 13:00\n13:30\n\n\nM40 120 – 120+ kg\, M50 120 kg\n15:30 – 17:00\n17:30\n\n\n\n\n\n\n\n\n\nSunnuntai 17.11.2024\nPunnitus\nKilpailu\n\n\n\n\n\n\n\nM50 66 – 83 kg\, M60 66 kg\, M70\n07:00 – 08:30\n9:00\n\n\nM50 93 – 105 kg\, 120+ kg\, M60 74 – 120 kg\n12:30 – 14:00\n14:30\n\n\n\nIlmoittautumiset: Seurojen yhteyshenkilöt ilmoittavat SM-kilpailuihin tarkoitetut urheilijat sähköisesti Suomisportin kautta 25.10.2024 klo 24.00 mennessä. Ilmoittautumisten tekeminen ajoissa on seurojen vastuulla. \nOsallistumismaksu: Seuran tulee maksaa ilmoittamansa urheilijat ilmoittamisen yhteydessä Suomisportin kautta. Osallistumismaksu on 90€/kilpailija/kilpailuluokka. \nTuloksentekoaika: Masters ikäluokissa kilpaileville ei ole SM-tulosrajoja. Nostajan on tullut tehdä klassisen voimanoston kilpailuissa tulos ajalla 17.11.2023 – 25.10.2024. \nKilpailuhotelli:  \nOriginal Sokos Hotel Vaakuna Hämeenlinna\, Possentie 7\, 13200 Hämeenlinna \nStandard yhden hengen huone                         115 EUR / huone / yö \nStandard kahden hengen huone                      130 EUR / huone / yö \nStandard kahden hengen huone                      150 EUR / huone / yö \nlisävuoteella \nSuperior yhden hengen huone                          135 EUR / huone / yö \nSuperior kahden hengen huone                       150 EUR / huone / yö \n  \nHuonehintaan sisältyy runsas hotelliaamiainen\, asiakassaunan käyttö\, langaton internetyhteys (Wi-Fi) ja alv. \nHuonehintaan sisältyy S-bonukset. Hinnasta ei saa erillistä asiakasomistajan alennusta. \nTutustu tästä hotelliin ja sen palveluihin>> \nHotellihuoneet ovat käytettävissänne tulopäivänä klo 15.00 alkaen lähtöpäivään klo 12.00 saakka. \nVaraukset \nErikoishinnan saa mainitsemalla varauksen yhteydessä kiintiötunnuksen BVOIMA24 \nSokos Hotellien valtakunnallinen myyntipalvelu +358300 870 000 tai Original Sokos Hotel Vaakuna Hämeenlinna\, puh. 020 1234 636\, email. vaakuna.hameenlinna@sokoshotels.fi \nNettisivun kautta www.sokoshotels.fi \n(valitse oikea kaupunki ja majoituspäivät\, tunnus syötetään kohtaan ”Varauskoodit”) \nVoimassa tarjouskoodi on voimassa 7.11.2024 asti. \nVarauksen vahvistaminen \nKiintiöstä tehdyt huonevaraukset on vahvistettava luottokortilla tai maksettava varausvaiheessa. Kiintiöstä tehdyn yksittäisen varauksen viimeinen kuluton peruutuspäivä on 7 vuorokautta ennen tulopäivää. Ensisijaisesti suosittelemme varauksen tekoa puhelimitse tai netissä. Ystävällisesti huomioithan\, että tietosuojasyistä luottokorttitietoja ei saa lähettää sähköpostitse. \nMaksutapa \nJokainen majoittuja vastaa itse omista majoituskuluistaan. \nVaaka: Vaaka löytyy kisahotellin kabinettitilasta sekä kilpailupaikalta. \nLisätietoja:\nLIKE Hanna Ahola\, like.hameenlinna@gmail.com\, 0400 716472 \nSVNL info@svnl.fi\, 010 309 4270 \nKilpailun järjestäjät pidättävät itsellään oikeuden aikataulumuutoksiin lopullisten nostajamäärien selvittyä.
URL:https://www.suomenvoimanostoliitto.fi/tapahtuma/klassisen-voimanoston-sm-kilpailut-masters-15-17-11-2024-hameenlinna-like/
CATEGORIES:SM-kilpailu
ATTACH;FMTTYPE=image/png:https://www.suomenvoimanostoliitto.fi/wp-content/uploads/SM2024-masters-klassinen.png
END:VEVENT
END:VCALENDAR