BEGIN:VCALENDAR
VERSION:2.0
PRODID:-//Suomen Voimanostoliitto ry - ECPv6.9.0//NONSGML v1.0//EN
CALSCALE:GREGORIAN
METHOD:PUBLISH
X-ORIGINAL-URL:https://www.suomenvoimanostoliitto.fi
X-WR-CALDESC:Events for Suomen Voimanostoliitto ry
REFRESH-INTERVAL;VALUE=DURATION:PT1H
X-Robots-Tag:noindex
X-PUBLISHED-TTL:PT1H
BEGIN:VTIMEZONE
TZID:Europe/Helsinki
BEGIN:DAYLIGHT
TZOFFSETFROM:+0200
TZOFFSETTO:+0300
TZNAME:EEST
DTSTART:20240331T010000
END:DAYLIGHT
BEGIN:STANDARD
TZOFFSETFROM:+0300
TZOFFSETTO:+0200
TZNAME:EET
DTSTART:20241027T010000
END:STANDARD
END:VTIMEZONE
BEGIN:VEVENT
DTSTART;TZID=Europe/Helsinki:20241114T120000
DTEND;TZID=Europe/Helsinki:20241114T170000
DTSTAMP:20260419T184526
CREATED:20241023T185401Z
LAST-MODIFIED:20241023T185533Z
UID:18564-1731585600-1731603600@www.suomenvoimanostoliitto.fi
SUMMARY:HKääntö\, Jäsenten välinen voimanostokilpailu\, Tampere
DESCRIPTION:Kilpailujen järjestäjä: Herwannan Hauiskääntö \nKilpailupäivä: 2024-11-14 \nKilpailun tyyppi: Jäsentenvälinen \nMikä kilpailu on kyseessä: Voimanosto \nKilpailupaikka osoitteineen: Tamppi Areena\, Korkeakoulunkatu 12\, 33720 Tampere \nPunnitusaikataulu: 10-11.30 \nKilpailujen alkamisaika: 12.00 \nSarjat ja ikäluokat: Kaikki sarjat ja ikäluokat \nOsanottomaksu: Jäsenille ilmainen \nOsanottomäärä: Kaksi ryhmää (28 hlö) \nMilloin ilmoittauduttava: 7.11.2024 mennessä Kenelle ilmoittauduttava: hkaanto@lists.tuni.fi Muut huomiot: Ilmoita ilmoittautumisen yhteydessä: Nimi\, seura\, syntymäpäivä\, paino- ja ikäluokka\, sähköpostiosoite ja kuva voimassa olevasta lisenssistä Suomisport sovelluksesta. \nLisätietoja: hkaanto@lists.tuni.fi
URL:https://www.suomenvoimanostoliitto.fi/tapahtuma/hkaanto-jasenten-valinen-voimanostokilpailu/
LOCATION:Tamppi Areena\, Korkeakoulunkatu 12\, Tampere\, 33720\, Suomi
CATEGORIES:Jäsentenvälinen
ORGANIZER;CN="Herwannan Hauisk%C3%A4%C3%A4nt%C3%B6":MAILTO:hkaanto@lists.tuni.fi
END:VEVENT
END:VCALENDAR