BEGIN:VCALENDAR
VERSION:2.0
PRODID:-//Suomen Voimanostoliitto ry - ECPv6.9.0//NONSGML v1.0//EN
CALSCALE:GREGORIAN
METHOD:PUBLISH
X-ORIGINAL-URL:https://www.suomenvoimanostoliitto.fi
X-WR-CALDESC:Events for Suomen Voimanostoliitto ry
REFRESH-INTERVAL;VALUE=DURATION:PT1H
X-Robots-Tag:noindex
X-PUBLISHED-TTL:PT1H
BEGIN:VTIMEZONE
TZID:Europe/Helsinki
BEGIN:DAYLIGHT
TZOFFSETFROM:+0200
TZOFFSETTO:+0300
TZNAME:EEST
DTSTART:20240331T010000
END:DAYLIGHT
BEGIN:STANDARD
TZOFFSETFROM:+0300
TZOFFSETTO:+0200
TZNAME:EET
DTSTART:20241027T010000
END:STANDARD
END:VTIMEZONE
BEGIN:VEVENT
DTSTART;TZID=Europe/Helsinki:20241110T083000
DTEND;TZID=Europe/Helsinki:20241110T170000
DTSTAMP:20260419T184527
CREATED:20240415T075253Z
LAST-MODIFIED:20241004T115424Z
UID:16807-1731227400-1731258000@www.suomenvoimanostoliitto.fi
SUMMARY:Opiskelijoiden SM-kilpailut (Herwannan hauiskääntö)
DESCRIPTION:Kilpailujen järjestäjä: Herwannan Hauiskääntö \nKilpailupäivä: 2024-11-10 \nKilpailun tyyppi: Kansallinen \nMikä kilpailu on kyseessä: Voimanosto \nKilpailupaikka osoitteineen: Tamppi areena\, Korkeakoulunkatu 12\, 33720 Tampere \nPunnitusaikataulu: miehet (kaikki painoluokat): 8.30-10.00; naiset (kaikki painoluokat): 12.30-14.00 \nKilpailujen alkamisaika: miehet: 10.30; naiset: 14.30 Sarjat ja ikäluokat: kaikki sarjat ja ikäluokat \nOsanottomaksu: \n40€. Lisäksi OLL ulkopuoliset korkeakouluopiskelijat maksavat 50% osallistumis maksusta OLL lisää (eli esimerkiksi TAMKOn opiskelijat maksavat 60 euroa) \nOsanottomäärä: 40 (arvio viime vuoden perusteella\, ei ylärajaa) \nMilloin ilmoittauduttava: 19.10.2024 \nKenelle ilmoittauduttava: https://forms.gle/bJkcTvzwem2yEkaV8 \nMuut huomiot: HUOM! Kyseessä on opiskelijoiden mestaruuskilpailu\, joten osallistuminen edellyttää voimassa olevaa toisen tai korkea-asteen oppilaitoksen opiskelijakorttia\, läsnäolotodistusta\, tai todistusta valmistumisesta kuluvana tai edellisenä kalenterivuotena. \nKilpailuilmoittautumisessa ei kysytä painoluokkia\, vaan ne määräytyvät kilpailupäivänä puntarilla. kilpailu käydään kaikki kaikkia vastaan -periaatteella vertaamalla pisteitä. Kaikkien kilpailuun osallistuvien tulos kirjataan kuitenkin muuten normaalisti pöytäkirjaan. \nLauantaina 9.11.2024 kilpaillaan painonnostossa\, sekä lisenssittömien nostajien rentosarjassa. Kilpailuissa on mahdollista kilpailla myös supertotalissa\, eli painonnoston ja voimanoston yhteispisteissä. \nLisätietoja: Herwannan Hauiskäännön kotisivuilta osoitteesta hkaanto.fi\, tai sähköpostiosoitteesta hkaanto@lists.tuni.fi
URL:https://www.suomenvoimanostoliitto.fi/tapahtuma/opiskelijoiden-sm-kilpailut-herwannan-hauiskaanto/
LOCATION:Tamppi Areena\, Korkeakoulunkatu 12\, Tampere\, 33720\, Suomi
CATEGORIES:Kansallinen kilpailu
ORGANIZER;CN="Herwannan Hauisk%C3%A4%C3%A4nt%C3%B6":MAILTO:hkaanto@lists.tuni.fi
END:VEVENT
END:VCALENDAR