BEGIN:VCALENDAR
VERSION:2.0
PRODID:-//Suomen Voimanostoliitto ry - ECPv6.9.0//NONSGML v1.0//EN
CALSCALE:GREGORIAN
METHOD:PUBLISH
X-ORIGINAL-URL:https://www.suomenvoimanostoliitto.fi
X-WR-CALDESC:Events for Suomen Voimanostoliitto ry
REFRESH-INTERVAL;VALUE=DURATION:PT1H
X-Robots-Tag:noindex
X-PUBLISHED-TTL:PT1H
BEGIN:VTIMEZONE
TZID:Europe/Helsinki
BEGIN:DAYLIGHT
TZOFFSETFROM:+0200
TZOFFSETTO:+0300
TZNAME:EEST
DTSTART:20240331T010000
END:DAYLIGHT
BEGIN:STANDARD
TZOFFSETFROM:+0300
TZOFFSETTO:+0200
TZNAME:EET
DTSTART:20241027T010000
END:STANDARD
END:VTIMEZONE
BEGIN:VEVENT
DTSTART;TZID=Europe/Helsinki:20240929T100000
DTEND;TZID=Europe/Helsinki:20240929T170000
DTSTAMP:20260419T233719
CREATED:20240812T111323Z
LAST-MODIFIED:20240812T111323Z
UID:17973-1727604000-1727629200@www.suomenvoimanostoliitto.fi
SUMMARY:Jäsentenvälinen penkkipunnerruskilpailu (E-SV ja HP-V)
DESCRIPTION:Kilpailujen järjestäjä: Etelä-Suomen Voimanostajat ja Helsingin Poliisi-Voimailijat \nKilpailupäivä: 2024-09-29 \nKilpailun tyyppi: Jäsentenvälinen \nMikä kilpailu on kyseessä: Penkkipunnerrus \nKilpailupaikka osoitteineen: Pornaisten Yhtenäiskoulu\, Koulutie 4\, 07170 Pornainen \nPunnitusaikataulu: 10.00-11.30 \nKilpailujen alkamisaika: 12.00 \nSarjat ja ikäluokat: Kaikki sarjat ja ikäluokat \nOsanottomaksu: Ei osanottomaksua \nOsanottomäärä: Osanottomäärää ei ole rajattu. Vain E-SV:n ja HPV:n jäsenet voivat osallistua. Myös seurojen jäsenet joilla ei ole lisenssiä voivat osallistua jäsentenväliseen kilpailuun. \nMilloin ilmoittauduttava: 20.9.2024 \nKenelle ilmoittauduttava: Kaj Mattila (0405497462/kaj.mattila@svnl.fi) tai Heikki Virtanen (0445362097/pikkuhessu82@gmail.com) \nMuut huomiot: \nLisätietoja: Kaj Mattila (0405497462/kaj.mattila@svnl.fi) tai Heikki Virtanen (0445362097/pikkuhessu82@gmail.com)
URL:https://www.suomenvoimanostoliitto.fi/tapahtuma/jasentenvalinen-penkkipunnerruskilpailu-e-sv-ja-hp-v/
LOCATION:Pornaisten yhtenäiskoulu\, Koulutie 4\, Pornainen\, 07170\, Suomi
CATEGORIES:Jäsentenvälinen
ORGANIZER;CN="Etel%C3%A4-Suomen Voimanostajat":MAILTO:kaj.mattila@svnl.fi
END:VEVENT
END:VCALENDAR