BEGIN:VCALENDAR
VERSION:2.0
PRODID:-//Suomen Voimanostoliitto ry - ECPv6.9.0//NONSGML v1.0//EN
CALSCALE:GREGORIAN
METHOD:PUBLISH
X-ORIGINAL-URL:https://www.suomenvoimanostoliitto.fi
X-WR-CALDESC:Events for Suomen Voimanostoliitto ry
REFRESH-INTERVAL;VALUE=DURATION:PT1H
X-Robots-Tag:noindex
X-PUBLISHED-TTL:PT1H
BEGIN:VTIMEZONE
TZID:Europe/Helsinki
BEGIN:DAYLIGHT
TZOFFSETFROM:+0200
TZOFFSETTO:+0300
TZNAME:EEST
DTSTART:20240331T010000
END:DAYLIGHT
BEGIN:STANDARD
TZOFFSETFROM:+0300
TZOFFSETTO:+0200
TZNAME:EET
DTSTART:20241027T010000
END:STANDARD
END:VTIMEZONE
BEGIN:VEVENT
DTSTART;TZID=Europe/Helsinki:20240922T090000
DTEND;TZID=Europe/Helsinki:20240922T170000
DTSTAMP:20260420T091231
CREATED:20240809T092134Z
LAST-MODIFIED:20240809T092134Z
UID:17923-1726995600-1727024400@www.suomenvoimanostoliitto.fi
SUMMARY:Jäsentenvälinen voimanostokilpailu (Rannikon Voima)
DESCRIPTION:Kilpailujen järjestäjä: Rannikon Voima ry \nKilpailupäivä: 2024-09-22 \nKilpailun tyyppi: Jäsentenvälinen \nMikä kilpailu on kyseessä: Voimanosto \nKilpailupaikka osoitteineen: Valhalla\, Pronssikuja 8\, Lieto \nPunnitusaikataulu: 9-10.30 \nKilpailujen alkamisaika: 11.00 \nSarjat ja ikäluokat: Kaikki sarjat ja ikäryhmät \nOsanottomaksu: Jäsenille maksuton \nOsanottomäärä: 14 hlö (yksi ryhmä) \nMilloin ilmoittauduttava: 8.9.2024 \nKenelle ilmoittauduttava: rannikonvoima@gmail.com
URL:https://www.suomenvoimanostoliitto.fi/tapahtuma/jasentenvalinen-voimanostokilpailu-rannikon-voima-4/
LOCATION:Valhalla\, Pronssikuja 8\, Lieto\, Suomi
CATEGORIES:Jäsentenvälinen
ORGANIZER;CN="Rannikon Voima ry":MAILTO:ravinkisat@gmail.com
END:VEVENT
END:VCALENDAR