BEGIN:VCALENDAR
VERSION:2.0
PRODID:-//Suomen Voimanostoliitto ry - ECPv6.9.0//NONSGML v1.0//EN
CALSCALE:GREGORIAN
METHOD:PUBLISH
X-ORIGINAL-URL:https://www.suomenvoimanostoliitto.fi
X-WR-CALDESC:Events for Suomen Voimanostoliitto ry
REFRESH-INTERVAL;VALUE=DURATION:PT1H
X-Robots-Tag:noindex
X-PUBLISHED-TTL:PT1H
BEGIN:VTIMEZONE
TZID:Europe/Helsinki
BEGIN:DAYLIGHT
TZOFFSETFROM:+0200
TZOFFSETTO:+0300
TZNAME:EEST
DTSTART:20240331T010000
END:DAYLIGHT
BEGIN:STANDARD
TZOFFSETFROM:+0300
TZOFFSETTO:+0200
TZNAME:EET
DTSTART:20241027T010000
END:STANDARD
END:VTIMEZONE
BEGIN:VEVENT
DTSTART;TZID=Europe/Helsinki:20240914T090000
DTEND;TZID=Europe/Helsinki:20240914T170000
DTSTAMP:20260420T202330
CREATED:20240620T090659Z
LAST-MODIFIED:20240620T090659Z
UID:17507-1726304400-1726333200@www.suomenvoimanostoliitto.fi
SUMMARY:Kansallinen voimanostokilpailu (PV-81)
DESCRIPTION:Kilpailujen järjestäjä: Porin Voimailijat-81 ry \nKilpailupäivä: 2024-09-14 \nKilpailun tyyppi: Kansallinen \nMikä kilpailu on kyseessä: Voimanosto \nKilpailupaikka osoitteineen: Porin Urheilutalo\, Kuninkaanhaanaukio 12\, 28130 Pori \nPunnitusaikataulu: 9.00 \nKilpailujen alkamisaika: 11.00 \nSarjat ja ikäluokat: Kaikki sarjat ja ikäluokat \nOsanottomaksu: 40€\, oman seuran talkoilijoille 0€ \nOsanottomäärä: 36 \nMilloin ilmoittauduttava: 6.9.2024 klo 23:59 \nKenelle ilmoittauduttava: https://www.suomisport.fi/events/6a1b60a9-0611-48bb-94c0-ff26f9bdb340 \nMuut huomiot: 2-luokan tuomarit\, kisamaksuja ei palauteta. Palkitaan parhaat pisteiden perusteella. \nLisätietoja: porinvoimailijat81@gmail.com
URL:https://www.suomenvoimanostoliitto.fi/tapahtuma/kansallinen-voimanostokilpailu-pv-81-5/
LOCATION:Porin Urheilutalo\, Kuninkaanhaanaukio 12\, Pori\, 28130
CATEGORIES:Kansallinen kilpailu
ORGANIZER;CN="Porin Voimailijat-81":MAILTO:jarkko.kemppi@outlook.com
END:VEVENT
BEGIN:VEVENT
DTSTART;TZID=Europe/Helsinki:20240914T090000
DTEND;TZID=Europe/Helsinki:20240914T170000
DTSTAMP:20260420T202330
CREATED:20240625T082938Z
LAST-MODIFIED:20240625T083137Z
UID:17536-1726304400-1726333200@www.suomenvoimanostoliitto.fi
SUMMARY:Kansallinen voimanostokilpailu (NPower)
DESCRIPTION:Kilpailujen järjestäjä: Nordic Power \nKilpailupäivä: 2024-09-14 \nKilpailun tyyppi: Kansallinen \nMikä kilpailu on kyseessä: Voimanosto \nKilpailupaikka osoitteineen: Vapaudentie 1 67100 Kokkola \nPunnitusaikataulu: 9.00-10.30 \nKilpailujen alkamisaika: 11.00 \nSarjat ja ikäluokat: Kaikki \nOsanottomaksu: 35€ LUE TÄMÄ TARKKAAN: Npowerin pankki ja tilinumero vaihtuu 1.9. Maksa aikaisintaan 2.9 uudelle tilille: FI5141080013057701 \nOsanottomäärä: Osanottajamäärä max 30. Osallistujat otetaan mukaan ilmoittautumisjärjestyksessä. \nMilloin ilmoittauduttava: 8.9.2024 Mennessä sähköpostilla Kenelle ilmoittauduttava: nordic.power@outlook.com Muut huomiot: Lisätietoja: Tomi Määttä 0503161638 mieluiten SMS/WA. Huomioithan tilinumeron vaihtumisen ja siitä johtuvan poikkeuksen osallistumismaksun suorituksen: LUE TÄMÄ TARKKAAN: Npowerin pankki ja tilinumero vaihtuu 1.9. Maksa aikaisintaan 2.9 uudelle tilille: FI5141080013057701 Pidätämme oikeuden muutoksiin jos covid-19 tai jokin muu Force Majeure-tilanne sen vaatii. \nYkkösen tuomarit pyritään järjestämään\, mutta sitä ei voida luvata varmaksi. \nKerrothan mahdollisesta SE-yrityksestä ilmoittautumisen yhteydessä sähköpostissa. \nLisätietoja: Tomi Määttä 0503161638 (WA\,SMS priority)
URL:https://www.suomenvoimanostoliitto.fi/tapahtuma/kansallinen-voimanostokilpailu/
LOCATION:Kokkolan urheilutalo\, Vapaudentie 1\, KOKKOLA\, 67100\, Finland
CATEGORIES:Kansallinen kilpailu
ORGANIZER;CN="Nordic Power":MAILTO:nordic.power@outlook.com
END:VEVENT
BEGIN:VEVENT
DTSTART;TZID=Europe/Helsinki:20240914T090000
DTEND;TZID=Europe/Helsinki:20240914T170000
DTSTAMP:20260420T202330
CREATED:20240805T054445Z
LAST-MODIFIED:20240805T054445Z
UID:17904-1726304400-1726333200@www.suomenvoimanostoliitto.fi
SUMMARY:Jäsentenvälinen voimanostokilpailu (YlöR)
DESCRIPTION:Kilpailujen järjestäjä: Ylöjärven Ryhti \nKilpailupäivä: 2024-09-14 \nKilpailun tyyppi: Jäsentenvälinen \nMikä kilpailu on kyseessä: Voimanosto \nKilpailupaikka osoitteineen: Koulutie 6\, 33470 Ylöjärvi \nPunnitusaikataulu: klo 9-10.30 \nKilpailujen alkamisaika: 11 \nSarjat ja ikäluokat: Kaikki sarjat ja ikäluokat \nOsanottomaksu: ei maksua \nOsanottomäärä: Max 10 \nMilloin ilmoittauduttava: 1.9.2024 mennessä \nKenelle ilmoittauduttava: Päivi Ristolainen\, 050 536 5768 \nMuut huomiot: \nLisätietoja: Päivi Ristolainen\, 050 5365768
URL:https://www.suomenvoimanostoliitto.fi/tapahtuma/jasentenvalinen-voimanostokilpailu-ylor-2/
LOCATION:Koulutie 6\, Koulutie 6\, Ylöjärvi\, 33470\, Suomi
CATEGORIES:Jäsentenvälinen
ORGANIZER;CN="Yl%C3%B6j%C3%A4rven Ryhti":MAILTO:paivi.ristolainen@cimson.fi
END:VEVENT
BEGIN:VEVENT
DTSTART;TZID=Europe/Helsinki:20240914T100000
DTEND;TZID=Europe/Helsinki:20240914T170000
DTSTAMP:20260420T202330
CREATED:20240520T075205Z
LAST-MODIFIED:20240520T075205Z
UID:17195-1726308000-1726333200@www.suomenvoimanostoliitto.fi
SUMMARY:Kansallinen penkkipunnerruskilpailu (Rauman Ydinvoima)
DESCRIPTION:Kilpailujen järjestäjä: Rauman Ydinvoima \nKilpailupäivä: 2024-09-14 \nKilpailun tyyppi: Kansallinen \nMikä kilpailu on kyseessä: Penkkipunnerrus \nKilpailupaikka osoitteineen: Liikuntakeskus Kuntosumppu\, Karjalankatu 29\, 26100 Rauma \nPunnitusaikataulu: 10:00-11:30 \nKilpailujen alkamisaika: 12:00 \nSarjat ja ikäluokat: Kaikki sarjat ja ikäluokat \nOsanottomaksu: 30 e / kilpailu \nOsanottomäärä: Ei rajattu. \nMilloin ilmoittauduttava: Viimeistään 11.9.2024 \nKenelle ilmoittauduttava: http://www.raumanydinvoima.fi/?page_id=15767 \nMuut huomiot: Kilpailussa 2-lk tuomarit. \nLisätietoja: Arto Manninen 0400 435 266
URL:https://www.suomenvoimanostoliitto.fi/tapahtuma/kansallinen-penkkipunnerruskilpailu-rauman-ydinvoima-2/
LOCATION:Kuntosumppu\, Karjalankatu 29\, Rauma\, 26100\, Suomi
CATEGORIES:Kansallinen kilpailu
ORGANIZER;CN="Rauman Ydinvoima":MAILTO:kilpailut@raumanydinvoima.fi
END:VEVENT
BEGIN:VEVENT
DTSTART;TZID=Europe/Helsinki:20240914T100000
DTEND;TZID=Europe/Helsinki:20240914T170000
DTSTAMP:20260420T202330
CREATED:20240802T125633Z
LAST-MODIFIED:20240802T125633Z
UID:17877-1726308000-1726333200@www.suomenvoimanostoliitto.fi
SUMMARY:Jäsentenvälinen voimanostokilpailu (IdVo)
DESCRIPTION:Kilpailujen järjestäjä: Idän Voimailijat ry \nKilpailupäivä: 2024-09-14 \nKilpailun tyyppi: Jäsentenvälinen \nMikä kilpailu on kyseessä: Voimanosto \nKilpailupaikka osoitteineen: PTVGYM Joensuu\, Teollisuuskatu 5-7 Joensuu \nPunnitusaikataulu: klo 10.00-11:30 \nKilpailujen alkamisaika: klo 12:00 \nSarjat ja ikäluokat: kaikki sarjat \nOsanottomaksu: ei osanottomaksua \nOsanottomäärä: max 20 nostajaa \nMilloin ilmoittauduttava: 6.9.2024 mennessä \nKenelle ilmoittauduttava: idanvoimailijat@gmail.com \nMuut huomiot: \nLisätietoja: Henna Niikko-Pirhonen 050 490 9266\, idanvoimailijat@gmail.com
URL:https://www.suomenvoimanostoliitto.fi/tapahtuma/jasentenvalinen-voimanostokilpailu-idvo-2/
LOCATION:PTVGYM Joensuu\, Teollisuuskatu 5-7\, Joensuu\, Suomi
CATEGORIES:Jäsentenvälinen
END:VEVENT
BEGIN:VEVENT
DTSTART;TZID=Europe/Helsinki:20240914T120000
DTEND;TZID=Europe/Helsinki:20240914T170000
DTSTAMP:20260420T202330
CREATED:20240802T125914Z
LAST-MODIFIED:20240816T101410Z
UID:17879-1726315200-1726333200@www.suomenvoimanostoliitto.fi
SUMMARY:Jäsentenvälinen voimanostokilpailu (KiurU ja IOV)
DESCRIPTION:Kilpailujen järjestäjä: Kiuruveden Urheilijat ry KiurU ja Iisalmen Ote ja Voima ry IOV \nKilpailupäivä: 2024-09-14 \nKilpailun tyyppi: Jäsentenvälinen \nMikä kilpailu on kyseessä: Voimanosto \nKilpailupaikka osoitteineen: Teollisuustie 7 Kiuruvesi \nPunnitusaikataulu: 12.00-13.00 \nKilpailujen alkamisaika: 13.30 \nSarjat ja ikäluokat: kaikki \nOsanottomaksu: ei ole \nOsanottomäärä: Ei rajattu\, KiurU ja IOV jäsentenväliset kisat \nMilloin ilmoittauduttava: 6.9.2024 \nKenelle ilmoittauduttava: Anssi Laukkanen\, anssi@tiinantreenipalvelut.fi puh. 044 352 8321\, Jari Saastamoinen jari_saastamoinen@luukku.com puh. 040 184 8486 \nMuut huomiot: Jäsentenvälinen kilpailu\, lyhyt punnitus \nLisätietoja: Jarilta ja Anssilta
URL:https://www.suomenvoimanostoliitto.fi/tapahtuma/jasentenvalinen-voimanostokilpailu-kiuru-ja-iov/
LOCATION:teollisuustie 7\, Teollisuustie 7\, Kiuruvesi\, 74700\, Suomi
CATEGORIES:Jäsentenvälinen
ORGANIZER;CN="Kiuruveden Urheilijat ry":MAILTO: jari_saastamoinen@luukku.com
END:VEVENT
END:VCALENDAR