BEGIN:VCALENDAR
VERSION:2.0
PRODID:-//Suomen Voimanostoliitto ry - ECPv6.9.0//NONSGML v1.0//EN
CALSCALE:GREGORIAN
METHOD:PUBLISH
X-ORIGINAL-URL:https://www.suomenvoimanostoliitto.fi
X-WR-CALDESC:Events for Suomen Voimanostoliitto ry
REFRESH-INTERVAL;VALUE=DURATION:PT1H
X-Robots-Tag:noindex
X-PUBLISHED-TTL:PT1H
BEGIN:VTIMEZONE
TZID:Europe/Helsinki
BEGIN:DAYLIGHT
TZOFFSETFROM:+0200
TZOFFSETTO:+0300
TZNAME:EEST
DTSTART:20240331T010000
END:DAYLIGHT
BEGIN:STANDARD
TZOFFSETFROM:+0300
TZOFFSETTO:+0200
TZNAME:EET
DTSTART:20241027T010000
END:STANDARD
END:VTIMEZONE
BEGIN:VEVENT
DTSTART;TZID=Europe/Helsinki:20240907T093000
DTEND;TZID=Europe/Helsinki:20240907T170000
DTSTAMP:20260420T195206
CREATED:20240703T075054Z
LAST-MODIFIED:20240703T075054Z
UID:17665-1725701400-1725728400@www.suomenvoimanostoliitto.fi
SUMMARY:Jäsentenvälinen voimanostokilpailu (LVK team)
DESCRIPTION:Kilpailujen järjestäjä: Lopen Voima ja Kuntoteam \nKilpailupäivä: 2024-09-07 \nKilpailun tyyppi: Jäsentenvälinen \nMikä kilpailu on kyseessä: Voimanosto \nKilpailupaikka osoitteineen: Kauppatie 12    12700 Loppi \nPunnitusaikataulu: 9.30-10.30 \nKilpailujen alkamisaika: klo 11.00 \nSarjat ja ikäluokat: Kaikki sarjat ja ikäluokat \nOsanottomaksu: Ei osanottomaksua \nOsanottomäärä: Ei rajoitettu \nMilloin ilmoittauduttava: 1.9.2024 klo 24.00 mennessä \nKenelle ilmoittauduttava: Markku Savolainen \nLisätietoja: Markku Savolainen 0407040023
URL:https://www.suomenvoimanostoliitto.fi/tapahtuma/jasentenvalinen-voimanostokilpailu-lvk-team-2/
LOCATION:Kauppatie 12\, Kauppatie 12\, Loppi\, 12700
CATEGORIES:Jäsentenvälinen
END:VEVENT
BEGIN:VEVENT
DTSTART;TZID=Europe/Helsinki:20240907T100000
DTEND;TZID=Europe/Helsinki:20240907T170000
DTSTAMP:20260420T195206
CREATED:20240722T073508Z
LAST-MODIFIED:20240724T075855Z
UID:17806-1725703200-1725728400@www.suomenvoimanostoliitto.fi
SUMMARY:Ålandska mästerskapen i bänkpress
DESCRIPTION:Kilpailujen järjestäjä: Ålands Kraftsportklubb r.f. \nKilpailupäivä: 2024-09-07 \nKilpailun tyyppi: Jäsentenvälinen \nMikä kilpailu on kyseessä: Penkkipunnerrus \nKilpailupaikka osoitteineen: Idrottsgården\, Neptunigatan 23\, 22100 Mariehamn \nPunnitusaikataulu: 10.00-11.30 \nKilpailujen alkamisaika: 12.00 \nSarjat ja ikäluokat: U18 tävlar separat\, och de övriga tävlar i öppen åldersklass \nOsanottomaksu: 0 € \nOsanottomäärä: – \nMilloin ilmoittauduttava: 31.08.2024 \nKenelle ilmoittauduttava: info@kraftsport.nu eller på listan i gymmet \nMuut huomiot: \nLisätietoja: info@kraftsport.nu
URL:https://www.suomenvoimanostoliitto.fi/tapahtuma/jasentenvalinen-penkkipunnerruskilpailu-akk/
LOCATION:Idrottsgården\, Neptunigatan 23\, Maarianhamina\, 22100\, Suomi
CATEGORIES:Jäsentenvälinen
ORGANIZER;CN="%C3%85lands Kraftsportklubb":MAILTO:info@kraftsport.nu
END:VEVENT
END:VCALENDAR