BEGIN:VCALENDAR
VERSION:2.0
PRODID:-//Suomen Voimanostoliitto ry - ECPv6.9.0//NONSGML v1.0//EN
CALSCALE:GREGORIAN
METHOD:PUBLISH
X-ORIGINAL-URL:https://www.suomenvoimanostoliitto.fi
X-WR-CALDESC:Events for Suomen Voimanostoliitto ry
REFRESH-INTERVAL;VALUE=DURATION:PT1H
X-Robots-Tag:noindex
X-PUBLISHED-TTL:PT1H
BEGIN:VTIMEZONE
TZID:Europe/Helsinki
BEGIN:DAYLIGHT
TZOFFSETFROM:+0200
TZOFFSETTO:+0300
TZNAME:EEST
DTSTART:20240331T010000
END:DAYLIGHT
BEGIN:STANDARD
TZOFFSETFROM:+0300
TZOFFSETTO:+0200
TZNAME:EET
DTSTART:20241027T010000
END:STANDARD
END:VTIMEZONE
BEGIN:VEVENT
DTSTART;TZID=Europe/Helsinki:20240831T093000
DTEND;TZID=Europe/Helsinki:20240831T170000
DTSTAMP:20260420T170050
CREATED:20240628T071416Z
LAST-MODIFIED:20240628T071416Z
UID:17631-1725096600-1725123600@www.suomenvoimanostoliitto.fi
SUMMARY:Kansallinen penkkipunnerruskilpailu (OPT)
DESCRIPTION:Kilpailujen järjestäjä: Oulun Power Team ry \nKilpailupäivä: 2024-08-31 \nKilpailun tyyppi: Kansallinen \nMikä kilpailu on kyseessä: Penkkipunnerrus \nosoitteineen: Ptvgym Oulu\, Poratie 5\, 90140 Oulu \nPunnitusaikataulu: 9:30-10:30 \nKilpailujen alkamisaika: 11:00 \nSarjat ja ikäluokat: Kaikki sarjat ja ikäluokat \nOsanottomaksu: 30 €\, maksetaan 29.8.2024 mennessä Oulun Power Team ry:n tilille FI34 5741 3620 2432 84 \nOsanottomäärä: 14 nostajaa \nMilloin ilmoittauduttava: 25.8.2024 \nKenelle ilmoittauduttava: Kirsti Paloniemi\, kirsti.paloniemi@gmail.com \nMuut huomiot: Ilmoita ikä- ja painoluokka\, syntymävuosi ja seura. \nLisätietoja: Kirsti Paloniemi\, 040 5065483
URL:https://www.suomenvoimanostoliitto.fi/tapahtuma/kansallinen-penkkipunnerruskilpailu-opt-2/
LOCATION:PTV Gym Oulu\, Poratie 5\, Oulu\, 90140
CATEGORIES:Kansallinen kilpailu
ORGANIZER;CN="Oulun Power Team ry":MAILTO:sami.a.siltala@gmail.com
END:VEVENT
BEGIN:VEVENT
DTSTART;TZID=Europe/Helsinki:20240831T093000
DTEND;TZID=Europe/Helsinki:20240831T170000
DTSTAMP:20260420T170050
CREATED:20240704T053627Z
LAST-MODIFIED:20240704T053627Z
UID:17678-1725096600-1725123600@www.suomenvoimanostoliitto.fi
SUMMARY:Kansallinen voimanostokilpailu (Elimäen Vauhti)
DESCRIPTION:Kilpailujen järjestäjä: Elimäen Vauhti \nKilpailupäivä: 2024-08-31 \nKilpailun tyyppi: Kansallinen \nMikä kilpailu on kyseessä: Voimanosto \nKilpailupaikka osoitteineen: Power Gym Kouvola \, Tommolankatu 18 \nPunnitusaikataulu: 9.30-11.00 \nKilpailujen alkamisaika: 11.30 \nSarjat ja ikäluokat: Kaikki sarjat ja ikäluokat \nOsanottomaksu: 35 euroa maksetaan tilille FI0950161060906129 viimeistään 23.8.2024 \nOsanottomäärä: Max 2 ryhmää eli 28 nostajaa \nMilloin ilmoittauduttava: 23.8.2024 mennessä \nKenelle ilmoittauduttava: Janne Göös\, janne.goos1@gmail.com  p.0443284491 \nMuut huomiot: Ykkösluokan tuomarit \nLisätietoja: Janne Göös
URL:https://www.suomenvoimanostoliitto.fi/tapahtuma/kansallinen-voimanostokilpailu-elimaen-vauhti-3/
LOCATION:Power Gym Kouvola\, Tommolankatu 18\, Kouvola\, Suomi
CATEGORIES:Kansallinen kilpailu
ORGANIZER;CN="Elim%C3%A4en Vauhti":MAILTO:anu.goos2@gmail.com
END:VEVENT
BEGIN:VEVENT
DTSTART;TZID=Europe/Helsinki:20240831T100000
DTEND;TZID=Europe/Helsinki:20240831T170000
DTSTAMP:20260420T170050
CREATED:20240628T071204Z
LAST-MODIFIED:20240628T071204Z
UID:17628-1725098400-1725123600@www.suomenvoimanostoliitto.fi
SUMMARY:Kansallinen voimanostokilpailu (OPT)
DESCRIPTION:Kilpailujen järjestäjä: Oulun Power Team ry \nKilpailupäivä: 2024-08-31 \nKilpailun tyyppi: Kansallinen \nMikä kilpailu on kyseessä: Voimanosto \nKilpailupaikka osoitteineen: Ptvgym Oulu\, Poratie 5\, 90140 Oulu \nPunnitusaikataulu: 10:00-11:00 \nKilpailujen alkamisaika: 11:30\, penkkikisan jälkeen \nSarjat ja ikäluokat: Kaikki sarjat ja ikäluokat \nOsanottomaksu: 30 €\, maksetaan 29.8.2024 mennessä Oulun Power Team ry:n tilille FI34 5741 3620 2432 84 \nOsanottomäärä: max. 28 nostajaa \nMilloin ilmoittauduttava: 25.8.2024 \nKenelle ilmoittauduttava: Kirsti Paloniemi\, kirsti.paloniemi@gmail.com Muut huomiot: Ilmoita ikä- ja painoluokka\, syntymävuosi ja seura. \nLisätietoja: Kirsti Paloniemi\, 040 5065483
URL:https://www.suomenvoimanostoliitto.fi/tapahtuma/kansallinen-voimanostokilpailu-opt-2/
LOCATION:PTV Gym Oulu\, Poratie 5\, Oulu\, 90140
CATEGORIES:Kansallinen kilpailu
ORGANIZER;CN="Oulun Power Team ry":MAILTO:sami.a.siltala@gmail.com
END:VEVENT
END:VCALENDAR