BEGIN:VCALENDAR
VERSION:2.0
PRODID:-//Suomen Voimanostoliitto ry - ECPv6.9.0//NONSGML v1.0//EN
CALSCALE:GREGORIAN
METHOD:PUBLISH
X-ORIGINAL-URL:https://www.suomenvoimanostoliitto.fi
X-WR-CALDESC:Events for Suomen Voimanostoliitto ry
REFRESH-INTERVAL;VALUE=DURATION:PT1H
X-Robots-Tag:noindex
X-PUBLISHED-TTL:PT1H
BEGIN:VTIMEZONE
TZID:Europe/Helsinki
BEGIN:DAYLIGHT
TZOFFSETFROM:+0200
TZOFFSETTO:+0300
TZNAME:EEST
DTSTART:20240331T010000
END:DAYLIGHT
BEGIN:STANDARD
TZOFFSETFROM:+0300
TZOFFSETTO:+0200
TZNAME:EET
DTSTART:20241027T010000
END:STANDARD
END:VTIMEZONE
BEGIN:VEVENT
DTSTART;TZID=Europe/Helsinki:20240824T100000
DTEND;TZID=Europe/Helsinki:20240824T170000
DTSTAMP:20260420T194645
CREATED:20240703T113732Z
LAST-MODIFIED:20240703T113732Z
UID:17673-1724493600-1724518800@www.suomenvoimanostoliitto.fi
SUMMARY:Kansallinen voimanostokilpailu (HKääntö)
DESCRIPTION:Kilpailujen järjestäjä: Herwannan Hauiskääntö \nKilpailupäivä: 2024-08-24 \nKilpailun tyyppi: Kansallinen \nMikä kilpailu on kyseessä: Voimanosto \nKilpailupaikka osoitteineen: Tamppi Areena\, Korkeakoulunkatu 12\, 33720 Tampere \nPunnitusaikataulu: 10-11.30 \nKilpailujen alkamisaika: 12.00 \nSarjat ja ikäluokat: Kaikki sarjat ja ikäluokat \nOsanottomaksu: 30€\, Saaja: Herwannan Hauiskääntö\, Tili: FI16 5731 6520 1662 83\, Viite: 10320220 \nOsanottomäärä: Kaksi ryhmää (28 hlö) \nMilloin ilmoittauduttava: 18.8.2024 mennessä \nKenelle ilmoittauduttava: hkaanto@lists.tuni.fi \nMuut huomiot: Ilmoita ilmoittautumisen yhteydessä: Nimi\, seura\, syntymäpäivä\, paino- ja ikäluokka\, sähköpostiosoite ja kuva voimassa olevasta lisenssistä Suomisport sovelluksesta. \nKisoissa on kansallisen II-luokan tuomarit. \nLisätietoja: hkaanto@lists.tuni.fi
URL:https://www.suomenvoimanostoliitto.fi/tapahtuma/kansallinen-voimanostokilpailu-hkaanto/
LOCATION:Tamppi Areena\, Korkeakoulunkatu 12\, Tampere\, 33720\, Suomi
CATEGORIES:Kansallinen kilpailu
ORGANIZER;CN="Herwannan Hauisk%C3%A4%C3%A4nt%C3%B6":MAILTO:hkaanto@lists.tuni.fi
END:VEVENT
BEGIN:VEVENT
DTSTART;TZID=Europe/Helsinki:20240824T100000
DTEND;TZID=Europe/Helsinki:20240824T170000
DTSTAMP:20260420T194645
CREATED:20240813T133439Z
LAST-MODIFIED:20240813T133439Z
UID:17987-1724493600-1724518800@www.suomenvoimanostoliitto.fi
SUMMARY:Barents Games (Kemi-Tornio)
DESCRIPTION:www.barentssports.com \n 
URL:https://www.suomenvoimanostoliitto.fi/tapahtuma/barents-games-kemi-tornio/
LOCATION:Keminmaan kuntosali\, Väylätie 11\, Keminmaa\, 94400\, Suomi
CATEGORIES:Ystävyysottelu
ORGANIZER;CN="Keminmaan kuohu":MAILTO:tainanuu@gmail.com
END:VEVENT
END:VCALENDAR