BEGIN:VCALENDAR
VERSION:2.0
PRODID:-//Suomen Voimanostoliitto ry - ECPv6.9.0//NONSGML v1.0//EN
CALSCALE:GREGORIAN
METHOD:PUBLISH
X-WR-CALNAME:Suomen Voimanostoliitto ry
X-ORIGINAL-URL:https://www.suomenvoimanostoliitto.fi
X-WR-CALDESC:Events for Suomen Voimanostoliitto ry
REFRESH-INTERVAL;VALUE=DURATION:PT1H
X-Robots-Tag:noindex
X-PUBLISHED-TTL:PT1H
BEGIN:VTIMEZONE
TZID:Europe/Helsinki
BEGIN:DAYLIGHT
TZOFFSETFROM:+0200
TZOFFSETTO:+0300
TZNAME:EEST
DTSTART:20240331T010000
END:DAYLIGHT
BEGIN:STANDARD
TZOFFSETFROM:+0300
TZOFFSETTO:+0200
TZNAME:EET
DTSTART:20241027T010000
END:STANDARD
END:VTIMEZONE
BEGIN:VEVENT
DTSTART;TZID=Europe/Helsinki:20240817T090000
DTEND;TZID=Europe/Helsinki:20240817T170000
DTSTAMP:20260420T195516
CREATED:20240520T080110Z
LAST-MODIFIED:20240520T080110Z
UID:17202-1723885200-1723914000@www.suomenvoimanostoliitto.fi
SUMMARY:Kansallinen voimanostokilpailu (Kankaanpään Voimailijat)
DESCRIPTION:Kilpailujen järjestäjä: Kankaanpään Voimailijat \nKilpailupäivä: 2024-08-17 \nKilpailun tyyppi: Kansallinen \nMikä kilpailu on kyseessä: Voimanosto \nKilpailupaikka osoitteineen: Rautatienkatu 3\, Kankaanpää \nPunnitusaikataulu: 9.00 \nKilpailujen alkamisaika: 11.00 \nSarjat ja ikäluokat: Kaikki sarjat ja ikäluokat \nOsanottomaksu: 40 € \nOsanottomäärä: 20 \nMilloin ilmoittauduttava: 16.8.2024 \nKenelle ilmoittauduttava: Janne Marttila\, kankaanpaan.voimailijat@gmail.com \nMuut huomiot: Maksa osallistumismaksu 16.8.2024 mennessä tilille FI48 4473 2020 0032 38 \nLisätietoja: Janne Marttila\, 0445781300\, kankaanpaan.voimailijat@gmail.com
URL:https://www.suomenvoimanostoliitto.fi/tapahtuma/kansallinen-voimanostokilpailu-kankaanpaan-voimailijat-3/
LOCATION:rautatienkatu 3\, Rautatienkatu 3\, Kankaanpää\, Suomi
CATEGORIES:Kansallinen kilpailu
ORGANIZER;CN="Kankaanp%C3%A4%C3%A4n Voimailijat ry":MAILTO:kankaanpaan.voimailijat@gmail.com
END:VEVENT
BEGIN:VEVENT
DTSTART;TZID=Europe/Helsinki:20240817T090000
DTEND;TZID=Europe/Helsinki:20240817T170000
DTSTAMP:20260420T195516
CREATED:20240611T151440Z
LAST-MODIFIED:20240611T151440Z
UID:17446-1723885200-1723914000@www.suomenvoimanostoliitto.fi
SUMMARY:Jäsentenvälinen voimanostokilpailu (E-SV)
DESCRIPTION:Kilpailujen järjestäjä: Etelä-Suomen Voimanostajat \nKilpailupäivä: 2024-08-17 \nKilpailun tyyppi: Jäsentenvälinen \nMikä kilpailu on kyseessä: Voimanosto \nKilpailupaikka osoitteineen: Pornaisten yhtenäiskoulu \, Koulutie 4 \nPunnitusaikataulu: 9:00-10:30 \nKilpailujen alkamisaika: 11:00 \nSarjat ja ikäluokat: kaikki \nOsanottomaksu: ei \nOsanottomäärä: ei osanottomaksua \nMilloin ilmoittauduttava: 7.8.2024 \nKenelle ilmoittauduttava: kaj.mattila@svnl.fi \nMuut huomiot: \nLisätietoja: Kaj Mattila \, 0405497462 \, kaj.mattila@svnl.fi
URL:https://www.suomenvoimanostoliitto.fi/tapahtuma/jasentenvalinen-voimanostokilpailu-e-sv-2/
LOCATION:Pornaisten yhtenäiskoulu\, Koulutie 4\, Pornainen\, 07170\, Suomi
CATEGORIES:Jäsentenvälinen
ORGANIZER;CN="Etel%C3%A4-Suomen Voimanostajat":MAILTO:kaj.mattila@svnl.fi
END:VEVENT
BEGIN:VEVENT
DTSTART;TZID=Europe/Helsinki:20240817T100000
DTEND;TZID=Europe/Helsinki:20240817T170000
DTSTAMP:20260420T195516
CREATED:20240611T151251Z
LAST-MODIFIED:20240611T151251Z
UID:17442-1723888800-1723914000@www.suomenvoimanostoliitto.fi
SUMMARY:Kansallinen Voimanostokilpailu (Juankosken Punnerrus)
DESCRIPTION:Kilpailujen järjestäjä: Juankosken Punnerrus ry \nKilpailupäivä: 2024-08-17 \nKilpailun tyyppi: Kansallinen \nMikä kilpailu on kyseessä: Voimanosto \nKilpailupaikka osoitteineen: Juankosken Punnerruksen kuntosali\, Ruukintie 5\, Juankoski \nPunnitusaikataulu: 10.00-11.30 \nKilpailujen alkamisaika: 12.00 \nSarjat ja ikäluokat: Kaikki sarjat ja ikäluokat \nOsanottomaksu: 30 € \nOsanottomäärä: Osallistujia max 28 \nMilloin ilmoittauduttava: 7.8.2024 \nKenelle ilmoittauduttava: Jari Martikainen WhatsApp 050-5617183 \nMuut huomiot: kansalliset II-luokan tuomarit \nLisätietoja:
URL:https://www.suomenvoimanostoliitto.fi/tapahtuma/kansallinen-voimanostokilpailu-juankosken-punnerrus/
LOCATION:Ruukintie 5\, Juankoski
CATEGORIES:Kansallinen kilpailu
END:VEVENT
BEGIN:VEVENT
DTSTART;TZID=Europe/Helsinki:20240817T100000
DTEND;TZID=Europe/Helsinki:20240817T170000
DTSTAMP:20260420T195516
CREATED:20240701T110032Z
LAST-MODIFIED:20240701T110032Z
UID:17649-1723888800-1723914000@www.suomenvoimanostoliitto.fi
SUMMARY:Kansallinen penkkipunnerruskilpailu (NyKK)
DESCRIPTION:Kilpailujen järjestäjä: Nykarleby Kraftklubb \nKilpailupäivä: 2024-08-17 \nKilpailun tyyppi: Kansallinen \nMikä kilpailu on kyseessä: Penkkipunnerrus \nKilpailupaikka osoitteineen: Stjärnhallen ( Idrottsgränd 1\, 66900 Nykarleby ) \nPunnitusaikataulu: 10.00-11.30 \nKilpailujen alkamisaika: 12.00 \nSarjat ja ikäluokat: Alla viktklasser. \nOsanottomaksu: 25 euro / FI26 5563 0520 0281 66 \nOsanottomäärä: 24 \nMilloin ilmoittauduttava: 11.08.2024 \nKenelle ilmoittauduttava: nykarlebykraftklubb@gmail.com \nMuut huomiot: Stjärnbänken 2024 \nLisätietoja: Robert Gleisner +358 50 4068545
URL:https://www.suomenvoimanostoliitto.fi/tapahtuma/kansallinen-penkkipunnerruskilpailu-nykk/
LOCATION:Stjärnhallen\, Idrottsgränd 1\, 66900
CATEGORIES:Kansallinen kilpailu
ORGANIZER;CN="Nykarleby Kraftklubb":MAILTO:nykarlebykraftklubb@gmail.com
END:VEVENT
END:VCALENDAR