BEGIN:VCALENDAR
VERSION:2.0
PRODID:-//Suomen Voimanostoliitto ry - ECPv6.9.0//NONSGML v1.0//EN
CALSCALE:GREGORIAN
METHOD:PUBLISH
X-WR-CALNAME:Suomen Voimanostoliitto ry
X-ORIGINAL-URL:https://www.suomenvoimanostoliitto.fi
X-WR-CALDESC:Events for Suomen Voimanostoliitto ry
REFRESH-INTERVAL;VALUE=DURATION:PT1H
X-Robots-Tag:noindex
X-PUBLISHED-TTL:PT1H
BEGIN:VTIMEZONE
TZID:Europe/Helsinki
BEGIN:DAYLIGHT
TZOFFSETFROM:+0200
TZOFFSETTO:+0300
TZNAME:EEST
DTSTART:20240331T010000
END:DAYLIGHT
BEGIN:STANDARD
TZOFFSETFROM:+0300
TZOFFSETTO:+0200
TZNAME:EET
DTSTART:20241027T010000
END:STANDARD
END:VTIMEZONE
BEGIN:VEVENT
DTSTART;TZID=Europe/Helsinki:20240427T083000
DTEND;TZID=Europe/Helsinki:20240427T170000
DTSTAMP:20260422T003114
CREATED:20240227T071320Z
LAST-MODIFIED:20240227T072242Z
UID:16040-1714206600-1714237200@www.suomenvoimanostoliitto.fi
SUMMARY:Kansallinen penkkipunnerruskilpailu (Pietarsaaren Voimailijat)
DESCRIPTION:Kilpailujen järjestäjä: Pietarsaaren Voimailijat \nKilpailupäivä: 2024-04-27 \nKilpailun tyyppi: Kansallinen \nMikä kilpailu on kyseessä: Penkkipunnerrus \nKilpailupaikka osoitteineen: Jeppis Gym koulukatu 25 68600 Pietarsaari \nPunnitusaikataulu: 8.30-9.30 \nKilpailujen alkamisaika: 10.00 \nSarjat ja ikäluokat: kaikki sarjat ja ikäluokat \nOsanottomaksu: 25€  maksetaan tilille  FI08 5567 0720 1183 42 \nOsanottomäärä: Ei rajattu \nMilloin ilmoittauduttava: 18.4 mennessä. \nKenelle ilmoittauduttava: Juhani Salo 045-6952959 tekstiviesti / whatsapp \nMuut huomiot: Lyhyt punnitus. \nLisätietoja: salojuh@hotmail.com
URL:https://www.suomenvoimanostoliitto.fi/tapahtuma/kansallinen-penkkipunnerruskilpailu-pietarsaaren-voimailijat-4/
LOCATION:Jeppis Gym\, Koulukatu 25\, Pietarsaari\, 68600\, Suomi
CATEGORIES:Kansallinen kilpailu
ORGANIZER;CN="Pietarsaaren Voimailijat":MAILTO:salojuh@hotmail.com
END:VEVENT
BEGIN:VEVENT
DTSTART;TZID=Europe/Helsinki:20240427T100000
DTEND;TZID=Europe/Helsinki:20240427T170000
DTSTAMP:20260422T003114
CREATED:20240103T173039Z
LAST-MODIFIED:20240103T173039Z
UID:15001-1714212000-1714237200@www.suomenvoimanostoliitto.fi
SUMMARY:Jäsentenvälinen voimanostokilpailu / Åländska mästerskapen i styrkelyft (ÅKK)
DESCRIPTION:Kilpailujen järjestäjä: Ålands Kraftsportklubb r.f. \nKilpailupäivä: 2024-04-27 \nKilpailun tyyppi: Jäsentenvälinen \nMikä kilpailu on kyseessä: Voimanosto \nKilpailupaikka osoitteineen: Idrottsgården\, Neptunigatan 23\, 22100 Mariehamn \nPunnitusaikataulu: 10.00-11.30 \nKilpailujen alkamisaika: 12.00 \nSarjat ja ikäluokat: Alla viktklasser. Alla tävlar i öppen ålderskategori. \nOsanottomaksu: 0 € \nOsanottomäärä: – \nMilloin ilmoittauduttava: 20.04.2024 \nKenelle ilmoittauduttava: info@kraftsport.nu eller på listan i gymmet \nMuut huomiot: Åländska mästerskapen i styrkelyft \nLisätietoja: info@kraftsport.nu
URL:https://www.suomenvoimanostoliitto.fi/tapahtuma/jasentenvalinen-voimanostokilpailu-alandska-masterskapen-i-styrkelyft-akk/
LOCATION:Idrottsgården\, Neptunigatan 23\, Maarianhamina\, 22100\, Suomi
CATEGORIES:Jäsentenvälinen
ORGANIZER;CN="%C3%85lands Kraftsportklubb":MAILTO:info@kraftsport.nu
END:VEVENT
BEGIN:VEVENT
DTSTART;TZID=Europe/Helsinki:20240427T103000
DTEND;TZID=Europe/Helsinki:20240427T170000
DTSTAMP:20260422T003114
CREATED:20240129T082238Z
LAST-MODIFIED:20240129T082238Z
UID:15613-1714213800-1714237200@www.suomenvoimanostoliitto.fi
SUMMARY:Kansallinen voimanostokilpailu (JoPuPo)
DESCRIPTION:Kilpailujen järjestäjä: Joensuun Puntti-Pojat \nKilpailupäivä: 2024-04-27 \nKilpailun tyyppi: Kansallinen \nMikä kilpailu on kyseessä: Voimanosto \nKilpailupaikka osoitteineen: Noljakankaari 1\, 80140 Joensuu \nPunnitusaikataulu: 10:30-11:30 \nKilpailujen alkamisaika: 12:00 \nSarjat ja ikäluokat: Kaikki \nOsanottomaksu: 30e \nOsanottomäärä: Max. 20 osallistujaa \nMilloin ilmoittauduttava: 21.4.2024 klo. 24:00 mennessä \nKenelle ilmoittauduttava: Maria Karjalainen\, jopupovnvastaava@outlook.com \nMuut huomiot: Lyhyt punnitus. Nostajan on ilmoitettava ilmoittautumisen yhteydessä nostaako varustesarjassa vai klassisessa sarjassa. \n  \nOsallistumismaksu maksetaan ilmoittautumisen yhteydessä tilille FI64 5770 0520 0660 33\, OKOYFIHH. \nKuitti maksusta sekä voimassaoleva kilpailulisenssi esitettävä punnituksen yhteydessä. Maksua ei palauteta ilman hyväksyttävää syytä. \n  \nIlmoittautumiset ainoastaan sähköpostiin! \nLisätietoja: Maria Karjalainen\, p. 050 3515077
URL:https://www.suomenvoimanostoliitto.fi/tapahtuma/kansallinen-voimanostokilpailu-jopupo-2/
LOCATION:Noljakankaari 1\, Noljakankaari 1\, Joensuu\, 80140\, Suomi
CATEGORIES:Kansallinen kilpailu
ORGANIZER;CN="Joensuun Puntti-Pojat":MAILTO:jopupovnvastaava@outlook.com
END:VEVENT
BEGIN:VEVENT
DTSTART;TZID=Europe/Helsinki:20240427T103000
DTEND;TZID=Europe/Helsinki:20240427T170000
DTSTAMP:20260422T003114
CREATED:20240228T144650Z
LAST-MODIFIED:20240228T144650Z
UID:16060-1714213800-1714237200@www.suomenvoimanostoliitto.fi
SUMMARY:Jäsentenvälinen voimanostokilpailu (Akaan Voima)
DESCRIPTION:Kilpailujen järjestäjä: Akaan Voima ry \nKilpailupäivä: 2024-04-27 \nKilpailun tyyppi: Jäsentenvälinen \nMikä kilpailu on kyseessä: Voimanosto \nKilpailupaikka osoitteineen: Rasin voimailutila\, Urheilukuja 1\, 37830 Akaa \nPunnitusaikataulu: 10.30-11.30 \nKilpailujen alkamisaika: 12.00 \nSarjat ja ikäluokat: Kaikki sarjat ja ikäluokat \nOsanottomaksu: 0 \nOsanottomäärä: Maks. 12 \nMilloin ilmoittauduttava: jari.mutanen@tuoretuote.com \nKenelle ilmoittauduttava: Jari Mutanen \nMuut huomiot: Vain Akaan Voima ry:n jäsenille. Antidopingsopimus pitää olla myös tehtynä jos kilpailet ilman lisenssiä pöytäkirjan ulkopuolella. \nLisätietoja: 050-402 9554
URL:https://www.suomenvoimanostoliitto.fi/tapahtuma/jasentenvalinen-voimanostokilpailu-akaan-voima/
LOCATION:Rasin Voimailutila\, Urheilukuja 1\, Akaa\, 37830\, Suomi
CATEGORIES:Jäsentenvälinen
END:VEVENT
END:VCALENDAR