BEGIN:VCALENDAR
VERSION:2.0
PRODID:-//Suomen Voimanostoliitto ry - ECPv6.9.0//NONSGML v1.0//EN
CALSCALE:GREGORIAN
METHOD:PUBLISH
X-ORIGINAL-URL:https://www.suomenvoimanostoliitto.fi
X-WR-CALDESC:Events for Suomen Voimanostoliitto ry
REFRESH-INTERVAL;VALUE=DURATION:PT1H
X-Robots-Tag:noindex
X-PUBLISHED-TTL:PT1H
BEGIN:VTIMEZONE
TZID:Europe/Helsinki
BEGIN:DAYLIGHT
TZOFFSETFROM:+0200
TZOFFSETTO:+0300
TZNAME:EEST
DTSTART:20240331T010000
END:DAYLIGHT
BEGIN:STANDARD
TZOFFSETFROM:+0300
TZOFFSETTO:+0200
TZNAME:EET
DTSTART:20241027T010000
END:STANDARD
END:VTIMEZONE
BEGIN:VEVENT
DTSTART;TZID=Europe/Helsinki:20240426T160000
DTEND;TZID=Europe/Helsinki:20240426T200000
DTSTAMP:20260422T015925
CREATED:20240405T120352Z
LAST-MODIFIED:20240405T120452Z
UID:16703-1714147200-1714161600@www.suomenvoimanostoliitto.fi
SUMMARY:Kansallisen II luokan tuomarikoulutus ja -koe Kuusamossa
DESCRIPTION:Kuusamon EräVeikot järjestää kansallisen II luokan tuomarikoulutuksen ja -kokeen 26.4.2024 klo 16.00 \nPaikkana SVNL:n toimisto\, Kitkantie 110 93600 Kuusamo. Kouluttajana Tero Hyttinen Int Cat I. \nIlmoittautumiset ja lisätiedot jarkko.saapunki@svnl.fi \n  \n 
URL:https://www.suomenvoimanostoliitto.fi/tapahtuma/kansallisen-ii-luokan-tuomarikoulutus-ja-koe-kuusamossa/
LOCATION:SVNL:n toimisto\, Kitkantie 110\, Kuusamo\, 93600
CATEGORIES:Koulutus
END:VEVENT
END:VCALENDAR