BEGIN:VCALENDAR
VERSION:2.0
PRODID:-//Suomen Voimanostoliitto ry - ECPv6.9.0//NONSGML v1.0//EN
CALSCALE:GREGORIAN
METHOD:PUBLISH
X-WR-CALNAME:Suomen Voimanostoliitto ry
X-ORIGINAL-URL:https://www.suomenvoimanostoliitto.fi
X-WR-CALDESC:Events for Suomen Voimanostoliitto ry
REFRESH-INTERVAL;VALUE=DURATION:PT1H
X-Robots-Tag:noindex
X-PUBLISHED-TTL:PT1H
BEGIN:VTIMEZONE
TZID:Europe/Helsinki
BEGIN:DAYLIGHT
TZOFFSETFROM:+0200
TZOFFSETTO:+0300
TZNAME:EEST
DTSTART:20210328T010000
END:DAYLIGHT
BEGIN:STANDARD
TZOFFSETFROM:+0300
TZOFFSETTO:+0200
TZNAME:EET
DTSTART:20211031T010000
END:STANDARD
END:VTIMEZONE
BEGIN:VEVENT
DTSTART;VALUE=DATE:20210807
DTEND;VALUE=DATE:20210809
DTSTAMP:20260421T200233
CREATED:20210806T210000Z
LAST-MODIFIED:20210720T051039Z
UID:5605-1628294400-1628467199@www.suomenvoimanostoliitto.fi
SUMMARY:SM-kilpailut\, klassinen voimanosto\, nuoret\, Sotkamo
DESCRIPTION:Sotkamon Visa ry. sekä Suomen Voimanostoliitto ry. järjestävät \nNUORTEN KLASSISEN VOIMANOSTON SM-KILPAILUT \n7.-8.8.2021\n\nKilpailupaikka\nNuorisotalo Asema 13\, Keskuskatu 13\, 88600 Sotkamo \nLopullinen aikataulu\n\n\n\nPäivä\nSarja\nPunnitus\nKilpailu\n\n\nLa 7.8.2021\nAvajaiset\n\n10:00\n\n\n\nN23\, M23 66\, 74\, 93 kg\n8:30 – 10:00\n10:30\n\n\n\nM23 83\, 105-120+ kg\n13:00 – 14:30\n15:00\n\n\n\n\n\n\n\n\nSu 8.8.2021\nM14\, N14\, N18\n8:00 – 9:30\n10:00\n\n\n\nM18\n12:30 – 14:00\n14:30\n\n\n\nTuloksentekoaika\n27.1.2020 – 23.4.2021 Tuloksen tekemistä ei vaadita elo-syyskuun 2021 kisojen osalta. Kisoihin voivat ilmoittautua kilpailijat\, joilla on viimeistään ilmoittautumisen päättyessä kilpailuoikeus.\n \nIlmoittautumiset\nSeurojen yhteyshenkilöt ilmoittavat SM-kilpailuihin tarkoitetut urheilijat 17.7.2021 klo 24:00 mennessä. Ilmoittautumisten tekeminen ajoissa on seurojen vastuulla. Ohjeet SM-kilpailuihin ilmoittautumiseen \nOsallistumismaksu\nAlle 23 v ikäluokka 70 € per kilpailija\, alle 14 v ja alle 18 v 40 €. Maksetaan Suomisportin kautta ilmoittautumisen yhteydessä. \nSM-kilpailun tulosrajat\nAlle 23 v ikäluokan tulosrajat löytyvät täältä. Alle 14 v ja alle 18 v nuorten ikäluokissa kilpaileville ei ole SM-tulosrajoja. Heillä on kuitenkin oltava tulosrajantekoaikana virallisessa klassisessa kilpailussa tehty tulos\, joka on ilmoitettava SM-kisailmoittautumisessa. \nVoidakseen kilpailla ylemmässä sarjassa on tehdyn tuloksen oltava vähintään ko. sarjan tulosrajan suuruinen. \nKilpailuhotelli\nBreak Sokos Hotel Vuokatti \nKidekuja 2\, 88610 Vuokatti \nMajoitus hotellihuoneissa\n92 € / vrk / yhden hengen standard huone\n112 € / vrk / kahden hengen standard huone\nLisävuode 20 € / vrk / aikuinen ja lapset 4-14-vuotiaat 10 € / vrk.\nHinnat sisältävät runsaan aamiaisen ja asiakassaunan. \nVaraukset\nJokainen varaa ja maksaa huoneensa itse merkillä BVOIMASM2021\nVaraukset: Break Sokos Hotel Vuokatti puh 010 783 1000 tai sähköpostilla hotelvuokatti.vuokatti@sokoshotels.fi \nVaraukset on mahdollista tehdä myös suoraan nettisivuilla www.sokoshotels.fi varauskoodilla\, BVOIMASM2021. \nVaaka\nVaaka löytyy hotellista sekä kilpailupaikalta. \nSosiaalisessa mediassa\n Nuorten klassisen voimanoston SM 2021 \n @nuortenvoimanostosm2021\, #nuortenvoimanostosm2021 \nLisätietoja\nSo-Vi Ville Niskanen\, villenisk@gmail.com\, 044 2606 113\nSVNL info@svnl.fi\, 010 309 4270 \nTervetuloa Sotkamoon! \nKilpailun järjestäjät pidättävät itsellään oikeuden aikataulumuutoksiin lopullisten nostajamäärien selvittyä.
URL:https://www.suomenvoimanostoliitto.fi/tapahtuma/sm-kilpailut-klassinen-voimanosto-nuoret-sotkamo/
LOCATION:Nuorisotalo Asema 13\, Keskuskatu 13\, Sotkamo\, 88600\, Suomi
CATEGORIES:SM-kilpailu
ORGANIZER;CN="Sotkamon Visa ry":MAILTO:villenisk@gmail.com
END:VEVENT
END:VCALENDAR