BEGIN:VCALENDAR
VERSION:2.0
PRODID:-//Suomen Voimanostoliitto ry - ECPv6.9.0//NONSGML v1.0//EN
CALSCALE:GREGORIAN
METHOD:PUBLISH
X-ORIGINAL-URL:https://www.suomenvoimanostoliitto.fi
X-WR-CALDESC:Events for Suomen Voimanostoliitto ry
REFRESH-INTERVAL;VALUE=DURATION:PT1H
X-Robots-Tag:noindex
X-PUBLISHED-TTL:PT1H
BEGIN:VTIMEZONE
TZID:Europe/Helsinki
BEGIN:DAYLIGHT
TZOFFSETFROM:+0200
TZOFFSETTO:+0300
TZNAME:EEST
DTSTART:20210328T010000
END:DAYLIGHT
BEGIN:STANDARD
TZOFFSETFROM:+0300
TZOFFSETTO:+0200
TZNAME:EET
DTSTART:20211031T010000
END:STANDARD
END:VTIMEZONE
BEGIN:VEVENT
DTSTART;TZID=Europe/Helsinki:20210710T130000
DTEND;TZID=Europe/Helsinki:20210710T180000
DTSTAMP:20260421T155531
CREATED:20210821T100000Z
LAST-MODIFIED:20210413T144853Z
UID:5351-1625922000-1625940000@www.suomenvoimanostoliitto.fi
SUMMARY:Kansallinen klassinen voimanosto\, Hämeenlinna\, LIKE
DESCRIPTION:Kilpailujen järjestäjä: Team LIKE ry\nKilpailupäivä: 10.7.2021\nKilpailun tyyppi: Kansallinen\nMikä kilpailu on kyseessä: Klassinen voimanosto\nKilpailupaikka osoitteineen: Hämeenlinnan torilava\, Kauppatori\, 13100 Hämeenlinna\n(Säävarauksen mukaan kisat voivat siirtyä: Liikuntakeskus LIKEn tiloihin\, Parolantie 106\, 13130 Hämeenlinna)\nPunnitusaikataulu: 11:00-12:30\nKilpailujen alkamisaika: 13:00\nSarjat ja ikäluokat: Kaikki sarjat ja ikäluokat\nOsanottomaksu: 35e maksetaan 1.7.2021 mennessä tilille Team LIKE Ry FI69 4108 0011 7180 98\nOsanottomäärä: max. 28 nostajaa\nMilloin ilmoittauduttava: 1.7.21 mennessä\nKenelle ilmoittauduttava: Hanna Rantala\, hrantala82@gmail.com\nMuut huomiot: 1.luokan tuomarit. Aikataulu vahvistetaan 1.7 jälkeen kun tiedämme mahdollisista uusista rajoituksista.\nLisätietoja: Lisätietoja saa: Hanna Rantala puh 045 640 4180 tai Jouko Ahola puh 0400 716 472
URL:https://www.suomenvoimanostoliitto.fi/tapahtuma/kansallinen-klassinen-voimanosto-hameenlinna-like-2/
LOCATION:Hämeenlinnan torilava\, Kauppatori\, Hämeenlinna\, 13100\, Suomi
CATEGORIES:Kansallinen kilpailu
ORGANIZER;CN="Team LIKE ry":MAILTO:hrantala82@gmail.com
END:VEVENT
END:VCALENDAR