BEGIN:VCALENDAR
VERSION:2.0
PRODID:-//Suomen Voimanostoliitto ry - ECPv6.9.0//NONSGML v1.0//EN
CALSCALE:GREGORIAN
METHOD:PUBLISH
X-ORIGINAL-URL:https://www.suomenvoimanostoliitto.fi
X-WR-CALDESC:Events for Suomen Voimanostoliitto ry
REFRESH-INTERVAL;VALUE=DURATION:PT1H
X-Robots-Tag:noindex
X-PUBLISHED-TTL:PT1H
BEGIN:VTIMEZONE
TZID:Europe/Helsinki
BEGIN:DAYLIGHT
TZOFFSETFROM:+0200
TZOFFSETTO:+0300
TZNAME:EEST
DTSTART:20210328T010000
END:DAYLIGHT
BEGIN:STANDARD
TZOFFSETFROM:+0300
TZOFFSETTO:+0200
TZNAME:EET
DTSTART:20211031T010000
END:STANDARD
END:VTIMEZONE
BEGIN:VEVENT
DTSTART;TZID=Europe/Helsinki:20210620T120000
DTEND;TZID=Europe/Helsinki:20210620T140000
DTSTAMP:20260421T143244
CREATED:20210520T150136Z
LAST-MODIFIED:20210520T150136Z
UID:6914-1624190400-1624197600@www.suomenvoimanostoliitto.fi
SUMMARY:Jäsentenvälinen klassinen ja varustepenkkipunnerrus\, Maarianhamina\, ÅKK
DESCRIPTION:Kilpailujen järjestäjä: Ålands Kraftsportklubb r.f.\nKilpailupäivä: 20.6.2021\nKilpailun tyyppi: Jäsentenvälinen\nMikä kilpailu on kyseessä: Klassinenpenkkipunnerrus ja Varustepenkkipunnerrus\nKilpailupaikka osoitteineen: Idrottsgården\, Neptunigatan 23\, 22100 Mariehamn\nPunnitusaikataulu: 10.00-11.30\nKilpailujen alkamisaika: 12.00\nSarjat ja ikäluokat: Alla viktklasser. Alla ålderskategorier.\nOsanottomaksu: 0 €\nOsanottomäärä: –\nMilloin ilmoittauduttava: 13.06.2021\nKenelle ilmoittauduttava: info@kraftsport.nu\nMuut huomiot: Ingen publik\nLisätietoja: info@kraftsport.nu
URL:https://www.suomenvoimanostoliitto.fi/tapahtuma/jasentenvalinen-klassinen-ja-varustepenkkipunnerrus-maarianhamina-akk-2/
LOCATION:Idrottsgården\, Neptunigatan 23\, Maarianhamina\, 22100\, Suomi
CATEGORIES:Jäsentenvälinen
ORGANIZER;CN="%C3%85lands Kraftsportklubb":MAILTO:info@kraftsport.nu
END:VEVENT
END:VCALENDAR