BEGIN:VCALENDAR
VERSION:2.0
PRODID:-//Suomen Voimanostoliitto ry - ECPv6.9.0//NONSGML v1.0//EN
CALSCALE:GREGORIAN
METHOD:PUBLISH
X-WR-CALNAME:Suomen Voimanostoliitto ry
X-ORIGINAL-URL:https://www.suomenvoimanostoliitto.fi
X-WR-CALDESC:Events for Suomen Voimanostoliitto ry
REFRESH-INTERVAL;VALUE=DURATION:PT1H
X-Robots-Tag:noindex
X-PUBLISHED-TTL:PT1H
BEGIN:VTIMEZONE
TZID:UTC
BEGIN:STANDARD
TZOFFSETFROM:+0000
TZOFFSETTO:+0000
TZNAME:UTC
DTSTART:20200101T000000
END:STANDARD
END:VTIMEZONE
BEGIN:VEVENT
DTSTART;TZID=UTC:20200815T110000
DTEND;TZID=UTC:20200815T170000
DTSTAMP:20260421T201201
CREATED:20200622T065347Z
LAST-MODIFIED:20200622T065348Z
UID:412-1597489200-1597510800@www.suomenvoimanostoliitto.fi
SUMMARY:Kansallinen klassinen penkkipunnerrus\, Oulu\, OPT
DESCRIPTION:Kilpailujen järjestäjä: Oulun PowerTeam\nKilpailupäivä: 15.8.2020\nKilpailun tyyppi: Kansallinen\nMikä kilpailu on kyseessä: Klassinen penkkipunnerrus\nKilpailupaikka osoitteineen: Valmennuskeskus Voimala\, kempeleentie 5 Oulu\nPunnitusaikataulu: 9.30-10.30\nKilpailujen alkamisaika: 11.00\nSarjat ja ikäluokat: Nuoret alle 23\, yleinen\, masters\nOsanottomaksu: 30e maksetaan 12.8.2020 mennessä tilille Oulun Power Team Ry FI34 5741 3620 2432 84\nOsanottomäärä: Max 10\nMilloin ilmoittauduttava: 9.8.2020 mennessä\nKenelle ilmoittaudutaan: kirsti.paloniemi@oulunpowerteam.fi\nMuut huomiot: Lyhyt punnitus. Ei ykkösen tuomareita. Pisteissä 3 parasta palkitaan.\nLisätietoja saa: kirsti.paloniemi@oulunpowerteam.fi
URL:https://www.suomenvoimanostoliitto.fi/tapahtuma/kansallinen-klassinen-penkkipunnerrus-oulu-opt/
LOCATION:Valmennuskeskus Voimala\, Kempeleentie 5\, Oulu\, 90400
CATEGORIES:Kansallinen kilpailu
ORGANIZER;CN="Oulun Power Team ry":MAILTO:sami.a.siltala@gmail.com
END:VEVENT
BEGIN:VEVENT
DTSTART;TZID=UTC:20200815T113000
DTEND;TZID=UTC:20200815T170000
DTSTAMP:20260421T201201
CREATED:20200622T065547Z
LAST-MODIFIED:20200622T065547Z
UID:416-1597491000-1597510800@www.suomenvoimanostoliitto.fi
SUMMARY:Kansallinen klassinen voimanosto\, Oulu\, OPT
DESCRIPTION:Kilpailujen järjestäjä: Oulun Power Team\nKilpailupäivä: 15.8.2020\nKilpailun tyyppi: Kansallinen\nMikä kilpailu on kyseessä: Klassinen voimanosto\nKilpailupaikka osoitteineen: Valmennuskeskus Voimala\, kempeleentie 5 Oulu\nPunnitusaikataulu: 10-11\nKilpailujen alkamisaika: 11.30\, (heti penkkipunnerusryhmän ja palkintojen jaon jälkeen)\nSarjat ja ikäluokat: Nuoret alle 23\, yleinen\, masters\nOsanottomaksu: 30e maksetaan 12.8.2020 mennessä tilille Oulun Power Team Ry FI34 5741 3620 2432 84\nOsanottomäärä: Oulunpowerteam jäsen 10\nMuut seurat 10\nMilloin ilmoittauduttava: 9.8.2020\nKenelle ilmoittaudutaan: kirsti.paloniemi@oulunpowerteam.fi\nMuut huomiot: Lyhyt punnitus. Ei ykkösen tuomareita.\nLisätietoja saa: kirsti.paloniemi@oulunpowerteam.fi
URL:https://www.suomenvoimanostoliitto.fi/tapahtuma/kansallinen-klassinen-voimanosto-oulu-opt/
LOCATION:Valmennuskeskus Voimala\, Kempeleentie 5\, Oulu\, 90400
CATEGORIES:Kansallinen kilpailu
ORGANIZER;CN="Oulun Power Team ry":MAILTO:sami.a.siltala@gmail.com
END:VEVENT
BEGIN:VEVENT
DTSTART;TZID=UTC:20200815T113000
DTEND;TZID=UTC:20200815T170000
DTSTAMP:20260421T201201
CREATED:20200624T031318Z
LAST-MODIFIED:20200624T034052Z
UID:553-1597491000-1597510800@www.suomenvoimanostoliitto.fi
SUMMARY:Jäsentenvälinen klassinen voimanosto\, Hanko\, HIK & KK Eken
DESCRIPTION:Kilpailujen järjestäjä: HIK Styrkelyft/ KK Eken\nKilpailupäivä: 15.08.2020\nKilpailun tyyppi: Jäsentenvälinen\nMikä kilpailu on kyseessä: Klassinen voimanosto\nKilpailupaikka osoitteineen: Voimakasiini\, Länsisatama 10900 Hanko\nPunnitusaikataulu: 10:00-11:00\nKilpailujen alkamisaika: 11:30\nSarjat ja ikäluokat: Avoin\nOsanottomaksu: –\nOsanottomäärä: Max: 14\nMilloin ilmoittauduttava: 17.7.2020\nKenelle ilmoittaudutaan: Johan Henriksson 0407085706 johanjoppehenriksson@hotmail.com\nMuut huomiot: Ei ulkopuolisille nostajille\nLisätietoja saa: Johan Henriksson johanjoppehenriksson@hotmail.com
URL:https://www.suomenvoimanostoliitto.fi/tapahtuma/jasentenvalinen-klassinen-voimanosto-hanko-hik-kk-eken/
LOCATION:Voimakasiini\, Länsisatama\, Hanko\, 10900\, Suomi
CATEGORIES:Jäsentenvälinen
ORGANIZER;CN="HIK Styrkelyft":MAILTO:johanjoppehenriksson@hotmail.com
END:VEVENT
BEGIN:VEVENT
DTSTART;TZID=UTC:20200815T113000
DTEND;TZID=UTC:20200815T170000
DTSTAMP:20260421T201201
CREATED:20200818T075007Z
LAST-MODIFIED:20200818T075007Z
UID:2913-1597491000-1597510800@www.suomenvoimanostoliitto.fi
SUMMARY:Jäsentenvälinen klassinen voimanosto\, Loppi\, LVK team
DESCRIPTION:Kilpailujen järjestäjä: Lopen Voima ja Kuntoteam\nKilpailupäivä: 15.08.2020\nKilpailun tyyppi: Jäsentenvälinen\nMikä kilpailu on kyseessä: Klassinen voimanosto\nKilpailupaikka osoitteineen: VK GYM Kauppatie 12 12700 Loppi\nPunnitusaikataulu: 10:00-11:00\nKilpailujen alkamisaika: 11:30\nSarjat ja ikäluokat: Kaikki\nOsanottomaksu: –\nOsanottomäärä: Max: 14\nMilloin ilmoittauduttava: 12.8.2020\nKenelle ilmoittaudutaan: Markku Savolainen 040 7040023\nMuut huomiot: Ei ulkopuolisille nostajille\nLisätietoja saa: Markku Savolainen
URL:https://www.suomenvoimanostoliitto.fi/tapahtuma/jasentenvalinen-klassinen-voimanosto-loppi-lvk-team/
LOCATION:VK GYM\, Kauppatie 12\, Loppi\, 12700\, Suomi
CATEGORIES:Jäsentenvälinen
END:VEVENT
END:VCALENDAR